Workbook

Sheet 12월
A1: 2024년 12월 사회복지후원금 공제 내역
J2: 구 분 | M2: 금액(원) | N2: 인원(명)
F3: 기준일 : 2024.12.17. | J3: A. 전월 공제 | M3: ='11월'!M8 -> 1448000 | N3: ='11월'!N8 -> 210 명
J4: B. 당월 변동액 / 인원 | M4: =M5-M6+M7 -> -3000 | N4: =N5-N6 -> 0
A5: 연번 | B5: 직종 | C5: 직번 | D5: 성명 | E5: 금액(원) | F5: 후원구분 | G5: 비고 | J5: 1. 신규 (+) | M5: =N14 -> 5000 | N5: 1
A6: 합계 | D6: =A216&" "&"명" -> 210 명 | E6: =SUM(E7:E216) -> 1445000 | J6: 2. 해지 (-) | M6: =N24 -> 8000 | N6: 1
A7: 1 | B7: 원 장 | C7: 10000001 | D7: 오진규 | E7: 50000 | F7: 정기후원 | J7: 4. 후원금액 변동(+) | M7: =P34 -> 0 | N7: 0
A8: 2 | B8: 의사직 | C8: 10100002 | D8: 김정회 | E8: 10000 | F8: 〃 | J8: C. 당월 공제 (A+B) | M8: =E6 -> 1445000 | N8: =D6 -> 210 명
A9: 3 | B9: 의사직 | C9: 10100017 | D9: 정문환 | E9: 10000 | F9: 〃
A10: 4 | B10: 의사직 | C10: 10100034 | D10: 오소영 | E10: 100000 | F10: 〃 | J10: < 변경사항 상세 >
A11: 5 | B11: 의사직 | C11: 10100049 | D11: 배강민 | E11: 10000 | F11: 〃
A12: 6 | B12: 의사직 | C12: 10100056 | D12: 장재호 | E12: 10000 | F12: 〃 | J12: □ 신규자
A13: 7 | B13: 의사직 | C13: 10100063 | D13: 김석기 | E13: 10000 | F13: 〃 | J13: 연번 | K13: 직종 | L13: 직번 | M13: 성명 | N13: 금액(원) | O13: 사유 | P13: 비고
A14: 8 | B14: 의사직 | C14: 10100084 | D14: 김기남 | E14: 30000 | F14: 〃 | J14: 합계 | K14: 1명 | N14: =SUM(N15:N20) -> 5000
A15: 9 | B15: 의사직 | C15: 10100085 | D15: 정수현 | E15: 10000 | F15: 〃 | J15: 1 | K15: 사무직 | L15: 10500060 | M15: 서주리 | N15: 5000
A16: 10 | B16: 의사직 | C16: 10100117 | D16: 신호윤 | E16: 10000 | F16: 〃 | J16: 2
A17: 11 | B17: 의사직 | C17: 10100170 | D17: 정재용 | E17: 50000 | F17: 〃 | J17: 3
A18: 12 | B18: 약사직 | C18: 10200002 | D18: 이경옥 | E18: 50000 | F18: 〃 | J18: 4
A19: 13 | B19: 간호직 | C19: 10300012 | D19: 박연임 | E19: 10000 | F19: 〃 | J19: 5
A20: 14 | B20: 간호직 | C20: 10300013 | D20: 원은정 | E20: 5000 | F20: 〃 | J20: 6
A21: 15 | B21: 간호직 | C21: 10300014 | D21: 이영성 | E21: 10000 | F21: 〃
A22: 16 | B22: 간호직 | C22: 10300015 | D22: 최금숙 | E22: 10000 | F22: 〃 | J22: □ 해지자
A23: 17 | B23: 간호직 | C23: 10300016 | D23: 박복선 | E23: 2000 | F23: 〃 | J23: 연번 | K23: 직종 | L23: 직번 | M23: 성명 | N23: 금액(원) | O23: 사유 | P23: 비고
A24: 18 | B24: 간호직 | C24: 10300018 | D24: 정미숙 | E24: 2000 | F24: 〃 | J24: 합계 | K24: 1명 | N24: =SUM(N25:N30) -> 8000
A25: 19 | B25: 간호직 | C25: 10300019 | D25: 서현순 | E25: 5000 | F25: 〃 | J25: 1 | K25: 사무직 | L25: 10500058 | M25: 박세직 | N25: 8000 | O25: 육아 휴직
A26: 20 | B26: 간호직 | C26: 10300022 | D26: 장민순 | E26: 10000 | F26: 〃 | J26: 2
A27: 21 | B27: 간호직 | C27: 10300023 | D27: 최정아 | E27: 5000 | F27: 〃 | J27: 3
A28: 22 | B28: 간호직 | C28: 10300024 | D28: 소영임 | E28: 20000 | F28: 〃 | J28: 4
A29: 23 | B29: 간호직 | C29: 10300025 | D29: 이영현 | E29: 30000 | F29: 〃 | J29: 5
A30: 24 | B30: 간호직 | C30: 10300027 | D30: 이지선 | E30: 20000 | F30: 〃 | J30: 6
A31: 25 | B31: 간호직 | C31: 10300029 | D31: 강선정 | E31: 2000 | F31: 〃
A32: 26 | B32: 간호직 | C32: 10300031 | D32: 이미란 | E32: 10000 | F32: 〃 | J32: □ 후원금액변동 공제자
A33: 27 | B33: 간호직 | C33: 10300034 | D33: 박순이 | E33: 20000 | F33: 〃 | J33: 연번 | K33: 직종 | L33: 직번 | M33: 성명 | N33: 기존 | O33: 변경 | P33: 비고(증감)
A34: 28 | B34: 간호직 | C34: 10300037 | D34: 김남신 | E34: 1000 | F34: 〃 | J34: 합계 | N34: =SUM(N35:N36) -> 0 | O34: =SUM(O35:O36) -> 0 | P34: =SUM(P35:P36) -> 0
A35: 29 | B35: 간호직 | C35: 10300045 | D35: 문의순 | E35: 20000 | F35: 〃 | J35: 1
A36: 30 | B36: 간호직 | C36: 10300047 | D36: 김미정 | E36: 5000 | F36: 〃 | J36: 2
A37: 31 | B37: 간호직 | C37: 10300049 | D37: 박은경 | E37: 20000 | F37: 〃
A38: 32 | B38: 간호직 | C38: 10300058 | D38: 조영숙 | E38: 5000 | F38: 〃
A39: 33 | B39: 간호직 | C39: 10300064 | D39: 송은숙 | E39: 5000 | F39: 〃 | M39: 2024.12.17.
A40: 34 | B40: 간호직 | C40: 10300071 | D40: 윤헌경 | E40: 20000 | F40: 〃 | L40: 작 성 자 : | M40: 보건의료복지통합지원실 윤정일
...

Sheet 11월
A1: 2024년 11월 사회복지후원금 공제 내역
J2: 구 분 | M2: 금액(원) | N2: 인원(명)
F3: 기준일 : 2024.11.14. | J3: A. 전월 공제 | M3: ='10월'!M8 -> 1455000 | N3: ='10월'!N8 -> 212 명
J4: B. 당월 변동액 / 인원 | M4: =M5-M6+M7 -> -7000 | N4: =N5-N6 -> -2
A5: 연번 | B5: 직종 | C5: 직번 | D5: 성명 | E5: 금액(원) | F5: 후원구분 | G5: 비고 | J5: 1. 신규 (+) | M5: =N14 -> 0 | N5: 0
A6: 합계 | D6: =A216&" "&"명" -> 210 명 | E6: =SUM(E7:E216) -> 1448000 | J6: 2. 해지 (-) | M6: =N24 -> 7000 | N6: 2
A7: 1 | B7: 원 장 | C7: 10000001 | D7: 오진규 | E7: 50000 | F7: 정기후원 | J7: 4. 후원금액 변동(+) | M7: =P34 -> 0 | N7: 0
A8: 2 | B8: 의사직 | C8: 10100002 | D8: 김정회 | E8: 10000 | F8: 〃 | J8: C. 당월 공제 (A+B) | M8: =E6 -> 1448000 | N8: =D6 -> 210 명
A9: 3 | B9: 의사직 | C9: 10100017 | D9: 정문환 | E9: 10000 | F9: 〃
A10: 4 | B10: 의사직 | C10: 10100034 | D10: 오소영 | E10: 100000 | F10: 〃 | J10: < 변경사항 상세 >
A11: 5 | B11: 의사직 | C11: 10100049 | D11: 배강민 | E11: 10000 | F11: 〃
A12: 6 | B12: 의사직 | C12: 10100056 | D12: 장재호 | E12: 10000 | F12: 〃 | J12: □ 신규자
A13: 7 | B13: 의사직 | C13: 10100063 | D13: 김석기 | E13: 10000 | F13: 〃 | J13: 연번 | K13: 직종 | L13: 직번 | M13: 성명 | N13: 금액(원) | O13: 사유 | P13: 비고
A14: 8 | B14: 의사직 | C14: 10100084 | D14: 김기남 | E14: 30000 | F14: 〃 | J14: 합계 | K14: 명 | N14: =SUM(N15:N20) -> 0
A15: 9 | B15: 의사직 | C15: 10100085 | D15: 정수현 | E15: 10000 | F15: 〃 | J15: 1
A16: 10 | B16: 의사직 | C16: 10100117 | D16: 신호윤 | E16: 10000 | F16: 〃 | J16: 2
A17: 11 | B17: 의사직 | C17: 10100170 | D17: 정재용 | E17: 50000 | F17: 〃 | J17: 3
A18: 12 | B18: 약사직 | C18: 10200002 | D18: 이경옥 | E18: 50000 | F18: 〃 | J18: 4
A19: 13 | B19: 간호직 | C19: 10300012 | D19: 박연임 | E19: 10000 | F19: 〃 | J19: 5
A20: 14 | B20: 간호직 | C20: 10300013 | D20: 원은정 | E20: 5000 | F20: 〃 | J20: 6
A21: 15 | B21: 간호직 | C21: 10300014 | D21: 이영성 | E21: 10000 | F21: 〃
A22: 16 | B22: 간호직 | C22: 10300015 | D22: 최금숙 | E22: 10000 | F22: 〃 | J22: □ 해지자
A23: 17 | B23: 간호직 | C23: 10300016 | D23: 박복선 | E23: 2000 | F23: 〃 | J23: 연번 | K23: 직종 | L23: 직번 | M23: 성명 | N23: 금액(원) | O23: 사유 | P23: 비고
A24: 18 | B24: 간호직 | C24: 10300018 | D24: 정미숙 | E24: 2000 | F24: 〃 | J24: 합계 | K24: 2명 | N24: =SUM(N25:N30) -> 7000
A25: 19 | B25: 간호직 | C25: 10300019 | D25: 서현순 | E25: 5000 | F25: 〃 | J25: 1 | K25: 보건직 | L25: 10400045 | M25: 박종민 | N25: 5000 | O25: 육아휴직
A26: 20 | B26: 간호직 | C26: 10300022 | D26: 장민순 | E26: 10000 | F26: 〃 | J26: 2 | K26: 보건직 | L26: 10400034 | M26: 방진희 | N26: 2000 | O26: 가족돌봄휴직
A27: 21 | B27: 간호직 | C27: 10300023 | D27: 최정아 | E27: 5000 | F27: 〃 | J27: 3
A28: 22 | B28: 간호직 | C28: 10300024 | D28: 소영임 | E28: 20000 | F28: 〃 | J28: 4
A29: 23 | B29: 간호직 | C29: 10300025 | D29: 이영현 | E29: 30000 | F29: 〃 | J29: 5
A30: 24 | B30: 간호직 | C30: 10300027 | D30: 이지선 | E30: 20000 | F30: 〃 | J30: 6
A31: 25 | B31: 간호직 | C31: 10300029 | D31: 강선정 | E31: 2000 | F31: 〃
A32: 26 | B32: 간호직 | C32: 10300031 | D32: 이미란 | E32: 10000 | F32: 〃 | J32: □ 후원금액변동 공제자
A33: 27 | B33: 간호직 | C33: 10300034 | D33: 박순이 | E33: 20000 | F33: 〃 | J33: 연번 | K33: 직종 | L33: 직번 | M33: 성명 | N33: 기존 | O33: 변경 | P33: 비고(증감)
A34: 28 | B34: 간호직 | C34: 10300037 | D34: 김남신 | E34: 1000 | F34: 〃 | J34: 합계 | N34: =SUM(N35:N36) -> 0 | O34: =SUM(O35:O36) -> 0 | P34: =SUM(P35:P36) -> 0
A35: 29 | B35: 간호직 | C35: 10300045 | D35: 문의순 | E35: 20000 | F35: 〃 | J35: 1
A36: 30 | B36: 간호직 | C36: 10300047 | D36: 김미정 | E36: 5000 | F36: 〃 | J36: 2
A37: 31 | B37: 간호직 | C37: 10300049 | D37: 박은경 | E37: 20000 | F37: 〃
A38: 32 | B38: 간호직 | C38: 10300058 | D38: 조영숙 | E38: 5000 | F38: 〃
A39: 33 | B39: 간호직 | C39: 10300064 | D39: 송은숙 | E39: 5000 | F39: 〃 | M39: 2024.10.14.
A40: 34 | B40: 간호직 | C40: 10300071 | D40: 윤헌경 | E40: 20000 | F40: 〃 | L40: 작 성 자 : | M40: 보건의료복지통합지원실 황현진
...

Sheet 10월
A1: 2024년 10월 사회복지후원금 공제 내역
J2: 구 분 | M2: 금액(원) | N2: 인원(명)
F3: 기준일 : 2024.10.14. | J3: A. 전월 공제 | M3: 1460000 | N3: ='8월'!N8 -> 210
J4: B. 당월 변동액 / 인원 | M4: =M5-M6+M7 -> -5000 | N4: =N5-N6 -> -1
A5: 연번 | B5: 직종 | C5: 직번 | D5: 성명 | E5: 금액(원) | F5: 후원구분 | G5: 비고 | J5: 1. 신규 (+) | M5: =N14 -> 0 | N5: 0
A6: 합계 | D6: =A218&" "&"명" -> 212 명 | E6: =SUM(E7:E218) -> 1455000 | J6: 2. 해지 (-) | M6: =N24 -> 5000 | N6: 1
A7: 1 | B7: 원 장 | C7: 10000001 | D7: 오진규 | E7: 50000 | F7: 정기후원 | J7: 4. 후원금액 변동(+) | M7: =P34 -> 0 | N7: 0
A8: 2 | B8: 의사직 | C8: 10100002 | D8: 김정회 | E8: 10000 | F8: 〃 | J8: C. 당월 공제 (A+B) | M8: =E6 -> 1455000 | N8: =D6 -> 212 명
A9: 3 | B9: 의사직 | C9: 10100017 | D9: 정문환 | E9: 10000 | F9: 〃
A10: 4 | B10: 의사직 | C10: 10100034 | D10: 오소영 | E10: 100000 | F10: 〃 | J10: < 변경사항 상세 >
A11: 5 | B11: 의사직 | C11: 10100049 | D11: 배강민 | E11: 10000 | F11: 〃
A12: 6 | B12: 의사직 | C12: 10100056 | D12: 장재호 | E12: 10000 | F12: 〃 | J12: □ 신규자
A13: 7 | B13: 의사직 | C13: 10100063 | D13: 김석기 | E13: 10000 | F13: 〃 | J13: 연번 | K13: 직종 | L13: 직번 | M13: 성명 | N13: 금액(원) | O13: 사유 | P13: 비고
A14: 8 | B14: 의사직 | C14: 10100084 | D14: 김기남 | E14: 30000 | F14: 〃 | J14: 합계 | K14: 명 | N14: =SUM(N15:N20) -> 0
A15: 9 | B15: 의사직 | C15: 10100085 | D15: 정수현 | E15: 10000 | F15: 〃 | J15: 1
A16: 10 | B16: 의사직 | C16: 10100117 | D16: 신호윤 | E16: 10000 | F16: 〃 | J16: 2
A17: 11 | B17: 의사직 | C17: 10100170 | D17: 정재용 | E17: 50000 | F17: 〃 | J17: 3
A18: 12 | B18: 약사직 | C18: 10200002 | D18: 이경옥 | E18: 50000 | F18: 〃 | J18: 4
A19: 13 | B19: 간호직 | C19: 10300012 | D19: 박연임 | E19: 10000 | F19: 〃 | J19: 5
A20: 14 | B20: 간호직 | C20: 10300013 | D20: 원은정 | E20: 5000 | F20: 〃 | J20: 6
A21: 15 | B21: 간호직 | C21: 10300014 | D21: 이영성 | E21: 10000 | F21: 〃
A22: 16 | B22: 간호직 | C22: 10300015 | D22: 최금숙 | E22: 10000 | F22: 〃 | J22: □ 해지자
A23: 17 | B23: 간호직 | C23: 10300016 | D23: 박복선 | E23: 2000 | F23: 〃 | J23: 연번 | K23: 직종 | L23: 직번 | M23: 성명 | N23: 금액(원) | O23: 사유 | P23: 비고
A24: 18 | B24: 간호직 | C24: 10300018 | D24: 정미숙 | E24: 2000 | F24: 〃 | J24: 합계 | K24: 1명 | N24: =SUM(N25:N30) -> 5000
A25: 19 | B25: 간호직 | C25: 10300019 | D25: 서현순 | E25: 5000 | F25: 〃 | J25: 1 | K25: 시설관리직 | L25: 10600184 | M25: 강대영 | N25: 5000 | O25: 퇴직
A26: 20 | B26: 간호직 | C26: 10300022 | D26: 장민순 | E26: 10000 | F26: 〃 | J26: 2
A27: 21 | B27: 간호직 | C27: 10300023 | D27: 최정아 | E27: 5000 | F27: 〃 | J27: 3
A28: 22 | B28: 간호직 | C28: 10300024 | D28: 소영임 | E28: 20000 | F28: 〃 | J28: 4
A29: 23 | B29: 간호직 | C29: 10300025 | D29: 이영현 | E29: 30000 | F29: 〃 | J29: 5
A30: 24 | B30: 간호직 | C30: 10300027 | D30: 이지선 | E30: 20000 | F30: 〃 | J30: 6
A31: 25 | B31: 간호직 | C31: 10300029 | D31: 강선정 | E31: 2000 | F31: 〃
A32: 26 | B32: 간호직 | C32: 10300031 | D32: 이미란 | E32: 10000 | F32: 〃 | J32: □ 후원금액변동 공제자
A33: 27 | B33: 간호직 | C33: 10300034 | D33: 박순이 | E33: 20000 | F33: 〃 | J33: 연번 | K33: 직종 | L33: 직번 | M33: 성명 | N33: 기존 | O33: 변경 | P33: 비고(증감)
A34: 28 | B34: 간호직 | C34: 10300037 | D34: 김남신 | E34: 1000 | F34: 〃 | J34: 합계 | N34: =SUM(N35:N36) -> 0 | O34: =SUM(O35:O36) -> 0 | P34: =SUM(P35:P36) -> 0
A35: 29 | B35: 간호직 | C35: 10300045 | D35: 문의순 | E35: 20000 | F35: 〃 | J35: 1
A36: 30 | B36: 간호직 | C36: 10300047 | D36: 김미정 | E36: 5000 | F36: 〃 | J36: 2
A37: 31 | B37: 간호직 | C37: 10300049 | D37: 박은경 | E37: 20000 | F37: 〃
A38: 32 | B38: 간호직 | C38: 10300058 | D38: 조영숙 | E38: 5000 | F38: 〃
A39: 33 | B39: 간호직 | C39: 10300064 | D39: 송은숙 | E39: 5000 | F39: 〃 | M39: 2024.10.14.
A40: 34 | B40: 간호직 | C40: 10300071 | D40: 윤헌경 | E40: 20000 | F40: 〃 | L40: 작 성 자 : | M40: 보건의료복지통합지원실 황현진
...

Sheet 9월
A1: 2024년 9월 사회복지후원금 공제 내역
J2: 구 분 | M2: 금액(원) | N2: 인원(명)
F3: 기준일 : 2024.09.06. | J3: A. 전월 공제 | M3: ='8월'!M8 -> 1448000 | N3: ='8월'!N8 -> 210
J4: B. 당월 변동액 / 인원 | M4: =M5-M6+M7 -> 12000 | N4: =N5-N6 -> 3
A5: 연번 | B5: 직종 | C5: 직번 | D5: 성명 | E5: 금액(원) | F5: 후원구분 | G5: 비고 | J5: 1. 신규 (+) | M5: =N14 -> 22000 | N5: 4
A6: 합계 | D6: =A219&" "&"명" -> 213 명 | E6: =SUM(E7:E219) -> 1460000 | J6: 2. 해지 (-) | M6: =N24 -> 10000 | N6: 1
A7: 1 | B7: 원 장 | C7: 10000001 | D7: 오진규 | E7: 50000 | F7: 정기후원 | J7: 4. 후원금액 변동(+) | M7: =P34 -> 0 | N7: 0
A8: 2 | B8: 의사직 | C8: 10100002 | D8: 김정회 | E8: 10000 | F8: 〃 | J8: C. 당월 공제 (A+B) | M8: =E6 -> 1460000 | N8: =D6 -> 213 명
A9: 3 | B9: 의사직 | C9: 10100017 | D9: 정문환 | E9: 10000 | F9: 〃
A10: 4 | B10: 의사직 | C10: 10100034 | D10: 오소영 | E10: 100000 | F10: 〃 | J10: < 변경사항 상세 >
A11: 5 | B11: 의사직 | C11: 10100049 | D11: 배강민 | E11: 10000 | F11: 〃
A12: 6 | B12: 의사직 | C12: 10100056 | D12: 장재호 | E12: 10000 | F12: 〃 | J12: □ 신규자
A13: 7 | B13: 의사직 | C13: 10100063 | D13: 김석기 | E13: 10000 | F13: 〃 | J13: 연번 | K13: 직종 | L13: 직번 | M13: 성명 | N13: 금액(원) | O13: 사유 | P13: 비고
A14: 8 | B14: 의사직 | C14: 10100084 | D14: 김기남 | E14: 30000 | F14: 〃 | J14: 합계 | K14: 4명 | N14: =SUM(N15:N20) -> 22000
A15: 9 | B15: 의사직 | C15: 10100085 | D15: 정수현 | E15: 10000 | F15: 〃 | J15: 1 | K15: 간호직 | L15: 10300516 | M15: 김유신 | N15: 1000 | O15: 신규
A16: 10 | B16: 의사직 | C16: 10100117 | D16: 신호윤 | E16: 10000 | F16: 〃 | J16: 2 | K16: 간호직 | L16: 10300517 | M16: 김나래 | N16: 1000 | O16: 신규
A17: 11 | B17: 의사직 | C17: 10100170 | D17: 정재용 | E17: 50000 | F17: 〃 | J17: 3 | K17: 간호직 | L17: 10300518 | M17: 김서율 | N17: 10000 | O17: 신규
A18: 12 | B18: 약사직 | C18: 10200002 | D18: 이경옥 | E18: 50000 | F18: 〃 | J18: 4 | K18: 간호직 | L18: 10300519 | M18: 임수철 | N18: 10000 | O18: 신규
A19: 13 | B19: 간호직 | C19: 10300012 | D19: 박연임 | E19: 10000 | F19: 〃 | J19: 5
A20: 14 | B20: 간호직 | C20: 10300013 | D20: 원은정 | E20: 5000 | F20: 〃 | J20: 6
A21: 15 | B21: 간호직 | C21: 10300014 | D21: 이영성 | E21: 10000 | F21: 〃
A22: 16 | B22: 간호직 | C22: 10300015 | D22: 최금숙 | E22: 10000 | F22: 〃 | J22: □ 해지자
A23: 17 | B23: 간호직 | C23: 10300016 | D23: 박복선 | E23: 2000 | F23: 〃 | J23: 연번 | K23: 직종 | L23: 직번 | M23: 성명 | N23: 금액(원) | O23: 사유 | P23: 비고
A24: 18 | B24: 간호직 | C24: 10300018 | D24: 정미숙 | E24: 2000 | F24: 〃 | J24: 합계 | K24: 1명 | N24: =SUM(N25:N30) -> 10000
A25: 19 | B25: 간호직 | C25: 10300019 | D25: 서현순 | E25: 5000 | F25: 〃 | J25: 1 | K25: 간호직 | L25: 10300500 | M25: 정소이 | N25: 10000 | O25: 퇴직
A26: 20 | B26: 간호직 | C26: 10300022 | D26: 장민순 | E26: 10000 | F26: 〃 | J26: 2
A27: 21 | B27: 간호직 | C27: 10300023 | D27: 최정아 | E27: 5000 | F27: 〃 | J27: 3
A28: 22 | B28: 간호직 | C28: 10300024 | D28: 소영임 | E28: 20000 | F28: 〃 | J28: 4
A29: 23 | B29: 간호직 | C29: 10300025 | D29: 이영현 | E29: 30000 | F29: 〃 | J29: 5
A30: 24 | B30: 간호직 | C30: 10300027 | D30: 이지선 | E30: 20000 | F30: 〃 | J30: 6
A31: 25 | B31: 간호직 | C31: 10300029 | D31: 강선정 | E31: 2000 | F31: 〃
A32: 26 | B32: 간호직 | C32: 10300031 | D32: 이미란 | E32: 10000 | F32: 〃 | J32: □ 후원금액변동 공제자
A33: 27 | B33: 간호직 | C33: 10300034 | D33: 박순이 | E33: 20000 | F33: 〃 | J33: 연번 | K33: 직종 | L33: 직번 | M33: 성명 | N33: 기존 | O33: 변경 | P33: 비고(증감)
A34: 28 | B34: 간호직 | C34: 10300037 | D34: 김남신 | E34: 1000 | F34: 〃 | J34: 합계 | N34: =SUM(N35:N36) -> 0 | O34: =SUM(O35:O36) -> 0 | P34: =SUM(P35:P36) -> 0
A35: 29 | B35: 간호직 | C35: 10300045 | D35: 문의순 | E35: 20000 | F35: 〃 | J35: 1
A36: 30 | B36: 간호직 | C36: 10300047 | D36: 김미정 | E36: 5000 | F36: 〃 | J36: 2
A37: 31 | B37: 간호직 | C37: 10300049 | D37: 박은경 | E37: 20000 | F37: 〃
A38: 32 | B38: 간호직 | C38: 10300058 | D38: 조영숙 | E38: 5000 | F38: 〃
A39: 33 | B39: 간호직 | C39: 10300064 | D39: 송은숙 | E39: 5000 | F39: 〃 | M39: 2024.09.06.
A40: 34 | B40: 간호직 | C40: 10300071 | D40: 윤헌경 | E40: 20000 | F40: 〃 | L40: 작 성 자 : | M40: 보건의료복지통합지원실 윤정일
...

Sheet 8월
A1: 2024년 8월 사회복지후원금 공제 내역
J2: 구 분 | M2: 금액(원) | N2: 인원(명)
F3: 기준일 : 2024.08.09. | J3: A. 전월 공제 | M3: ='7월'!M8 -> 1469000 | N3: ='7월'!N8 -> 213
J4: B. 당월 변동액 / 인원 | M4: =M5-M6+M7 -> -21000 | N4: =N5-N6 -> -3
A5: 연번 | B5: 직종 | C5: 직번 | D5: 성명 | E5: 금액(원) | F5: 후원구분 | G5: 비고 | J5: 1. 신규 (+) | M5: =N14 -> 0 | N5: 0
A6: 합계 | D6: =A216&" "&"명" -> 210 명 | E6: =SUM(E7:E216) -> 1448000 | J6: 2. 해지 (-) | M6: =N24 -> 21000 | N6: 3
A7: 1 | B7: 원 장 | C7: 10000001 | D7: 오진규 | E7: 50000 | F7: 정기후원 | J7: 4. 후원금액 변동(+) | M7: =P34 -> 0 | N7: 0
A8: 2 | B8: 의사직 | C8: 10100002 | D8: 김정회 | E8: 10000 | F8: 〃 | J8: C. 당월 공제 (A+B) | M8: =E6 -> 1448000 | N8: =N3+N4 -> 210
A9: 3 | B9: 의사직 | C9: 10100017 | D9: 정문환 | E9: 10000 | F9: 〃
A10: 4 | B10: 의사직 | C10: 10100034 | D10: 오소영 | E10: 100000 | F10: 〃 | J10: < 변경사항 상세 >
A11: 5 | B11: 의사직 | C11: 10100049 | D11: 배강민 | E11: 10000 | F11: 〃
A12: 6 | B12: 의사직 | C12: 10100056 | D12: 장재호 | E12: 10000 | F12: 〃 | J12: □ 신규자
A13: 7 | B13: 의사직 | C13: 10100063 | D13: 김석기 | E13: 10000 | F13: 〃 | J13: 연번 | K13: 직종 | L13: 직번 | M13: 성명 | N13: 금액(원) | O13: 사유 | P13: 비고
A14: 8 | B14: 의사직 | C14: 10100084 | D14: 김기남 | E14: 30000 | F14: 〃 | J14: 합계 | N14: =SUM(N15:N20) -> 0
A15: 9 | B15: 의사직 | C15: 10100085 | D15: 정수현 | E15: 10000 | F15: 〃 | J15: 1
A16: 10 | B16: 의사직 | C16: 10100117 | D16: 신호윤 | E16: 10000 | F16: 〃 | J16: 2
A17: 11 | B17: 의사직 | C17: 10100170 | D17: 정재용 | E17: 50000 | F17: 〃 | J17: 3
A18: 12 | B18: 약사직 | C18: 10200002 | D18: 이경옥 | E18: 50000 | F18: 〃 | J18: 4
A19: 13 | B19: 간호직 | C19: 10300012 | D19: 박연임 | E19: 10000 | F19: 〃 | J19: 5
A20: 14 | B20: 간호직 | C20: 10300013 | D20: 원은정 | E20: 5000 | F20: 〃 | J20: 6
A21: 15 | B21: 간호직 | C21: 10300014 | D21: 이영성 | E21: 10000 | F21: 〃
A22: 16 | B22: 간호직 | C22: 10300015 | D22: 최금숙 | E22: 10000 | F22: 〃 | J22: □ 해지자
A23: 17 | B23: 간호직 | C23: 10300016 | D23: 박복선 | E23: 2000 | F23: 〃 | J23: 연번 | K23: 직종 | L23: 직번 | M23: 성명 | N23: 금액(원) | O23: 사유 | P23: 비고
A24: 18 | B24: 간호직 | C24: 10300018 | D24: 정미숙 | E24: 2000 | F24: 〃 | J24: 합계 | K24: 3명 | N24: =SUM(N25:N30) -> 21000
A25: 19 | B25: 간호직 | C25: 10300019 | D25: 서현순 | E25: 5000 | F25: 〃 | J25: 1 | K25: 보건직 | L25: 10400051 | M25: 양세나 | N25: 10000 | O25: 해지 | P25: 07.19. 유선 요청
A26: 20 | B26: 간호직 | C26: 10300022 | D26: 장민순 | E26: 10000 | F26: 〃 | J26: 2 | K26: 간호직 | L26: 10300420 | M26: 김성은 | N26: 10000 | O26: 퇴사
A27: 21 | B27: 간호직 | C27: 10300023 | D27: 최정아 | E27: 5000 | F27: 〃 | J27: 3 | K27: 시설관리직 | L27: 10600130 | M27: 최태호 | N27: 1000 | O27: 퇴사
A28: 22 | B28: 간호직 | C28: 10300024 | D28: 소영임 | E28: 20000 | F28: 〃 | J28: 4
A29: 23 | B29: 간호직 | C29: 10300025 | D29: 이영현 | E29: 30000 | F29: 〃 | J29: 5
A30: 24 | B30: 간호직 | C30: 10300027 | D30: 이지선 | E30: 20000 | F30: 〃 | J30: 6
A31: 25 | B31: 간호직 | C31: 10300029 | D31: 강선정 | E31: 2000 | F31: 〃
A32: 26 | B32: 간호직 | C32: 10300031 | D32: 이미란 | E32: 10000 | F32: 〃 | J32: □ 후원금액변동 공제자
A33: 27 | B33: 간호직 | C33: 10300034 | D33: 박순이 | E33: 20000 | F33: 〃 | J33: 연번 | K33: 직종 | L33: 직번 | M33: 성명 | N33: 기존 | O33: 변경 | P33: 비고(증감)
A34: 28 | B34: 간호직 | C34: 10300037 | D34: 김남신 | E34: 1000 | F34: 〃 | J34: 합계 | N34: =SUM(N35:N36) -> 0 | O34: =SUM(O35:O36) -> 0 | P34: =SUM(P35:P36) -> 0
A35: 29 | B35: 간호직 | C35: 10300045 | D35: 문의순 | E35: 20000 | F35: 〃 | J35: 1
A36: 30 | B36: 간호직 | C36: 10300047 | D36: 김미정 | E36: 5000 | F36: 〃 | J36: 2
A37: 31 | B37: 간호직 | C37: 10300049 | D37: 박은경 | E37: 20000 | F37: 〃
A38: 32 | B38: 간호직 | C38: 10300058 | D38: 조영숙 | E38: 5000 | F38: 〃
A39: 33 | B39: 간호직 | C39: 10300064 | D39: 송은숙 | E39: 5000 | F39: 〃 | M39: 2024.07.12.
A40: 34 | B40: 간호직 | C40: 10300071 | D40: 윤헌경 | E40: 20000 | F40: 〃 | L40: 작 성 자 : | M40: 보건의료복지통합지원실 윤정일
...

Sheet 7월
A1: 2024년 7월 사회복지후원금 공제 내역
J2: 구 분 | M2: 금액(원) | N2: 인원(명)
F3: 기준일 : 2024.07.12. | J3: A. 전월 공제 | M3: ='6월'!M8 -> 1535000 | N3: ='6월'!N8 -> 219
J4: B. 당월 변동액 / 인원 | M4: =M5-M6+M7 -> -66000 | N4: =N5-N6 -> -6
A5: 연번 | B5: 직종 | C5: 직번 | D5: 성명 | E5: 금액(원) | F5: 후원구분 | G5: 비고 | J5: 1. 신규 (+) | M5: =N14 -> 0 | N5: 0
A6: 합계 | D6: =A219&" "&"명" -> 213 명 | E6: =SUM(E7:E219) -> 1469000 | J6: 2. 해지 (-) | M6: =N24 -> 66000 | N6: 6
A7: 1 | B7: 원 장 | C7: 10000001 | D7: 오진규 | E7: 50000 | F7: 정기후원 | J7: 4. 후원금액 변동(+) | M7: =P34 -> 0 | N7: 0
A8: 2 | B8: 의사직 | C8: 10100002 | D8: 김정회 | E8: 10000 | F8: 〃 | J8: C. 당월 공제 (A+B) | M8: =E6 -> 1469000 | N8: =N3+N4 -> 213
A9: 3 | B9: 의사직 | C9: 10100017 | D9: 정문환 | E9: 10000 | F9: 〃
A10: 4 | B10: 의사직 | C10: 10100034 | D10: 오소영 | E10: 100000 | F10: 〃 | J10: < 변경사항 상세 >
A11: 5 | B11: 의사직 | C11: 10100049 | D11: 배강민 | E11: 10000 | F11: 〃
A12: 6 | B12: 의사직 | C12: 10100056 | D12: 장재호 | E12: 10000 | F12: 〃 | J12: □ 신규자
A13: 7 | B13: 의사직 | C13: 10100063 | D13: 김석기 | E13: 10000 | F13: 〃 | J13: 연번 | K13: 직종 | L13: 직번 | M13: 성명 | N13: 금액(원) | O13: 사유 | P13: 비고
A14: 8 | B14: 의사직 | C14: 10100084 | D14: 김기남 | E14: 30000 | F14: 〃 | J14: 합계 | N14: =SUM(N15:N20) -> 0
A15: 9 | B15: 의사직 | C15: 10100085 | D15: 정수현 | E15: 10000 | F15: 〃 | J15: 1
A16: 10 | B16: 의사직 | C16: 10100117 | D16: 신호윤 | E16: 10000 | F16: 〃 | J16: 2
A17: 11 | B17: 의사직 | C17: 10100170 | D17: 정재용 | E17: 50000 | F17: 〃 | J17: 3
A18: 12 | B18: 약사직 | C18: 10200002 | D18: 이경옥 | E18: 50000 | F18: 〃 | J18: 4
A19: 13 | B19: 간호직 | C19: 10300012 | D19: 박연임 | E19: 10000 | F19: 〃 | J19: 5
A20: 14 | B20: 간호직 | C20: 10300013 | D20: 원은정 | E20: 5000 | F20: 〃 | J20: 6
A21: 15 | B21: 간호직 | C21: 10300014 | D21: 이영성 | E21: 10000 | F21: 〃
A22: 16 | B22: 간호직 | C22: 10300015 | D22: 최금숙 | E22: 10000 | F22: 〃 | J22: □ 해지자
A23: 17 | B23: 간호직 | C23: 10300016 | D23: 박복선 | E23: 2000 | F23: 〃 | J23: 연번 | K23: 직종 | L23: 직번 | M23: 성명 | N23: 금액(원) | O23: 사유 | P23: 비고
A24: 18 | B24: 간호직 | C24: 10300018 | D24: 정미숙 | E24: 2000 | F24: 〃 | J24: 합계 | N24: =SUM(N25:N30) -> 66000
A25: 19 | B25: 간호직 | C25: 10300019 | D25: 서현순 | E25: 5000 | F25: 〃 | J25: 1 | K25: 간호직 | L25: 10300079 | M25: 김혜숙 | N25: 10000 | O25: 퇴직
A26: 20 | B26: 간호직 | C26: 10300022 | D26: 장민순 | E26: 10000 | F26: 〃 | J26: 2 | K26: 간호직 | L26: 10300459 | M26: 임지영 | N26: 10000 | O26: 퇴직
A27: 21 | B27: 간호직 | C27: 10300023 | D27: 최정아 | E27: 5000 | F27: 〃 | J27: 3 | K27: 간호직 | L27: 10300502 | M27: 최지원 | N27: 1000 | O27: 퇴직
A28: 22 | B28: 간호직 | C28: 10300024 | D28: 소영임 | E28: 20000 | F28: 〃 | J28: 4 | K28: 시설관리직 | L28: 10600103 | M28: 김주성 | N28: 20000 | O28: 퇴직
A29: 23 | B29: 간호직 | C29: 10300025 | D29: 이영현 | E29: 30000 | F29: 〃 | J29: 5 | K29: 시설관리직 | L29: 10600123 | M29: 전길주 | N29: 20000 | O29: 퇴직
A30: 24 | B30: 간호직 | C30: 10300027 | D30: 이지선 | E30: 20000 | F30: 〃 | J30: 6 | K30: 시설관리직 | L30: 11100387 | M30: 오연주 | N30: 5000 | O30: 퇴직
A31: 25 | B31: 간호직 | C31: 10300029 | D31: 강선정 | E31: 2000 | F31: 〃
A32: 26 | B32: 간호직 | C32: 10300031 | D32: 이미란 | E32: 10000 | F32: 〃 | J32: □ 후원금액변동 공제자
A33: 27 | B33: 간호직 | C33: 10300034 | D33: 박순이 | E33: 20000 | F33: 〃 | J33: 연번 | K33: 직종 | L33: 직번 | M33: 성명 | N33: 기존 | O33: 변경 | P33: 비고(증감)
A34: 28 | B34: 간호직 | C34: 10300037 | D34: 김남신 | E34: 1000 | F34: 〃 | J34: 합계 | N34: =SUM(N35:N36) -> 0 | O34: =SUM(O35:O36) -> 0 | P34: =SUM(P35:P36) -> 0
A35: 29 | B35: 간호직 | C35: 10300045 | D35: 문의순 | E35: 20000 | F35: 〃 | J35: 1
A36: 30 | B36: 간호직 | C36: 10300047 | D36: 김미정 | E36: 5000 | F36: 〃 | J36: 2
A37: 31 | B37: 간호직 | C37: 10300049 | D37: 박은경 | E37: 20000 | F37: 〃
A38: 32 | B38: 간호직 | C38: 10300058 | D38: 조영숙 | E38: 5000 | F38: 〃
A39: 33 | B39: 간호직 | C39: 10300064 | D39: 송은숙 | E39: 5000 | F39: 〃 | M39: 2024.07.12.
A40: 34 | B40: 간호직 | C40: 10300071 | D40: 윤헌경 | E40: 20000 | F40: 〃 | L40: 작 성 자 : | M40: 보건의료복지통합지원실 윤정일
...

Sheet 6월
A1: 2024년 6월 사회복지후원금 공제 내역
J2: 구 분 | M2: 금액(원) | N2: 인원(명)
F3: 기준일 : 2024.06.13. | J3: A. 전월 공제 | M3: ='5월'!M8 -> 1535000 | N3: ='5월'!N8 -> 219
J4: B. 당월 변동액 / 인원 | M4: =M5-M6+M7 -> 0 | N4: =N5-N6 -> 0
A5: 연번 | B5: 직종 | C5: 직번 | D5: 성명 | E5: 금액(원) | F5: 후원구분 | G5: 비고 | J5: 1. 신규 (+) | M5: =N14 -> 0 | N5: 0
A6: 합계 | D6: =A225&" "&"명" -> 219 명 | E6: =SUM(E7:E225) -> 1535000 | J6: 2. 해지 (-) | M6: =N24 -> 0 | N6: 0
A7: 1 | B7: 원 장 | C7: 10000001 | D7: 오진규 | E7: 50000 | F7: 정기후원 | J7: 4. 후원금액 변동(+) | M7: =P30 -> 0 | N7: 0
A8: 2 | B8: 의사직 | C8: 10100002 | D8: 김정회 | E8: 10000 | F8: 〃 | J8: C. 당월 공제 (A+B) | M8: =E6 -> 1535000 | N8: =N3+N4 -> 219
A9: 3 | B9: 의사직 | C9: 10100017 | D9: 정문환 | E9: 10000 | F9: 〃
A10: 4 | B10: 의사직 | C10: 10100034 | D10: 오소영 | E10: 100000 | F10: 〃 | J10: < 변경사항 상세 >
A11: 5 | B11: 의사직 | C11: 10100049 | D11: 배강민 | E11: 10000 | F11: 〃
A12: 6 | B12: 의사직 | C12: 10100056 | D12: 장재호 | E12: 10000 | F12: 〃 | J12: □ 신규자
A13: 7 | B13: 의사직 | C13: 10100063 | D13: 김석기 | E13: 10000 | F13: 〃 | J13: 연번 | K13: 직종 | L13: 직번 | M13: 성명 | N13: 금액(원) | O13: 사유 | P13: 비고
A14: 8 | B14: 의사직 | C14: 10100084 | D14: 김기남 | E14: 30000 | F14: 〃 | J14: 합계 | N14: =SUM(N15:N20) -> 0
A15: 9 | B15: 의사직 | C15: 10100085 | D15: 정수현 | E15: 10000 | F15: 〃 | J15: 1
A16: 10 | B16: 의사직 | C16: 10100117 | D16: 신호윤 | E16: 10000 | F16: 〃 | J16: 2
A17: 11 | B17: 의사직 | C17: 10100170 | D17: 정재용 | E17: 50000 | F17: 〃 | J17: 3
A18: 12 | B18: 약사직 | C18: 10200002 | D18: 이경옥 | E18: 50000 | F18: 〃 | J18: 4
A19: 13 | B19: 간호직 | C19: 10300012 | D19: 박연임 | E19: 10000 | F19: 〃 | J19: 5
A20: 14 | B20: 간호직 | C20: 10300013 | D20: 원은정 | E20: 5000 | F20: 〃 | J20: 6
A21: 15 | B21: 간호직 | C21: 10300014 | D21: 이영성 | E21: 10000 | F21: 〃
A22: 16 | B22: 간호직 | C22: 10300015 | D22: 최금숙 | E22: 10000 | F22: 〃 | J22: □ 해지자
A23: 17 | B23: 간호직 | C23: 10300016 | D23: 박복선 | E23: 2000 | F23: 〃 | J23: 연번 | K23: 직종 | L23: 직번 | M23: 성명 | N23: 금액(원) | O23: 사유 | P23: 비고
A24: 18 | B24: 간호직 | C24: 10300018 | D24: 정미숙 | E24: 2000 | F24: 〃 | J24: 합계 | N24: =SUM(N25:N26) -> 0
A25: 19 | B25: 간호직 | C25: 10300019 | D25: 서현순 | E25: 5000 | F25: 〃 | J25: 1
A26: 20 | B26: 간호직 | C26: 10300022 | D26: 장민순 | E26: 10000 | F26: 〃 | J26: 2
A27: 21 | B27: 간호직 | C27: 10300023 | D27: 최정아 | E27: 5000 | F27: 〃
A28: 22 | B28: 간호직 | C28: 10300024 | D28: 소영임 | E28: 20000 | F28: 〃 | J28: □ 후원금액변동 공제자
A29: 23 | B29: 간호직 | C29: 10300025 | D29: 이영현 | E29: 30000 | F29: 〃 | J29: 연번 | K29: 직종 | L29: 직번 | M29: 성명 | N29: 기존 | O29: 변경 | P29: 비고(증감)
A30: 24 | B30: 간호직 | C30: 10300027 | D30: 이지선 | E30: 20000 | F30: 〃 | J30: 합계 | N30: =SUM(N31:N32) -> 0 | O30: =SUM(O31:O32) -> 0 | P30: =SUM(P31:P32) -> 0
A31: 25 | B31: 간호직 | C31: 10300029 | D31: 강선정 | E31: 2000 | F31: 〃 | J31: 1
A32: 26 | B32: 간호직 | C32: 10300031 | D32: 이미란 | E32: 10000 | F32: 〃 | J32: 2
A33: 27 | B33: 간호직 | C33: 10300034 | D33: 박순이 | E33: 20000 | F33: 〃
A34: 28 | B34: 간호직 | C34: 10300037 | D34: 김남신 | E34: 1000 | F34: 〃
A35: 29 | B35: 간호직 | C35: 10300045 | D35: 문의순 | E35: 20000 | F35: 〃 | M35: 2024.06.14.
A36: 30 | B36: 간호직 | C36: 10300047 | D36: 김미정 | E36: 5000 | F36: 〃 | L36: 작 성 자 : | M36: 보건의료복지통합지원실 윤정일
A37: 31 | B37: 간호직 | C37: 10300049 | D37: 박은경 | E37: 20000 | F37: 〃
A38: 32 | B38: 간호직 | C38: 10300058 | D38: 조영숙 | E38: 5000 | F38: 〃
A39: 33 | B39: 간호직 | C39: 10300064 | D39: 송은숙 | E39: 5000 | F39: 〃
A40: 34 | B40: 간호직 | C40: 10300071 | D40: 윤헌경 | E40: 20000 | F40: 〃
...

Sheet 5월
A1: 2024년 5월 사회복지후원금 공제 내역
J2: 구 분 | M2: 금액(원) | N2: 인원(명)
F3: 기준일 : 2024.05.10. | J3: A. 전월 공제 | M3: ='4월'!M8 -> 1486000 | N3: ='4월'!N8 -> 214
J4: B. 당월 변동액 / 인원 | M4: =M5-M6+M7 -> 29000 | N4: =N5-N6 -> 5
A5: 연번 | B5: 직종 | C5: 직번 | D5: 성명 | E5: 금액(원) | F5: 후원구분 | G5: 비고 | J5: 1. 신규 (+) | M5: =N14 -> 31000 | N5: 6
A6: 합계 | D6: =A225&" "&"명" -> 219 명 | E6: =SUM(E7:E225) -> 1535000 | J6: 2. 해지 (-) | M6: =N24 -> 2000 | N6: 1
A7: 1 | B7: 원 장 | C7: 10000001 | D7: 오진규 | E7: 50000 | F7: 정기후원 | J7: 4. 후원금액 변동(+) | M7: =P30 -> 0 | N7: -
A8: 2 | B8: 의사직 | C8: 10100002 | D8: 김정회 | E8: 10000 | F8: 〃 | J8: C. 당월 공제 (A+B) | M8: =E6 -> 1535000 | N8: =N3+N4 -> 219
A9: 3 | B9: 의사직 | C9: 10100017 | D9: 정문환 | E9: 10000 | F9: 〃
A10: 4 | B10: 의사직 | C10: 10100034 | D10: 오소영 | E10: 100000 | F10: 〃 | J10: < 변경사항 상세 >
A11: 5 | B11: 의사직 | C11: 10100049 | D11: 배강민 | E11: 10000 | F11: 〃
A12: 6 | B12: 의사직 | C12: 10100056 | D12: 장재호 | E12: 10000 | F12: 〃 | J12: □ 신규자
A13: 7 | B13: 의사직 | C13: 10100063 | D13: 김석기 | E13: 10000 | F13: 〃 | J13: 연번 | K13: 직종 | L13: 직번 | M13: 성명 | N13: 금액(원) | O13: 사유 | P13: 비고
A14: 8 | B14: 의사직 | C14: 10100084 | D14: 김기남 | E14: 30000 | F14: 〃 | J14: 합계 | K14: 6명 | N14: =SUM(N15:N20) -> 31000
A15: 9 | B15: 의사직 | C15: 10100085 | D15: 정수현 | E15: 10000 | F15: 〃 | J15: 1 | K15: 간호직 | L15: 10300466 | M15: 김순영 | N15: 5000 | O15: 재가입
A16: 10 | B16: 의사직 | C16: 10100117 | D16: 신호윤 | E16: 10000 | F16: 〃 | J16: 2 | K16: 보건직 | L16: 10400013 | M16: 황기석 | N16: 10000 | O16: 신규
A17: 11 | B17: 의사직 | C17: 10100170 | D17: 정재용 | E17: 50000 | F17: 〃 | J17: 3 | K17: 보건직 | L17: 10400074 | M17: 송지훈 | N17: 5000 | O17: 〃
A18: 12 | B18: 약사직 | C18: 10200002 | D18: 이경옥 | E18: 50000 | F18: 〃 | J18: 4 | K18: 사무직 | L18: 10500025 | M18: 장세정 | N18: 1000 | O18: 재가입
A19: 13 | B19: 간호직 | C19: 10300012 | D19: 박연임 | E19: 10000 | F19: 〃 | J19: 5 | K19: 사무직 | L19: 10500031 | M19: 박소형 | N19: 2000 | O19: 신규
A20: 14 | B20: 간호직 | C20: 10300013 | D20: 원은정 | E20: 5000 | F20: 〃 | J20: 6 | K20: 사무직 | L20: 10500058 | M20: 박세직 | N20: 8000 | O20: 〃
A21: 15 | B21: 간호직 | C21: 10300014 | D21: 이영성 | E21: 10000 | F21: 〃
A22: 16 | B22: 간호직 | C22: 10300015 | D22: 최금숙 | E22: 10000 | F22: 〃 | J22: □ 해지자
A23: 17 | B23: 간호직 | C23: 10300016 | D23: 박복선 | E23: 2000 | F23: 〃 | J23: 연번 | K23: 직종 | L23: 직번 | M23: 성명 | N23: 금액(원) | O23: 사유 | P23: 비고
A24: 18 | B24: 간호직 | C24: 10300018 | D24: 정미숙 | E24: 2000 | F24: 〃 | J24: 합계 | K24: 1명 | N24: =SUM(N25:N26) -> 2000
A25: 19 | B25: 간호직 | C25: 10300019 | D25: 서현순 | E25: 5000 | F25: 〃 | J25: 1 | K25: 간호직 | L25: 10300477 | M25: 오지영 | N25: 2000
A26: 20 | B26: 간호직 | C26: 10300022 | D26: 장민순 | E26: 10000 | F26: 〃 | J26: 2
A27: 21 | B27: 간호직 | C27: 10300023 | D27: 최정아 | E27: 5000 | F27: 〃
A28: 22 | B28: 간호직 | C28: 10300024 | D28: 소영임 | E28: 20000 | F28: 〃 | J28: □ 후원금액변동 공제자
A29: 23 | B29: 간호직 | C29: 10300025 | D29: 이영현 | E29: 30000 | F29: 〃 | J29: 연번 | K29: 직종 | L29: 직번 | M29: 성명 | N29: 기존 | O29: 변경 | P29: 비고(증감)
A30: 24 | B30: 간호직 | C30: 10300027 | D30: 이지선 | E30: 20000 | F30: 〃 | J30: 합계 | N30: =SUM(N31:N32) -> 0 | O30: =SUM(O31:O32) -> 0 | P30: =SUM(P31:P32) -> 0
A31: 25 | B31: 간호직 | C31: 10300029 | D31: 강선정 | E31: 2000 | F31: 〃 | J31: 1
A32: 26 | B32: 간호직 | C32: 10300031 | D32: 이미란 | E32: 10000 | F32: 〃 | J32: 2
A33: 27 | B33: 간호직 | C33: 10300034 | D33: 박순이 | E33: 20000 | F33: 〃
A34: 28 | B34: 간호직 | C34: 10300037 | D34: 김남신 | E34: 1000 | F34: 〃
A35: 29 | B35: 간호직 | C35: 10300045 | D35: 문의순 | E35: 20000 | F35: 〃 | M35: 2024.05.10.
A36: 30 | B36: 간호직 | C36: 10300047 | D36: 김미정 | E36: 5000 | F36: 〃 | L36: 작 성 자 : | M36: 보건의료복지통합지원실 윤정일
A37: 31 | B37: 간호직 | C37: 10300049 | D37: 박은경 | E37: 20000 | F37: 〃
A38: 32 | B38: 간호직 | C38: 10300058 | D38: 조영숙 | E38: 5000 | F38: 〃
A39: 33 | B39: 간호직 | C39: 10300064 | D39: 송은숙 | E39: 5000 | F39: 〃
A40: 34 | B40: 간호직 | C40: 10300071 | D40: 윤헌경 | E40: 20000 | F40: 〃
...

Sheet 4월
A1: 2024년 4월 사회복지후원금 공제 내역
J2: 구 분 | M2: 금액(원) | N2: 인원(명)
F3: 기준일 : 2024.04.12. | J3: A. 전월 공제 | M3: ='3월'!M8 -> 1528000 | N3: ='3월'!N8 -> 214
J4: B. 당월 변동액 / 인원 | M4: =M5-M6+M7 -> -22000 | N4: =N5-N6 -> 0
A5: 연번 | B5: 직종 | C5: 직번 | D5: 성명 | E5: 금액(원) | F5: 후원구분 | G5: 비고 | J5: 1. 신규 (+) | M5: =N14 -> 10000 | N5: 2
A6: 합계 | D6: =A220&" "&"명" -> 213 명 | E6: =SUM(E7:E220) -> 1486000 | J6: 2. 해지 (-) | M6: =N20 -> 2000 | N6: 2
A7: 1 | B7: 원 장 | C7: 10000001 | D7: 오진규 | E7: 50000 | F7: 정기후원 | J7: 4. 후원금액 변동(+) | M7: =P26 -> -30000 | N7: 1
A8: 2 | B8: 의사직 | C8: 10100002 | D8: 김정회 | E8: 10000 | F8: 〃 | J8: C. 당월 공제 (A+B) | M8: =E6 -> 1486000 | N8: =N3+N4 -> 214
A9: 3 | B9: 의사직 | C9: 10100017 | D9: 정문환 | E9: 10000 | F9: 〃
A10: 4 | B10: 의사직 | C10: 10100034 | D10: 오소영 | E10: 100000 | F10: 〃 | J10: < 변경사항 상세 >
A11: 5 | B11: 의사직 | C11: 10100049 | D11: 배강민 | E11: 10000 | F11: 〃
A12: 6 | B12: 의사직 | C12: 10100056 | D12: 장재호 | E12: 10000 | F12: 〃 | J12: □ 신규자
A13: 7 | B13: 의사직 | C13: 10100063 | D13: 김석기 | E13: 10000 | F13: 〃 | J13: 연번 | K13: 직종 | L13: 직번 | M13: 성명 | N13: 금액(원) | O13: 사유 | P13: 비고
A14: 8 | B14: 의사직 | C14: 10100084 | D14: 김기남 | E14: 30000 | F14: 〃 | J14: 합계 | N14: =SUM(N15:N16) -> 10000
A15: 9 | B15: 의사직 | C15: 10100085 | D15: 정수현 | E15: 10000 | F15: 〃 | J15: 1 | K15: 간호직 | L15: 10300515 | M15: 안효인 | N15: 5000
A16: 10 | B16: 의사직 | C16: 10100117 | D16: 신호윤 | E16: 10000 | F16: 〃 | J16: 2 | K16: 간호직 | L16: 11300004 | M16: 이도희 | N16: 5000
A17: 11 | B17: 의사직 | C17: 10100170 | D17: 정재용 | E17: 50000 | F17: 〃
A18: 12 | B18: 약사직 | C18: 10200002 | D18: 이경옥 | E18: 50000 | F18: 〃 | J18: □ 해지자
A19: 13 | B19: 간호직 | C19: 10300012 | D19: 박연임 | E19: 10000 | F19: 〃 | J19: 연번 | K19: 직종 | L19: 직번 | M19: 성명 | N19: 금액(원) | O19: 사유 | P19: 비고
A20: 14 | B20: 간호직 | C20: 10300013 | D20: 원은정 | E20: 5000 | F20: 〃 | J20: 합계 | N20: =SUM(N21:N22) -> 2000
A21: 15 | B21: 간호직 | C21: 10300014 | D21: 이영성 | E21: 10000 | F21: 〃 | J21: 1 | K21: 간호직 | L21: 10300493 | M21: 전희수 | N21: 1000
A22: 16 | B22: 간호직 | C22: 10300015 | D22: 최금숙 | E22: 10000 | F22: 〃 | J22: 2 | K22: 간호직 | L22: 10300506 | M22: 장세휘 | N22: 1000
A23: 17 | B23: 간호직 | C23: 10300016 | D23: 박복선 | E23: 2000 | F23: 〃
A24: 18 | B24: 간호직 | C24: 10300018 | D24: 정미숙 | E24: 2000 | F24: 〃 | J24: □ 후원금액변동 공제자
A25: 19 | B25: 간호직 | C25: 10300019 | D25: 서현순 | E25: 5000 | F25: 〃 | J25: 연번 | K25: 직종 | L25: 직번 | M25: 성명 | N25: 기존 | O25: 변경 | P25: 비고(증감)
A26: 20 | B26: 간호직 | C26: 10300022 | D26: 장민순 | E26: 10000 | F26: 〃 | J26: 합계 | N26: =SUM(N27:N28) -> 50000 | O26: =SUM(O27:O28) -> 20000 | P26: =SUM(P27:P28) -> -30000
A27: 21 | B27: 간호직 | C27: 10300023 | D27: 최정아 | E27: 5000 | F27: 〃 | J27: 1 | K27: 보건직 | L27: 10400040 | M27: 황현진 | N27: 50000 | O27: 20000 | P27: =O27-N27 -> -30000
A28: 22 | B28: 간호직 | C28: 10300024 | D28: 소영임 | E28: 20000 | F28: 〃 | J28: 2
A29: 23 | B29: 간호직 | C29: 10300025 | D29: 이영현 | E29: 30000 | F29: 〃
A30: 24 | B30: 간호직 | C30: 10300027 | D30: 이지선 | E30: 20000 | F30: 〃
A31: 25 | B31: 간호직 | C31: 10300029 | D31: 강선정 | E31: 2000 | F31: 〃 | M31: 2024.03.15.
A32: 26 | B32: 간호직 | C32: 10300031 | D32: 이미란 | E32: 10000 | F32: 〃 | L32: 작 성 자 : | M32: 보건의료복지통합지원실 윤정일
A33: 27 | B33: 간호직 | C33: 10300034 | D33: 박순이 | E33: 20000 | F33: 〃
A34: 28 | B34: 간호직 | C34: 10300037 | D34: 김남신 | E34: 1000 | F34: 〃
A35: 누락 | B35: 간호직 | C35: 10300045 | D35: 문의순 | F35: 〃
A36: 29 | B36: 간호직 | C36: 10300047 | D36: 김미정 | E36: 5000 | F36: 〃
A37: 30 | B37: 간호직 | C37: 10300049 | D37: 박은경 | E37: 20000 | F37: 〃
A38: 31 | B38: 간호직 | C38: 10300058 | D38: 조영숙 | E38: 5000 | F38: 〃
A39: 32 | B39: 간호직 | C39: 10300064 | D39: 송은숙 | E39: 5000 | F39: 〃
A40: 33 | B40: 간호직 | C40: 10300071 | D40: 윤헌경 | E40: 20000 | F40: 〃
...

Sheet 3월
A1: 2024년 3월 사회복지후원금 공제 내역
J2: 구 분 | M2: 금액(원) | N2: 인원(명)
F3: 기준일 : 2024.03.15. | J3: A. 전월 공제 | M3: ='2월'!M8 -> 1473000 | N3: ='2월'!N8 -> 199
J4: B. 당월 변동액 / 인원 | M4: =M5-M6+M7 -> 55000 | N4: =N5-N6 -> 15
A5: 연번 | B5: 직종 | C5: 직번 | D5: 성명 | E5: 금액(원) | F5: 후원구분 | G5: 비고 | J5: 1. 신규 (+) | M5: =N14 -> 80000 | N5: 16
A6: 합계 | D6: =A220&" "&"명" -> 214 명 | E6: =SUM(E7:E220) -> 1528000 | J6: 2. 해지 (-) | M6: =N34 -> 5000 | N6: 1
A7: 1 | B7: 원 장 | C7: 10000001 | D7: 오진규 | E7: 50000 | F7: 정기후원 | J7: 4. 후원금액 변동(+) | M7: =P40 -> -20000 | N7: 2
A8: 2 | B8: 의사직 | C8: 10100002 | D8: 김정회 | E8: 10000 | F8: 〃 | J8: C. 당월 공제 (A+B) | M8: =M3+M4 -> 1528000 | N8: =N3+N4 -> 214
A9: 3 | B9: 의사직 | C9: 10100017 | D9: 정문환 | E9: 10000 | F9: 〃
A10: 4 | B10: 의사직 | C10: 10100034 | D10: 오소영 | E10: 100000 | F10: 〃 | J10: < 변경사항 상세 >
A11: 5 | B11: 의사직 | C11: 10100049 | D11: 배강민 | E11: 10000 | F11: 〃
A12: 6 | B12: 의사직 | C12: 10100056 | D12: 장재호 | E12: 10000 | F12: 〃 | J12: □ 신규자
A13: 7 | B13: 의사직 | C13: 10100063 | D13: 김석기 | E13: 10000 | F13: 〃 | J13: 연번 | K13: 직종 | L13: 직번 | M13: 성명 | N13: 금액(원) | O13: 사유 | P13: 비고
A14: 8 | B14: 의사직 | C14: 10100084 | D14: 김기남 | E14: 30000 | F14: 〃 | J14: 합계 | N14: =SUM(N15:N30) -> 80000
A15: 9 | B15: 의사직 | C15: 10100085 | D15: 정수현 | E15: 10000 | F15: 〃 | J15: 1 | K15: 간호직 | L15: 10300502 | M15: 최지원 | N15: 1000 | O15: 신규
A16: 10 | B16: 의사직 | C16: 10100117 | D16: 신호윤 | E16: 10000 | F16: 〃 | J16: 2 | K16: 간호직 | L16: 10300503 | M16: 정경란 | N16: 5000 | O16: 신규
A17: 11 | B17: 의사직 | C17: 10100170 | D17: 정재용 | E17: 50000 | F17: 〃 | J17: 3 | K17: 간호직 | L17: 10300504 | M17: 조세나 | N17: 5000 | O17: 신규
A18: 12 | B18: 약사직 | C18: 10200002 | D18: 이경옥 | E18: 50000 | F18: 〃 | J18: 4 | K18: 간호직 | L18: 10300505 | M18: 박강희 | N18: 1000 | O18: 신규
A19: 13 | B19: 간호직 | C19: 10300012 | D19: 박연임 | E19: 10000 | F19: 〃 | J19: 5 | K19: 간호직 | L19: 10300506 | M19: 장세휘 | N19: 1000 | O19: 신규
A20: 14 | B20: 간호직 | C20: 10300013 | D20: 원은정 | E20: 5000 | F20: 〃 | J20: 6 | K20: 간호직 | L20: 10300507 | M20: 손수진 | N20: 10000 | O20: 신규
A21: 15 | B21: 간호직 | C21: 10300014 | D21: 이영성 | E21: 10000 | F21: 〃 | J21: 7 | K21: 간호직 | L21: 10300508 | M21: 윤다휘 | N21: 1000 | O21: 신규
A22: 16 | B22: 간호직 | C22: 10300015 | D22: 최금숙 | E22: 10000 | F22: 〃 | J22: 8 | K22: 간호직 | L22: 10300509 | M22: 김해원 | N22: 5000 | O22: 신규
A23: 17 | B23: 간호직 | C23: 10300016 | D23: 박복선 | E23: 2000 | F23: 〃 | J23: 9 | K23: 간호직 | L23: 10300510 | M23: 정가은 | N23: 5000 | O23: 신규
A24: 18 | B24: 간호직 | C24: 10300018 | D24: 정미숙 | E24: 2000 | F24: 〃 | J24: 10 | K24: 간호직 | L24: 10300511 | M24: 김성수 | N24: 5000 | O24: 신규
A25: 19 | B25: 간호직 | C25: 10300019 | D25: 서현순 | E25: 5000 | F25: 〃 | J25: 11 | K25: 간호직 | L25: 10300512 | M25: 허혜진 | N25: 1000 | O25: 신규
A26: 20 | B26: 간호직 | C26: 10300022 | D26: 장민순 | E26: 10000 | F26: 〃 | J26: 12 | K26: 간호직 | L26: 10300513 | M26: 김윤성 | N26: 5000 | O26: 신규
... A30: 24 | B30: 간호직 | C30: 10300027 | D30: 이지선 | E30: 20000 | F30: 〃 | J30: 16 | K30: 보건직 | L30: 10400077 | M30: 송은규 | N30: 10000 | O30: 신규
A31: 25 | B31: 간호직 | C31: 10300029 | D31: 강선정 | E31: 2000 | F31: 〃
A32: 26 | B32: 간호직 | C32: 10300031 | D32: 이미란 | E32: 10000 | F32: 〃 | J32: □ 해지자
A33: 27 | B33: 간호직 | C33: 10300034 | D33: 박순이 | E33: 20000 | F33: 〃 | J33: 연번 | K33: 직종 | L33: 직번 | M33: 성명 | N33: 금액(원) | O33: 사유 | P33: 비고
A34: 28 | B34: 간호직 | C34: 10300037 | D34: 김남신 | E34: 1000 | F34: 〃 | J34: 합계 | N34: =SUM(N35:N36) -> 5000
A35: 29 | B35: 간호직 | C35: 10300045 | D35: 문의순 | E35: 20000 | F35: 〃 | J35: 1 | K35: 간호직 | L35: 10300501 | M35: 한우림 | N35: 5000 | O35: 퇴사
A36: 30 | B36: 간호직 | C36: 10300047 | D36: 김미정 | E36: 5000 | F36: 〃 | J36: 2
A37: 31 | B37: 간호직 | C37: 10300049 | D37: 박은경 | E37: 20000 | F37: 〃
A38: 32 | B38: 간호직 | C38: 10300058 | D38: 조영숙 | E38: 5000 | F38: 〃 | J38: □ 후원금액변동 공제자
A39: 33 | B39: 간호직 | C39: 10300064 | D39: 송은숙 | E39: 5000 | F39: 〃 | J39: 연번 | K39: 직종 | L39: 직번 | M39: 성명 | N39: 기존 | O39: 변경 | P39: 비고(증감)
A40: 34 | B40: 간호직 | C40: 10300071 | D40: 윤헌경 | E40: 20000 | F40: 〃 | J40: 합계 | N40: =SUM(N41:N42) -> 30000 | O40: =SUM(O41:O42) -> 10000 | P40: =SUM(P41:P42) -> -20000
A41: 35 | B41: 간호직 | C41: 10300073 | D41: 김난희 | E41: 5000 | F41: 〃 | J41: 1 | K41: 간호직 | L41: 10300230 | M41: 박정원 | N41: 20000 | O41: 5000 | P41: =O41-N41 -> -15000
A42: 36 | B42: 간호직 | C42: 10300074 | D42: 김효순 | E42: 5000 | F42: 〃 | J42: 2 | K42: 간호직 | L42: 10300126 | M42: 최은영 | N42: 10000 | O42: 5000 | P42: =O42-N42 -> -5000
A43: 37 | B43: 간호직 | C43: 10300077 | D43: 정분남 | E43: 1000 | F43: 〃
...

Sheet 2월
A1: 2024년 2월 사회복지후원금 공제 내역
J2: 구 분 | M2: 금액(원) | N2: 인원(명)
F3: 기준일 : 2024.02.16. | J3: A. 전월 공제 | M3: ='1월'!M8 -> 1474000 | N3: ='1월'!N8 -> 200
J4: B. 당월 변동액 / 인원 | M4: =M5-M6+M7 -> -1000 | N4: =N5-N6 -> -1
A5: 연번 | B5: 직종 | C5: 직번 | D5: 성명 | E5: 금액(원) | F5: 후원구분 | G5: 비고 | J5: 1. 신규 (+) | M5: =N14 -> 0 | N5: 0
A6: 합계 | D6: =A205&" "&"명" -> 199 명 | E6: =SUM(E7:E205) -> 1473000 | J6: 2. 해지 (-) | M6: =N23 -> 1000 | N6: 1
A7: 1 | B7: 원 장 | C7: 10000001 | D7: 오진규 | E7: 50000 | F7: 정기후원 | J7: 4. 후원금액 변동(+)
A8: 2 | B8: 의사직 | C8: 10100002 | D8: 김정회 | E8: 10000 | F8: 〃 | J8: C. 당월 공제 (A+B) | M8: =M3+M4 -> 1473000 | N8: =N3+N4 -> 199
A9: 3 | B9: 의사직 | C9: 10100017 | D9: 정문환 | E9: 10000 | F9: 〃
A10: 4 | B10: 의사직 | C10: 10100034 | D10: 오소영 | E10: 100000 | F10: 〃 | J10: < 변경사항 상세 >
A11: 5 | B11: 의사직 | C11: 10100049 | D11: 배강민 | E11: 10000 | F11: 〃
A12: 6 | B12: 의사직 | C12: 10100056 | D12: 장재호 | E12: 10000 | F12: 〃 | J12: □ 신규자
A13: 7 | B13: 의사직 | C13: 10100063 | D13: 김석기 | E13: 10000 | F13: 〃 | J13: 연번 | K13: 직종 | L13: 직번 | M13: 성명 | N13: 금액(원) | O13: 사유 | P13: 비고
A14: 8 | B14: 의사직 | C14: 10100084 | D14: 김기남 | E14: 30000 | F14: 〃 | J14: 합계 | N14: =SUM(N15:N19) -> 0
A15: 9 | B15: 의사직 | C15: 10100085 | D15: 정수현 | E15: 10000 | F15: 〃 | J15: 1
A16: 10 | B16: 의사직 | C16: 10100117 | D16: 신호윤 | E16: 10000 | F16: 〃 | J16: 2
A17: 11 | B17: 의사직 | C17: 10100170 | D17: 정재용 | E17: 50000 | F17: 〃 | J17: 3
A18: 12 | B18: 약사직 | C18: 10200002 | D18: 이경옥 | E18: 50000 | F18: 〃 | J18: 4
A19: 13 | B19: 간호직 | C19: 10300012 | D19: 박연임 | E19: 10000 | F19: 〃 | J19: 5
A20: 14 | B20: 간호직 | C20: 10300013 | D20: 원은정 | E20: 5000 | F20: 〃
A21: 15 | B21: 간호직 | C21: 10300014 | D21: 이영성 | E21: 10000 | F21: 〃 | J21: □ 해지자
A22: 16 | B22: 간호직 | C22: 10300015 | D22: 최금숙 | E22: 10000 | F22: 〃 | J22: 연번 | K22: 직종 | L22: 직번 | M22: 성명 | N22: 금액(원) | O22: 사유 | P22: 비고
A23: 17 | B23: 간호직 | C23: 10300016 | D23: 박복선 | E23: 2000 | F23: 〃 | J23: 합계 | M23: 1명 | N23: =SUM(N24:N25) -> 1000
A24: 18 | B24: 간호직 | C24: 10300018 | D24: 정미숙 | E24: 2000 | F24: 〃 | J24: 1 | K24: 간호직 | L24: 10300496 | M24: 김현주 | N24: 1000 | O24: 해지
A25: 19 | B25: 간호직 | C25: 10300019 | D25: 서현순 | E25: 5000 | F25: 〃 | J25: 2
A26: 20 | B26: 간호직 | C26: 10300022 | D26: 장민순 | E26: 10000 | F26: 〃
A27: 21 | B27: 간호직 | C27: 10300023 | D27: 최정아 | E27: 5000 | F27: 〃 | J27: □ 후원금액변동 공제자
A28: 22 | B28: 간호직 | C28: 10300024 | D28: 소영임 | E28: 20000 | F28: 〃 | J28: 연번 | K28: 직종 | L28: 직번 | M28: 성명 | N28: 기존 | O28: 변경 | P28: 비고(증감)
A29: 23 | B29: 간호직 | C29: 10300025 | D29: 이영현 | E29: 30000 | F29: 〃 | J29: 합계 | N29: =SUM(N30:N30) -> 0 | O29: =SUM(O30:O30) -> 0 | P29: =SUM(P30:P30) -> 0
A30: 24 | B30: 간호직 | C30: 10300027 | D30: 이지선 | E30: 20000 | F30: 〃 | J30: 1
A31: 25 | B31: 간호직 | C31: 10300029 | D31: 강선정 | E31: 2000 | F31: 〃
A32: 26 | B32: 간호직 | C32: 10300031 | D32: 이미란 | E32: 10000 | F32: 〃
A33: 27 | B33: 간호직 | C33: 10300034 | D33: 박순이 | E33: 20000 | F33: 〃 | M33: 2024.02.16.
A34: 28 | B34: 간호직 | C34: 10300037 | D34: 김남신 | E34: 1000 | F34: 〃 | L34: 작 성 자 : | M34: 보건의료복지통합지원실 윤정일
A35: 29 | B35: 간호직 | C35: 10300045 | D35: 문의순 | E35: 20000 | F35: 〃
A36: 30 | B36: 간호직 | C36: 10300047 | D36: 김미정 | E36: 5000 | F36: 〃
A37: 31 | B37: 간호직 | C37: 10300049 | D37: 박은경 | E37: 20000 | F37: 〃
A38: 32 | B38: 간호직 | C38: 10300058 | D38: 조영숙 | E38: 5000 | F38: 〃
A39: 33 | B39: 간호직 | C39: 10300064 | D39: 송은숙 | E39: 5000 | F39: 〃
A40: 34 | B40: 간호직 | C40: 10300071 | D40: 윤헌경 | E40: 20000 | F40: 〃
...

Sheet 1월
A1: 2024년 1월 사회복지후원금 공제 내역
J2: 구 분 | M2: 금액(원) | N2: 인원(명)
F3: 기준일 : 2024.01.15. | J3: A. 전월 공제 | M3: 1454000 | N3: 197
J4: B. 당월 변동액 / 인원 | M4: =M5-M6+M7 -> 20000 | N4: =N5-N6 -> 3
A5: 연번 | B5: 직종 | C5: 직번 | D5: 성명 | E5: 금액(원) | F5: 후원구분 | G5: 비고 | J5: 1. 신규 (+) | M5: =N14 -> 26000 | N5: 5
A6: 합계 | D6: =A206&" "&"명" -> 199 명 | E6: =SUM(E7:E206) -> 1424000 | J6: 2. 해지 (-) | M6: =N23 -> 6000 | N6: 2
B7: 원 장 | C7: 10000001 | D7: 오진규 | F7: 정기후원 | J7: 4. 후원금액 변동(+)
A8: 1 | B8: 의사직 | C8: 10100002 | D8: 김정회 | E8: 10000 | F8: 〃 | J8: C. 당월 공제 (A+B) | M8: =M3+M4 -> 1474000 | N8: =N3+N4 -> 200
A9: 2 | B9: 의사직 | C9: 10100017 | D9: 정문환 | E9: 10000 | F9: 〃
A10: 3 | B10: 의사직 | C10: 10100034 | D10: 오소영 | E10: 100000 | F10: 〃 | J10: < 변경사항 상세 >
A11: 4 | B11: 의사직 | C11: 10100049 | D11: 배강민 | E11: 10000 | F11: 〃
A12: 5 | B12: 의사직 | C12: 10100056 | D12: 장재호 | E12: 10000 | F12: 〃 | J12: □ 신규자
A13: 6 | B13: 의사직 | C13: 10100063 | D13: 김석기 | E13: 10000 | F13: 〃 | J13: 연번 | K13: 직종 | L13: 직번 | M13: 성명 | N13: 금액(원) | O13: 사유 | P13: 비고
A14: 7 | B14: 의사직 | C14: 10100084 | D14: 김기남 | E14: 30000 | F14: 〃 | J14: 합계 | M14: 5명 | N14: =SUM(N15:N19) -> 26000
A15: 8 | B15: 의사직 | C15: 10100085 | D15: 정수현 | E15: 10000 | F15: 〃 | J15: 1 | K15: 간호직 | L15: 10300486 | M15: 이수빈 | N15: 1000 | O15: 신규
A16: 9 | B16: 의사직 | C16: 10100117 | D16: 신호윤 | E16: 10000 | F16: 〃 | J16: 2 | K16: 간호직 | L16: 10300498 | M16: 김예은 | N16: 5000 | O16: 신규
A17: 10 | B17: 의사직 | C17: 10100170 | D17: 정재용 | E17: 50000 | F17: 〃 | J17: 3 | K17: 간호직 | L17: 10300499 | M17: 김아람 | N17: 5000 | O17: 신규
A18: 11 | B18: 약사직 | C18: 10200002 | D18: 이경옥 | E18: 50000 | F18: 〃 | J18: 4 | K18: 간호직 | L18: 10300500 | M18: 정소이 | N18: 10000 | O18: 신규
A19: 12 | B19: 간호직 | C19: 10300012 | D19: 박연임 | E19: 10000 | F19: 〃 | J19: 5 | K19: 간호직 | L19: 10300501 | M19: 한우림 | N19: 5000 | O19: 신규
A20: 13 | B20: 간호직 | C20: 10300013 | D20: 원은정 | E20: 5000 | F20: 〃
A21: 14 | B21: 간호직 | C21: 10300014 | D21: 이영성 | E21: 10000 | F21: 〃 | J21: □ 해지자
A22: 15 | B22: 간호직 | C22: 10300015 | D22: 최금숙 | E22: 10000 | F22: 〃 | J22: 연번 | K22: 직종 | L22: 직번 | M22: 성명 | N22: 금액(원) | O22: 사유 | P22: 비고
A23: 16 | B23: 간호직 | C23: 10300016 | D23: 박복선 | E23: 2000 | F23: 〃 | J23: 합계 | M23: 2명 | N23: =SUM(N24:N25) -> 6000
A24: 17 | B24: 간호직 | C24: 10300018 | D24: 정미숙 | E24: 2000 | F24: 〃 | J24: 1 | K24: 간호조무직 | L24: 10700105 | M24: 임경숙 | N24: 1000 | O24: 퇴사
A25: 18 | B25: 간호직 | C25: 10300019 | D25: 서현순 | E25: 5000 | F25: 〃 | J25: 2 | K25: 시설관리직 | L25: 11100363 | M25: 강보경 | N25: 5000 | O25: 퇴사
A26: 19 | B26: 간호직 | C26: 10300022 | D26: 장민순 | E26: 10000 | F26: 〃
A27: 20 | B27: 간호직 | C27: 10300023 | D27: 최정아 | E27: 5000 | F27: 〃 | J27: □ 후원금액변동 공제자
A28: 21 | B28: 간호직 | C28: 10300024 | D28: 소영임 | E28: 20000 | F28: 〃 | J28: 연번 | K28: 직종 | L28: 직번 | M28: 성명 | N28: 기존 | O28: 변경 | P28: 비고(증감)
A29: 22 | B29: 간호직 | C29: 10300025 | D29: 이영현 | E29: 30000 | F29: 〃 | J29: 합계 | N29: =SUM(N30:N30) -> 0 | O29: =SUM(O30:O30) -> 0 | P29: =SUM(P30:P30) -> 0
A30: 23 | B30: 간호직 | C30: 10300027 | D30: 이지선 | E30: 20000 | F30: 〃 | J30: 1
A31: 24 | B31: 간호직 | C31: 10300029 | D31: 강선정 | E31: 2000 | F31: 〃
A32: 25 | B32: 간호직 | C32: 10300031 | D32: 이미란 | E32: 10000 | F32: 〃
A33: 26 | B33: 간호직 | C33: 10300034 | D33: 박순이 | E33: 20000 | F33: 〃 | M33: 2024.01.05.
A34: 27 | B34: 간호직 | C34: 10300037 | D34: 김남신 | E34: 1000 | F34: 〃 | L34: 작 성 자 : | M34: 보건의료복지통합지원실 윤정일
A35: 28 | B35: 간호직 | C35: 10300045 | D35: 문의순 | E35: 20000 | F35: 〃
A36: 29 | B36: 간호직 | C36: 10300047 | D36: 김미정 | E36: 5000 | F36: 〃
A37: 30 | B37: 간호직 | C37: 10300049 | D37: 박은경 | E37: 20000 | F37: 〃
A38: 31 | B38: 간호직 | C38: 10300058 | D38: 조영숙 | E38: 5000 | F38: 〃
A39: 32 | B39: 간호직 | C39: 10300064 | D39: 송은숙 | E39: 5000 | F39: 〃
A40: 33 | B40: 간호직 | C40: 10300071 | D40: 윤헌경 | E40: 20000 | F40: 〃
...
