Workbook

Sheet 12월
A1: 2024년 12월 사회복지후원금 공제 내역
J2: 구 분 | M2: 금액(원) | N2: 인원(명)
F3: 기준일 : 2024.12.17. | J3: A. 전월 공제 | M3: ='11월'!M8 -> 1448000 | N3: ='11월'!N8 -> 210 명
J4: B. 당월 변동액 / 인원 | M4: =M5-M6+M7 -> -3000 | N4: =N5-N6 -> 0
A5: 연번 | B5: 직종 | C5: 직번 | D5: 성명 | E5: 금액(원) | F5: 후원구분 | G5: 비고 | J5: 1. 신규 (+) | M5: =N14 -> 5000 | N5: 1
A6: 합계 | D6: =A216&" "&"명" -> 210 명 | E6: =SUM(E7:E216) -> 1445000 | J6: 2. 해지 (-) | M6: =N24 -> 8000 | N6: 1
A7: 1 | B7: 원 장 | C7: 10000001 | D7: 오진규 | E7: 50000 | F7: 정기후원 | J7: 4. 후원금액 변동(+) | M7: =P34 -> 0 | N7: 0
A8: 2 | B8: 의사직 | C8: 10100002 | D8: 김정회 | E8: 10000 | F8: 〃 | J8: C. 당월 공제 (A+B) | M8: =E6 -> 1445000 | N8: =D6 -> 210 명
A9: 3 | B9: 의사직 | C9: 10100017 | D9: 정문환 | E9: 10000 | F9: 〃
A10: 4 | B10: 의사직 | C10: 10100034 | D10: 오소영 | E10: 100000 | F10: 〃 | J10: < 변경사항 상세 >
A11: 5 | B11: 의사직 | C11: 10100049 | D11: 배강민 | E11: 10000 | F11: 〃
A12: 6 | B12: 의사직 | C12: 10100056 | D12: 장재호 | E12: 10000 | F12: 〃 | J12: □ 신규자
A13: 7 | B13: 의사직 | C13: 10100063 | D13: 김석기 | E13: 10000 | F13: 〃 | J13: 연번 | K13: 직종 | L13: 직번 | M13: 성명 | N13: 금액(원) | O13: 사유 | P13: 비고
A14: 8 | B14: 의사직 | C14: 10100084 | D14: 김기남 | E14: 30000 | F14: 〃 | J14: 합계 | K14: 1명 | N14: =SUM(N15:N20) -> 5000
A15: 9 | B15: 의사직 | C15: 10100085 | D15: 정수현 | E15: 10000 | F15: 〃 | J15: 1 | K15: 사무직 | L15: 10500060 | M15: 서주리 | N15: 5000
A16: 10 | B16: 의사직 | C16: 10100117 | D16: 신호윤 | E16: 10000 | F16: 〃 | J16: 2
A17: 11 | B17: 의사직 | C17: 10100170 | D17: 정재용 | E17: 50000 | F17: 〃 | J17: 3
A18: 12 | B18: 약사직 | C18: 10200002 | D18: 이경옥 | E18: 50000 | F18: 〃 | J18: 4
A19: 13 | B19: 간호직 | C19: 10300012 | D19: 박연임 | E19: 10000 | F19: 〃 | J19: 5
A20: 14 | B20: 간호직 | C20: 10300013 | D20: 원은정 | E20: 5000 | F20: 〃 | J20: 6
A21: 15 | B21: 간호직 | C21: 10300014 | D21: 이영성 | E21: 10000 | F21: 〃
A22: 16 | B22: 간호직 | C22: 10300015 | D22: 최금숙 | E22: 10000 | F22: 〃 | J22: □ 해지자
A23: 17 | B23: 간호직 | C23: 10300016 | D23: 박복선 | E23: 2000 | F23: 〃 | J23: 연번 | K23: 직종 | L23: 직번 | M23: 성명 | N23: 금액(원) | O23: 사유 | P23: 비고
A24: 18 | B24: 간호직 | C24: 10300018 | D24: 정미숙 | E24: 2000 | F24: 〃 | J24: 합계 | K24: 1명 | N24: =SUM(N25:N30) -> 8000
A25: 19 | B25: 간호직 | C25: 10300019 | D25: 서현순 | E25: 5000 | F25: 〃 | J25: 1 | K25: 사무직 | L25: 10500058 | M25: 박세직 | N25: 8000 | O25: 육아 휴직
A26: 20 | B26: 간호직 | C26: 10300022 | D26: 장민순 | E26: 10000 | F26: 〃 | J26: 2
A27: 21 | B27: 간호직 | C27: 10300023 | D27: 최정아 | E27: 5000 | F27: 〃 | J27: 3
A28: 22 | B28: 간호직 | C28: 10300024 | D28: 소영임 | E28: 20000 | F28: 〃 | J28: 4
A29: 23 | B29: 간호직 | C29: 10300025 | D29: 이영현 | E29: 30000 | F29: 〃 | J29: 5
A30: 24 | B30: 간호직 | C30: 10300027 | D30: 이지선 | E30: 20000 | F30: 〃 | J30: 6
A31: 25 | B31: 간호직 | C31: 10300029 | D31: 강선정 | E31: 2000 | F31: 〃
A32: 26 | B32: 간호직 | C32: 10300031 | D32: 이미란 | E32: 10000 | F32: 〃 | J32: □ 후원금액변동 공제자
A33: 27 | B33: 간호직 | C33: 10300034 | D33: 박순이 | E33: 20000 | F33: 〃 | J33: 연번 | K33: 직종 | L33: 직번 | M33: 성명 | N33: 기존 | O33: 변경 | P33: 비고(증감)
A34: 28 | B34: 간호직 | C34: 10300037 | D34: 김남신 | E34: 1000 | F34: 〃 | J34: 합계 | N34: =SUM(N35:N36) -> 0 | O34: =SUM(O35:O36) -> 0 | P34: =SUM(P35:P36) -> 0
A35: 29 | B35: 간호직 | C35: 10300045 | D35: 문의순 | E35: 20000 | F35: 〃 | J35: 1
A36: 30 | B36: 간호직 | C36: 10300047 | D36: 김미정 | E36: 5000 | F36: 〃 | J36: 2
A37: 31 | B37: 간호직 | C37: 10300049 | D37: 박은경 | E37: 20000 | F37: 〃
A38: 32 | B38: 간호직 | C38: 10300058 | D38: 조영숙 | E38: 5000 | F38: 〃
A39: 33 | B39: 간호직 | C39: 10300064 | D39: 송은숙 | E39: 5000 | F39: 〃 | M39: 2024.12.17.
A40: 34 | B40: 간호직 | C40: 10300071 | D40: 윤헌경 | E40: 20000 | F40: 〃 | L40: 작 성 자 : | M40: 보건의료복지통합지원실 윤정일
A41: 35 | B41: 간호직 | C41: 10300073 | D41: 김난희 | E41: 5000 | F41: 〃
A42: 36 | B42: 간호직 | C42: 10300074 | D42: 김효순 | E42: 5000 | F42: 〃
A43: 37 | B43: 간호직 | C43: 10300077 | D43: 정분남 | E43: 1000 | F43: 〃
A44: 38 | B44: 간호직 | C44: 10300080 | D44: 유선자 | E44: 30000 | F44: 〃
A45: 39 | B45: 간호직 | C45: 10300092 | D45: 성기선 | E45: 1000 | F45: 〃
A46: 40 | B46: 간호직 | C46: 10300101 | D46: 박은주 | E46: 1000 | F46: 〃
A47: 41 | B47: 간호직 | C47: 10300105 | D47: 김회옥 | E47: 1000 | F47: 〃
A48: 42 | B48: 간호직 | C48: 10300107 | D48: 김미경 | E48: 1000 | F48: 〃
A49: 43 | B49: 간호직 | C49: 10300108 | D49: 이경희 | E49: 1000 | F49: 〃
A50: 44 | B50: 간호직 | C50: 10300119 | D50: 박윤정 | E50: 1000 | F50: 〃
A51: 45 | B51: 간호직 | C51: 10300122 | D51: 송윤숙 | E51: 2000 | F51: 〃
A52: 46 | B52: 간호직 | C52: 10300126 | D52: 최은영 | E52: 5000 | F52: 〃
... A168: 162 | B168: 사무직 | C168: 10500046 | D168: 고진우 | E168: 5000 | F168: 〃
A169: 163 | B169: 사무직 | C169: 10500060 | D169: 서주리 | E169: 5000 | F169: 〃 | G169: 신규
A170: 164 | B170: 시설관리직 | C170: 10600104 | D170: 이미정 | E170: 10000 | F170: 〃
A171: 165 | B171: 시설관리직 | C171: 10600105 | D171: 양희성 | E171: 1000 | F171: 〃
A172: 166 | B172: 시설관리직 | C172: 10600108 | D172: 배종완 | E172: 3000 | F172: 〃
A173: 167 | B173: 시설관리직 | C173: 10600110 | D173: 박은옥 | E173: 10000 | F173: 〃
A174: 168 | B174: 시설관리직 | C174: 10600113 | D174: 이병주 | E174: 1000 | F174: 〃
A175: 169 | B175: 시설관리직 | C175: 10600117 | D175: 강성철 | E175: 2000 | F175: 〃
A176: 170 | B176: 시설관리직 | C176: 10600118 | D176: 조강호 | E176: 1000 | F176: 〃
A177: 171 | B177: 시설관리직 | C177: 10600120 | D177: 박종희 | E177: 10000 | F177: 〃
A178: 172 | B178: 시설관리직 | C178: 10600121 | D178: 이익재 | E178: 2000 | F178: 〃
A179: 173 | B179: 시설관리직 | C179: 10600122 | D179: 송태훈 | E179: 1000 | F179: 〃
A180: 174 | B180: 시설관리직 | C180: 10600126 | D180: 이정윤 | E180: 5000 | F180: 〃
A181: 175 | B181: 시설관리직 | C181: 10600129 | D181: 박지철 | E181: 1000 | F181: 〃
... A216: 210 | B216: 간호직 | C216: 11300004 | D216: 이도희 | E216: 5000 | F216: 〃

Sheet 11월
A1: 2024년 11월 사회복지후원금 공제 내역
J2: 구 분 | M2: 금액(원) | N2: 인원(명)
F3: 기준일 : 2024.11.14. | J3: A. 전월 공제 | M3: ='10월'!M8 -> 1455000 | N3: ='10월'!N8 -> 212 명
J4: B. 당월 변동액 / 인원 | M4: =M5-M6+M7 -> -7000 | N4: =N5-N6 -> -2
A5: 연번 | B5: 직종 | C5: 직번 | D5: 성명 | E5: 금액(원) | F5: 후원구분 | G5: 비고 | J5: 1. 신규 (+) | M5: =N14 -> 0 | N5: 0
A6: 합계 | D6: =A216&" "&"명" -> 210 명 | E6: =SUM(E7:E216) -> 1448000 | J6: 2. 해지 (-) | M6: =N24 -> 7000 | N6: 2
A7: 1 | B7: 원 장 | C7: 10000001 | D7: 오진규 | E7: 50000 | F7: 정기후원 | J7: 4. 후원금액 변동(+) | M7: =P34 -> 0 | N7: 0
A8: 2 | B8: 의사직 | C8: 10100002 | D8: 김정회 | E8: 10000 | F8: 〃 | J8: C. 당월 공제 (A+B) | M8: =E6 -> 1448000 | N8: =D6 -> 210 명
A9: 3 | B9: 의사직 | C9: 10100017 | D9: 정문환 | E9: 10000 | F9: 〃
A10: 4 | B10: 의사직 | C10: 10100034 | D10: 오소영 | E10: 100000 | F10: 〃 | J10: < 변경사항 상세 >
A11: 5 | B11: 의사직 | C11: 10100049 | D11: 배강민 | E11: 10000 | F11: 〃
A12: 6 | B12: 의사직 | C12: 10100056 | D12: 장재호 | E12: 10000 | F12: 〃 | J12: □ 신규자
A13: 7 | B13: 의사직 | C13: 10100063 | D13: 김석기 | E13: 10000 | F13: 〃 | J13: 연번 | K13: 직종 | L13: 직번 | M13: 성명 | N13: 금액(원) | O13: 사유 | P13: 비고
A14: 8 | B14: 의사직 | C14: 10100084 | D14: 김기남 | E14: 30000 | F14: 〃 | J14: 합계 | K14: 명 | N14: =SUM(N15:N20) -> 0
A15: 9 | B15: 의사직 | C15: 10100085 | D15: 정수현 | E15: 10000 | F15: 〃 | J15: 1
A16: 10 | B16: 의사직 | C16: 10100117 | D16: 신호윤 | E16: 10000 | F16: 〃 | J16: 2
A17: 11 | B17: 의사직 | C17: 10100170 | D17: 정재용 | E17: 50000 | F17: 〃 | J17: 3
A18: 12 | B18: 약사직 | C18: 10200002 | D18: 이경옥 | E18: 50000 | F18: 〃 | J18: 4
A19: 13 | B19: 간호직 | C19: 10300012 | D19: 박연임 | E19: 10000 | F19: 〃 | J19: 5
A20: 14 | B20: 간호직 | C20: 10300013 | D20: 원은정 | E20: 5000 | F20: 〃 | J20: 6
A21: 15 | B21: 간호직 | C21: 10300014 | D21: 이영성 | E21: 10000 | F21: 〃
A22: 16 | B22: 간호직 | C22: 10300015 | D22: 최금숙 | E22: 10000 | F22: 〃 | J22: □ 해지자
A23: 17 | B23: 간호직 | C23: 10300016 | D23: 박복선 | E23: 2000 | F23: 〃 | J23: 연번 | K23: 직종 | L23: 직번 | M23: 성명 | N23: 금액(원) | O23: 사유 | P23: 비고
A24: 18 | B24: 간호직 | C24: 10300018 | D24: 정미숙 | E24: 2000 | F24: 〃 | J24: 합계 | K24: 2명 | N24: =SUM(N25:N30) -> 7000
A25: 19 | B25: 간호직 | C25: 10300019 | D25: 서현순 | E25: 5000 | F25: 〃 | J25: 1 | K25: 보건직 | L25: 10400045 | M25: 박종민 | N25: 5000 | O25: 육아휴직
A26: 20 | B26: 간호직 | C26: 10300022 | D26: 장민순 | E26: 10000 | F26: 〃 | J26: 2 | K26: 보건직 | L26: 10400034 | M26: 방진희 | N26: 2000 | O26: 가족돌봄휴직
A27: 21 | B27: 간호직 | C27: 10300023 | D27: 최정아 | E27: 5000 | F27: 〃 | J27: 3
A28: 22 | B28: 간호직 | C28: 10300024 | D28: 소영임 | E28: 20000 | F28: 〃 | J28: 4
A29: 23 | B29: 간호직 | C29: 10300025 | D29: 이영현 | E29: 30000 | F29: 〃 | J29: 5
A30: 24 | B30: 간호직 | C30: 10300027 | D30: 이지선 | E30: 20000 | F30: 〃 | J30: 6
A31: 25 | B31: 간호직 | C31: 10300029 | D31: 강선정 | E31: 2000 | F31: 〃
A32: 26 | B32: 간호직 | C32: 10300031 | D32: 이미란 | E32: 10000 | F32: 〃 | J32: □ 후원금액변동 공제자
A33: 27 | B33: 간호직 | C33: 10300034 | D33: 박순이 | E33: 20000 | F33: 〃 | J33: 연번 | K33: 직종 | L33: 직번 | M33: 성명 | N33: 기존 | O33: 변경 | P33: 비고(증감)
A34: 28 | B34: 간호직 | C34: 10300037 | D34: 김남신 | E34: 1000 | F34: 〃 | J34: 합계 | N34: =SUM(N35:N36) -> 0 | O34: =SUM(O35:O36) -> 0 | P34: =SUM(P35:P36) -> 0
A35: 29 | B35: 간호직 | C35: 10300045 | D35: 문의순 | E35: 20000 | F35: 〃 | J35: 1
A36: 30 | B36: 간호직 | C36: 10300047 | D36: 김미정 | E36: 5000 | F36: 〃 | J36: 2
A37: 31 | B37: 간호직 | C37: 10300049 | D37: 박은경 | E37: 20000 | F37: 〃
A38: 32 | B38: 간호직 | C38: 10300058 | D38: 조영숙 | E38: 5000 | F38: 〃
A39: 33 | B39: 간호직 | C39: 10300064 | D39: 송은숙 | E39: 5000 | F39: 〃 | M39: 2024.10.14.
A40: 34 | B40: 간호직 | C40: 10300071 | D40: 윤헌경 | E40: 20000 | F40: 〃 | L40: 작 성 자 : | M40: 보건의료복지통합지원실 황현진
A41: 35 | B41: 간호직 | C41: 10300073 | D41: 김난희 | E41: 5000 | F41: 〃
A42: 36 | B42: 간호직 | C42: 10300074 | D42: 김효순 | E42: 5000 | F42: 〃
A43: 37 | B43: 간호직 | C43: 10300077 | D43: 정분남 | E43: 1000 | F43: 〃
A44: 38 | B44: 간호직 | C44: 10300080 | D44: 유선자 | E44: 30000 | F44: 〃
A45: 39 | B45: 간호직 | C45: 10300092 | D45: 성기선 | E45: 1000 | F45: 〃
A46: 40 | B46: 간호직 | C46: 10300101 | D46: 박은주 | E46: 1000 | F46: 〃
A47: 41 | B47: 간호직 | C47: 10300105 | D47: 김회옥 | E47: 1000 | F47: 〃
A48: 42 | B48: 간호직 | C48: 10300107 | D48: 김미경 | E48: 1000 | F48: 〃
A49: 43 | B49: 간호직 | C49: 10300108 | D49: 이경희 | E49: 1000 | F49: 〃
A50: 44 | B50: 간호직 | C50: 10300119 | D50: 박윤정 | E50: 1000 | F50: 〃
A51: 45 | B51: 간호직 | C51: 10300122 | D51: 송윤숙 | E51: 2000 | F51: 〃
A52: 46 | B52: 간호직 | C52: 10300126 | D52: 최은영 | E52: 5000 | F52: 〃
... A216: 210 | B216: 간호직 | C216: 11300004 | D216: 이도희 | E216: 5000 | F216: 〃

Sheet 10월
A1: 2024년 10월 사회복지후원금 공제 내역
J2: 구 분 | M2: 금액(원) | N2: 인원(명)
F3: 기준일 : 2024.10.14. | J3: A. 전월 공제 | M3: 1460000 | N3: ='8월'!N8 -> 210
J4: B. 당월 변동액 / 인원 | M4: =M5-M6+M7 -> -5000 | N4: =N5-N6 -> -1
A5: 연번 | B5: 직종 | C5: 직번 | D5: 성명 | E5: 금액(원) | F5: 후원구분 | G5: 비고 | J5: 1. 신규 (+) | M5: =N14 -> 0 | N5: 0
A6: 합계 | D6: =A218&" "&"명" -> 212 명 | E6: =SUM(E7:E218) -> 1455000 | J6: 2. 해지 (-) | M6: =N24 -> 5000 | N6: 1
A7: 1 | B7: 원 장 | C7: 10000001 | D7: 오진규 | E7: 50000 | F7: 정기후원 | J7: 4. 후원금액 변동(+) | M7: =P34 -> 0 | N7: 0
A8: 2 | B8: 의사직 | C8: 10100002 | D8: 김정회 | E8: 10000 | F8: 〃 | J8: C. 당월 공제 (A+B) | M8: =E6 -> 1455000 | N8: =D6 -> 212 명
A9: 3 | B9: 의사직 | C9: 10100017 | D9: 정문환 | E9: 10000 | F9: 〃
A10: 4 | B10: 의사직 | C10: 10100034 | D10: 오소영 | E10: 100000 | F10: 〃 | J10: < 변경사항 상세 >
A11: 5 | B11: 의사직 | C11: 10100049 | D11: 배강민 | E11: 10000 | F11: 〃
A12: 6 | B12: 의사직 | C12: 10100056 | D12: 장재호 | E12: 10000 | F12: 〃 | J12: □ 신규자
A13: 7 | B13: 의사직 | C13: 10100063 | D13: 김석기 | E13: 10000 | F13: 〃 | J13: 연번 | K13: 직종 | L13: 직번 | M13: 성명 | N13: 금액(원) | O13: 사유 | P13: 비고
A14: 8 | B14: 의사직 | C14: 10100084 | D14: 김기남 | E14: 30000 | F14: 〃 | J14: 합계 | K14: 명 | N14: =SUM(N15:N20) -> 0
A15: 9 | B15: 의사직 | C15: 10100085 | D15: 정수현 | E15: 10000 | F15: 〃 | J15: 1
A16: 10 | B16: 의사직 | C16: 10100117 | D16: 신호윤 | E16: 10000 | F16: 〃 | J16: 2
A17: 11 | B17: 의사직 | C17: 10100170 | D17: 정재용 | E17: 50000 | F17: 〃 | J17: 3
A18: 12 | B18: 약사직 | C18: 10200002 | D18: 이경옥 | E18: 50000 | F18: 〃 | J18: 4
A19: 13 | B19: 간호직 | C19: 10300012 | D19: 박연임 | E19: 10000 | F19: 〃 | J19: 5
A20: 14 | B20: 간호직 | C20: 10300013 | D20: 원은정 | E20: 5000 | F20: 〃 | J20: 6
A21: 15 | B21: 간호직 | C21: 10300014 | D21: 이영성 | E21: 10000 | F21: 〃
A22: 16 | B22: 간호직 | C22: 10300015 | D22: 최금숙 | E22: 10000 | F22: 〃 | J22: □ 해지자
A23: 17 | B23: 간호직 | C23: 10300016 | D23: 박복선 | E23: 2000 | F23: 〃 | J23: 연번 | K23: 직종 | L23: 직번 | M23: 성명 | N23: 금액(원) | O23: 사유 | P23: 비고
A24: 18 | B24: 간호직 | C24: 10300018 | D24: 정미숙 | E24: 2000 | F24: 〃 | J24: 합계 | K24: 1명 | N24: =SUM(N25:N30) -> 5000
A25: 19 | B25: 간호직 | C25: 10300019 | D25: 서현순 | E25: 5000 | F25: 〃 | J25: 1 | K25: 시설관리직 | L25: 10600184 | M25: 강대영 | N25: 5000 | O25: 퇴직
A26: 20 | B26: 간호직 | C26: 10300022 | D26: 장민순 | E26: 10000 | F26: 〃 | J26: 2
A27: 21 | B27: 간호직 | C27: 10300023 | D27: 최정아 | E27: 5000 | F27: 〃 | J27: 3
A28: 22 | B28: 간호직 | C28: 10300024 | D28: 소영임 | E28: 20000 | F28: 〃 | J28: 4
A29: 23 | B29: 간호직 | C29: 10300025 | D29: 이영현 | E29: 30000 | F29: 〃 | J29: 5
A30: 24 | B30: 간호직 | C30: 10300027 | D30: 이지선 | E30: 20000 | F30: 〃 | J30: 6
A31: 25 | B31: 간호직 | C31: 10300029 | D31: 강선정 | E31: 2000 | F31: 〃
A32: 26 | B32: 간호직 | C32: 10300031 | D32: 이미란 | E32: 10000 | F32: 〃 | J32: □ 후원금액변동 공제자
A33: 27 | B33: 간호직 | C33: 10300034 | D33: 박순이 | E33: 20000 | F33: 〃 | J33: 연번 | K33: 직종 | L33: 직번 | M33: 성명 | N33: 기존 | O33: 변경 | P33: 비고(증감)
A34: 28 | B34: 간호직 | C34: 10300037 | D34: 김남신 | E34: 1000 | F34: 〃 | J34: 합계 | N34: =SUM(N35:N36) -> 0 | O34: =SUM(O35:O36) -> 0 | P34: =SUM(P35:P36) -> 0
A35: 29 | B35: 간호직 | C35: 10300045 | D35: 문의순 | E35: 20000 | F35: 〃 | J35: 1
A36: 30 | B36: 간호직 | C36: 10300047 | D36: 김미정 | E36: 5000 | F36: 〃 | J36: 2
A37: 31 | B37: 간호직 | C37: 10300049 | D37: 박은경 | E37: 20000 | F37: 〃
A38: 32 | B38: 간호직 | C38: 10300058 | D38: 조영숙 | E38: 5000 | F38: 〃
A39: 33 | B39: 간호직 | C39: 10300064 | D39: 송은숙 | E39: 5000 | F39: 〃 | M39: 2024.10.14.
A40: 34 | B40: 간호직 | C40: 10300071 | D40: 윤헌경 | E40: 20000 | F40: 〃 | L40: 작 성 자 : | M40: 보건의료복지통합지원실 황현진
A41: 35 | B41: 간호직 | C41: 10300073 | D41: 김난희 | E41: 5000 | F41: 〃
A42: 36 | B42: 간호직 | C42: 10300074 | D42: 김효순 | E42: 5000 | F42: 〃
A43: 37 | B43: 간호직 | C43: 10300077 | D43: 정분남 | E43: 1000 | F43: 〃
A44: 38 | B44: 간호직 | C44: 10300080 | D44: 유선자 | E44: 30000 | F44: 〃
A45: 39 | B45: 간호직 | C45: 10300092 | D45: 성기선 | E45: 1000 | F45: 〃
A46: 40 | B46: 간호직 | C46: 10300101 | D46: 박은주 | E46: 1000 | F46: 〃
A47: 41 | B47: 간호직 | C47: 10300105 | D47: 김회옥 | E47: 1000 | F47: 〃
A48: 42 | B48: 간호직 | C48: 10300107 | D48: 김미경 | E48: 1000 | F48: 〃
A49: 43 | B49: 간호직 | C49: 10300108 | D49: 이경희 | E49: 1000 | F49: 〃
A50: 44 | B50: 간호직 | C50: 10300119 | D50: 박윤정 | E50: 1000 | F50: 〃
A51: 45 | B51: 간호직 | C51: 10300122 | D51: 송윤숙 | E51: 2000 | F51: 〃
A52: 46 | B52: 간호직 | C52: 10300126 | D52: 최은영 | E52: 5000 | F52: 〃
... A218: 212 | B218: 간호직 | C218: 11300004 | D218: 이도희 | E218: 5000 | F218: 〃

Sheet 9월
A1: 2024년 9월 사회복지후원금 공제 내역
J2: 구 분 | M2: 금액(원) | N2: 인원(명)
F3: 기준일 : 2024.09.06. | J3: A. 전월 공제 | M3: ='8월'!M8 -> 1448000 | N3: ='8월'!N8 -> 210
J4: B. 당월 변동액 / 인원 | M4: =M5-M6+M7 -> 12000 | N4: =N5-N6 -> 3
A5: 연번 | B5: 직종 | C5: 직번 | D5: 성명 | E5: 금액(원) | F5: 후원구분 | G5: 비고 | J5: 1. 신규 (+) | M5: =N14 -> 22000 | N5: 4
A6: 합계 | D6: =A219&" "&"명" -> 213 명 | E6: =SUM(E7:E219) -> 1460000 | J6: 2. 해지 (-) | M6: =N24 -> 10000 | N6: 1
A7: 1 | B7: 원 장 | C7: 10000001 | D7: 오진규 | E7: 50000 | F7: 정기후원 | J7: 4. 후원금액 변동(+) | M7: =P34 -> 0 | N7: 0
A8: 2 | B8: 의사직 | C8: 10100002 | D8: 김정회 | E8: 10000 | F8: 〃 | J8: C. 당월 공제 (A+B) | M8: =E6 -> 1460000 | N8: =D6 -> 213 명
A9: 3 | B9: 의사직 | C9: 10100017 | D9: 정문환 | E9: 10000 | F9: 〃
A10: 4 | B10: 의사직 | C10: 10100034 | D10: 오소영 | E10: 100000 | F10: 〃 | J10: < 변경사항 상세 >
A11: 5 | B11: 의사직 | C11: 10100049 | D11: 배강민 | E11: 10000 | F11: 〃
A12: 6 | B12: 의사직 | C12: 10100056 | D12: 장재호 | E12: 10000 | F12: 〃 | J12: □ 신규자
A13: 7 | B13: 의사직 | C13: 10100063 | D13: 김석기 | E13: 10000 | F13: 〃 | J13: 연번 | K13: 직종 | L13: 직번 | M13: 성명 | N13: 금액(원) | O13: 사유 | P13: 비고
A14: 8 | B14: 의사직 | C14: 10100084 | D14: 김기남 | E14: 30000 | F14: 〃 | J14: 합계 | K14: 4명 | N14: =SUM(N15:N20) -> 22000
A15: 9 | B15: 의사직 | C15: 10100085 | D15: 정수현 | E15: 10000 | F15: 〃 | J15: 1 | K15: 간호직 | L15: 10300516 | M15: 김유신 | N15: 1000 | O15: 신규
A16: 10 | B16: 의사직 | C16: 10100117 | D16: 신호윤 | E16: 10000 | F16: 〃 | J16: 2 | K16: 간호직 | L16: 10300517 | M16: 김나래 | N16: 1000 | O16: 신규
A17: 11 | B17: 의사직 | C17: 10100170 | D17: 정재용 | E17: 50000 | F17: 〃 | J17: 3 | K17: 간호직 | L17: 10300518 | M17: 김서율 | N17: 10000 | O17: 신규
A18: 12 | B18: 약사직 | C18: 10200002 | D18: 이경옥 | E18: 50000 | F18: 〃 | J18: 4 | K18: 간호직 | L18: 10300519 | M18: 임수철 | N18: 10000 | O18: 신규
A19: 13 | B19: 간호직 | C19: 10300012 | D19: 박연임 | E19: 10000 | F19: 〃 | J19: 5
A20: 14 | B20: 간호직 | C20: 10300013 | D20: 원은정 | E20: 5000 | F20: 〃 | J20: 6
A21: 15 | B21: 간호직 | C21: 10300014 | D21: 이영성 | E21: 10000 | F21: 〃
A22: 16 | B22: 간호직 | C22: 10300015 | D22: 최금숙 | E22: 10000 | F22: 〃 | J22: □ 해지자
A23: 17 | B23: 간호직 | C23: 10300016 | D23: 박복선 | E23: 2000 | F23: 〃 | J23: 연번 | K23: 직종 | L23: 직번 | M23: 성명 | N23: 금액(원) | O23: 사유 | P23: 비고
A24: 18 | B24: 간호직 | C24: 10300018 | D24: 정미숙 | E24: 2000 | F24: 〃 | J24: 합계 | K24: 1명 | N24: =SUM(N25:N30) -> 10000
A25: 19 | B25: 간호직 | C25: 10300019 | D25: 서현순 | E25: 5000 | F25: 〃 | J25: 1 | K25: 간호직 | L25: 10300500 | M25: 정소이 | N25: 10000 | O25: 퇴직
A26: 20 | B26: 간호직 | C26: 10300022 | D26: 장민순 | E26: 10000 | F26: 〃 | J26: 2
A27: 21 | B27: 간호직 | C27: 10300023 | D27: 최정아 | E27: 5000 | F27: 〃 | J27: 3
A28: 22 | B28: 간호직 | C28: 10300024 | D28: 소영임 | E28: 20000 | F28: 〃 | J28: 4
A29: 23 | B29: 간호직 | C29: 10300025 | D29: 이영현 | E29: 30000 | F29: 〃 | J29: 5
A30: 24 | B30: 간호직 | C30: 10300027 | D30: 이지선 | E30: 20000 | F30: 〃 | J30: 6
A31: 25 | B31: 간호직 | C31: 10300029 | D31: 강선정 | E31: 2000 | F31: 〃
A32: 26 | B32: 간호직 | C32: 10300031 | D32: 이미란 | E32: 10000 | F32: 〃 | J32: □ 후원금액변동 공제자
A33: 27 | B33: 간호직 | C33: 10300034 | D33: 박순이 | E33: 20000 | F33: 〃 | J33: 연번 | K33: 직종 | L33: 직번 | M33: 성명 | N33: 기존 | O33: 변경 | P33: 비고(증감)
A34: 28 | B34: 간호직 | C34: 10300037 | D34: 김남신 | E34: 1000 | F34: 〃 | J34: 합계 | N34: =SUM(N35:N36) -> 0 | O34: =SUM(O35:O36) -> 0 | P34: =SUM(P35:P36) -> 0
A35: 29 | B35: 간호직 | C35: 10300045 | D35: 문의순 | E35: 20000 | F35: 〃 | J35: 1
A36: 30 | B36: 간호직 | C36: 10300047 | D36: 김미정 | E36: 5000 | F36: 〃 | J36: 2
A37: 31 | B37: 간호직 | C37: 10300049 | D37: 박은경 | E37: 20000 | F37: 〃
A38: 32 | B38: 간호직 | C38: 10300058 | D38: 조영숙 | E38: 5000 | F38: 〃
A39: 33 | B39: 간호직 | C39: 10300064 | D39: 송은숙 | E39: 5000 | F39: 〃 | M39: 2024.09.06.
A40: 34 | B40: 간호직 | C40: 10300071 | D40: 윤헌경 | E40: 20000 | F40: 〃 | L40: 작 성 자 : | M40: 보건의료복지통합지원실 윤정일
A41: 35 | B41: 간호직 | C41: 10300073 | D41: 김난희 | E41: 5000 | F41: 〃
A42: 36 | B42: 간호직 | C42: 10300074 | D42: 김효순 | E42: 5000 | F42: 〃
A43: 37 | B43: 간호직 | C43: 10300077 | D43: 정분남 | E43: 1000 | F43: 〃
A44: 38 | B44: 간호직 | C44: 10300080 | D44: 유선자 | E44: 30000 | F44: 〃
A45: 39 | B45: 간호직 | C45: 10300092 | D45: 성기선 | E45: 1000 | F45: 〃
A46: 40 | B46: 간호직 | C46: 10300101 | D46: 박은주 | E46: 1000 | F46: 〃
A47: 41 | B47: 간호직 | C47: 10300105 | D47: 김회옥 | E47: 1000 | F47: 〃
A48: 42 | B48: 간호직 | C48: 10300107 | D48: 김미경 | E48: 1000 | F48: 〃
A49: 43 | B49: 간호직 | C49: 10300108 | D49: 이경희 | E49: 1000 | F49: 〃
A50: 44 | B50: 간호직 | C50: 10300119 | D50: 박윤정 | E50: 1000 | F50: 〃
A51: 45 | B51: 간호직 | C51: 10300122 | D51: 송윤숙 | E51: 2000 | F51: 〃
A52: 46 | B52: 간호직 | C52: 10300126 | D52: 최은영 | E52: 5000 | F52: 〃
... A219: 213 | B219: 간호직 | C219: 11300004 | D219: 이도희 | E219: 5000 | F219: 〃

Sheet 8월
A1: 2024년 8월 사회복지후원금 공제 내역
J2: 구 분 | M2: 금액(원) | N2: 인원(명)
F3: 기준일 : 2024.08.09. | J3: A. 전월 공제 | M3: ='7월'!M8 -> 1469000 | N3: ='7월'!N8 -> 213
J4: B. 당월 변동액 / 인원 | M4: =M5-M6+M7 -> -21000 | N4: =N5-N6 -> -3
A5: 연번 | B5: 직종 | C5: 직번 | D5: 성명 | E5: 금액(원) | F5: 후원구분 | G5: 비고 | J5: 1. 신규 (+) | M5: =N14 -> 0 | N5: 0
A6: 합계 | D6: =A216&" "&"명" -> 210 명 | E6: =SUM(E7:E216) -> 1448000 | J6: 2. 해지 (-) | M6: =N24 -> 21000 | N6: 3
A7: 1 | B7: 원 장 | C7: 10000001 | D7: 오진규 | E7: 50000 | F7: 정기후원 | J7: 4. 후원금액 변동(+) | M7: =P34 -> 0 | N7: 0
A8: 2 | B8: 의사직 | C8: 10100002 | D8: 김정회 | E8: 10000 | F8: 〃 | J8: C. 당월 공제 (A+B) | M8: =E6 -> 1448000 | N8: =N3+N4 -> 210
A9: 3 | B9: 의사직 | C9: 10100017 | D9: 정문환 | E9: 10000 | F9: 〃
A10: 4 | B10: 의사직 | C10: 10100034 | D10: 오소영 | E10: 100000 | F10: 〃 | J10: < 변경사항 상세 >
A11: 5 | B11: 의사직 | C11: 10100049 | D11: 배강민 | E11: 10000 | F11: 〃
A12: 6 | B12: 의사직 | C12: 10100056 | D12: 장재호 | E12: 10000 | F12: 〃 | J12: □ 신규자
A13: 7 | B13: 의사직 | C13: 10100063 | D13: 김석기 | E13: 10000 | F13: 〃 | J13: 연번 | K13: 직종 | L13: 직번 | M13: 성명 | N13: 금액(원) | O13: 사유 | P13: 비고
A14: 8 | B14: 의사직 | C14: 10100084 | D14: 김기남 | E14: 30000 | F14: 〃 | J14: 합계 | N14: =SUM(N15:N20) -> 0
A15: 9 | B15: 의사직 | C15: 10100085 | D15: 정수현 | E15: 10000 | F15: 〃 | J15: 1
A16: 10 | B16: 의사직 | C16: 10100117 | D16: 신호윤 | E16: 10000 | F16: 〃 | J16: 2
A17: 11 | B17: 의사직 | C17: 10100170 | D17: 정재용 | E17: 50000 | F17: 〃 | J17: 3
A18: 12 | B18: 약사직 | C18: 10200002 | D18: 이경옥 | E18: 50000 | F18: 〃 | J18: 4
A19: 13 | B19: 간호직 | C19: 10300012 | D19: 박연임 | E19: 10000 | F19: 〃 | J19: 5
A20: 14 | B20: 간호직 | C20: 10300013 | D20: 원은정 | E20: 5000 | F20: 〃 | J20: 6
A21: 15 | B21: 간호직 | C21: 10300014 | D21: 이영성 | E21: 10000 | F21: 〃
A22: 16 | B22: 간호직 | C22: 10300015 | D22: 최금숙 | E22: 10000 | F22: 〃 | J22: □ 해지자
A23: 17 | B23: 간호직 | C23: 10300016 | D23: 박복선 | E23: 2000 | F23: 〃 | J23: 연번 | K23: 직종 | L23: 직번 | M23: 성명 | N23: 금액(원) | O23: 사유 | P23: 비고
A24: 18 | B24: 간호직 | C24: 10300018 | D24: 정미숙 | E24: 2000 | F24: 〃 | J24: 합계 | K24: 3명 | N24: =SUM(N25:N30) -> 21000
A25: 19 | B25: 간호직 | C25: 10300019 | D25: 서현순 | E25: 5000 | F25: 〃 | J25: 1 | K25: 보건직 | L25: 10400051 | M25: 양세나 | N25: 10000 | O25: 해지 | P25: 07.19. 유선 요청
A26: 20 | B26: 간호직 | C26: 10300022 | D26: 장민순 | E26: 10000 | F26: 〃 | J26: 2 | K26: 간호직 | L26: 10300420 | M26: 김성은 | N26: 10000 | O26: 퇴사
A27: 21 | B27: 간호직 | C27: 10300023 | D27: 최정아 | E27: 5000 | F27: 〃 | J27: 3 | K27: 시설관리직 | L27: 10600130 | M27: 최태호 | N27: 1000 | O27: 퇴사
A28: 22 | B28: 간호직 | C28: 10300024 | D28: 소영임 | E28: 20000 | F28: 〃 | J28: 4
A29: 23 | B29: 간호직 | C29: 10300025 | D29: 이영현 | E29: 30000 | F29: 〃 | J29: 5
A30: 24 | B30: 간호직 | C30: 10300027 | D30: 이지선 | E30: 20000 | F30: 〃 | J30: 6
A31: 25 | B31: 간호직 | C31: 10300029 | D31: 강선정 | E31: 2000 | F31: 〃
A32: 26 | B32: 간호직 | C32: 10300031 | D32: 이미란 | E32: 10000 | F32: 〃 | J32: □ 후원금액변동 공제자
A33: 27 | B33: 간호직 | C33: 10300034 | D33: 박순이 | E33: 20000 | F33: 〃 | J33: 연번 | K33: 직종 | L33: 직번 | M33: 성명 | N33: 기존 | O33: 변경 | P33: 비고(증감)
A34: 28 | B34: 간호직 | C34: 10300037 | D34: 김남신 | E34: 1000 | F34: 〃 | J34: 합계 | N34: =SUM(N35:N36) -> 0 | O34: =SUM(O35:O36) -> 0 | P34: =SUM(P35:P36) -> 0
A35: 29 | B35: 간호직 | C35: 10300045 | D35: 문의순 | E35: 20000 | F35: 〃 | J35: 1
A36: 30 | B36: 간호직 | C36: 10300047 | D36: 김미정 | E36: 5000 | F36: 〃 | J36: 2
A37: 31 | B37: 간호직 | C37: 10300049 | D37: 박은경 | E37: 20000 | F37: 〃
A38: 32 | B38: 간호직 | C38: 10300058 | D38: 조영숙 | E38: 5000 | F38: 〃
A39: 33 | B39: 간호직 | C39: 10300064 | D39: 송은숙 | E39: 5000 | F39: 〃 | M39: 2024.07.12.
A40: 34 | B40: 간호직 | C40: 10300071 | D40: 윤헌경 | E40: 20000 | F40: 〃 | L40: 작 성 자 : | M40: 보건의료복지통합지원실 윤정일
A41: 35 | B41: 간호직 | C41: 10300073 | D41: 김난희 | E41: 5000 | F41: 〃
A42: 36 | B42: 간호직 | C42: 10300074 | D42: 김효순 | E42: 5000 | F42: 〃
A43: 37 | B43: 간호직 | C43: 10300077 | D43: 정분남 | E43: 1000 | F43: 〃
A44: 38 | B44: 간호직 | C44: 10300080 | D44: 유선자 | E44: 30000 | F44: 〃
A45: 39 | B45: 간호직 | C45: 10300092 | D45: 성기선 | E45: 1000 | F45: 〃
A46: 40 | B46: 간호직 | C46: 10300101 | D46: 박은주 | E46: 1000 | F46: 〃
A47: 41 | B47: 간호직 | C47: 10300105 | D47: 김회옥 | E47: 1000 | F47: 〃
A48: 42 | B48: 간호직 | C48: 10300107 | D48: 김미경 | E48: 1000 | F48: 〃
A49: 43 | B49: 간호직 | C49: 10300108 | D49: 이경희 | E49: 1000 | F49: 〃
A50: 44 | B50: 간호직 | C50: 10300119 | D50: 박윤정 | E50: 1000 | F50: 〃
A51: 45 | B51: 간호직 | C51: 10300122 | D51: 송윤숙 | E51: 2000 | F51: 〃
A52: 46 | B52: 간호직 | C52: 10300126 | D52: 최은영 | E52: 5000 | F52: 〃
... A216: 210 | B216: 간호직 | C216: 11300004 | D216: 이도희 | E216: 5000 | F216: 〃

Sheet 7월
A1: 2024년 7월 사회복지후원금 공제 내역
J2: 구 분 | M2: 금액(원) | N2: 인원(명)
F3: 기준일 : 2024.07.12. | J3: A. 전월 공제 | M3: ='6월'!M8 -> 1535000 | N3: ='6월'!N8 -> 219
J4: B. 당월 변동액 / 인원 | M4: =M5-M6+M7 -> -66000 | N4: =N5-N6 -> -6
A5: 연번 | B5: 직종 | C5: 직번 | D5: 성명 | E5: 금액(원) | F5: 후원구분 | G5: 비고 | J5: 1. 신규 (+) | M5: =N14 -> 0 | N5: 0
A6: 합계 | D6: =A219&" "&"명" -> 213 명 | E6: =SUM(E7:E219) -> 1469000 | J6: 2. 해지 (-) | M6: =N24 -> 66000 | N6: 6
A7: 1 | B7: 원 장 | C7: 10000001 | D7: 오진규 | E7: 50000 | F7: 정기후원 | J7: 4. 후원금액 변동(+) | M7: =P34 -> 0 | N7: 0
A8: 2 | B8: 의사직 | C8: 10100002 | D8: 김정회 | E8: 10000 | F8: 〃 | J8: C. 당월 공제 (A+B) | M8: =E6 -> 1469000 | N8: =N3+N4 -> 213
A9: 3 | B9: 의사직 | C9: 10100017 | D9: 정문환 | E9: 10000 | F9: 〃
A10: 4 | B10: 의사직 | C10: 10100034 | D10: 오소영 | E10: 100000 | F10: 〃 | J10: < 변경사항 상세 >
A11: 5 | B11: 의사직 | C11: 10100049 | D11: 배강민 | E11: 10000 | F11: 〃
A12: 6 | B12: 의사직 | C12: 10100056 | D12: 장재호 | E12: 10000 | F12: 〃 | J12: □ 신규자
A13: 7 | B13: 의사직 | C13: 10100063 | D13: 김석기 | E13: 10000 | F13: 〃 | J13: 연번 | K13: 직종 | L13: 직번 | M13: 성명 | N13: 금액(원) | O13: 사유 | P13: 비고
A14: 8 | B14: 의사직 | C14: 10100084 | D14: 김기남 | E14: 30000 | F14: 〃 | J14: 합계 | N14: =SUM(N15:N20) -> 0
A15: 9 | B15: 의사직 | C15: 10100085 | D15: 정수현 | E15: 10000 | F15: 〃 | J15: 1
A16: 10 | B16: 의사직 | C16: 10100117 | D16: 신호윤 | E16: 10000 | F16: 〃 | J16: 2
A17: 11 | B17: 의사직 | C17: 10100170 | D17: 정재용 | E17: 50000 | F17: 〃 | J17: 3
A18: 12 | B18: 약사직 | C18: 10200002 | D18: 이경옥 | E18: 50000 | F18: 〃 | J18: 4
A19: 13 | B19: 간호직 | C19: 10300012 | D19: 박연임 | E19: 10000 | F19: 〃 | J19: 5
A20: 14 | B20: 간호직 | C20: 10300013 | D20: 원은정 | E20: 5000 | F20: 〃 | J20: 6
A21: 15 | B21: 간호직 | C21: 10300014 | D21: 이영성 | E21: 10000 | F21: 〃
A22: 16 | B22: 간호직 | C22: 10300015 | D22: 최금숙 | E22: 10000 | F22: 〃 | J22: □ 해지자
A23: 17 | B23: 간호직 | C23: 10300016 | D23: 박복선 | E23: 2000 | F23: 〃 | J23: 연번 | K23: 직종 | L23: 직번 | M23: 성명 | N23: 금액(원) | O23: 사유 | P23: 비고
A24: 18 | B24: 간호직 | C24: 10300018 | D24: 정미숙 | E24: 2000 | F24: 〃 | J24: 합계 | N24: =SUM(N25:N30) -> 66000
A25: 19 | B25: 간호직 | C25: 10300019 | D25: 서현순 | E25: 5000 | F25: 〃 | J25: 1 | K25: 간호직 | L25: 10300079 | M25: 김혜숙 | N25: 10000 | O25: 퇴직
A26: 20 | B26: 간호직 | C26: 10300022 | D26: 장민순 | E26: 10000 | F26: 〃 | J26: 2 | K26: 간호직 | L26: 10300459 | M26: 임지영 | N26: 10000 | O26: 퇴직
A27: 21 | B27: 간호직 | C27: 10300023 | D27: 최정아 | E27: 5000 | F27: 〃 | J27: 3 | K27: 간호직 | L27: 10300502 | M27: 최지원 | N27: 1000 | O27: 퇴직
A28: 22 | B28: 간호직 | C28: 10300024 | D28: 소영임 | E28: 20000 | F28: 〃 | J28: 4 | K28: 시설관리직 | L28: 10600103 | M28: 김주성 | N28: 20000 | O28: 퇴직
A29: 23 | B29: 간호직 | C29: 10300025 | D29: 이영현 | E29: 30000 | F29: 〃 | J29: 5 | K29: 시설관리직 | L29: 10600123 | M29: 전길주 | N29: 20000 | O29: 퇴직
A30: 24 | B30: 간호직 | C30: 10300027 | D30: 이지선 | E30: 20000 | F30: 〃 | J30: 6 | K30: 시설관리직 | L30: 11100387 | M30: 오연주 | N30: 5000 | O30: 퇴직
A31: 25 | B31: 간호직 | C31: 10300029 | D31: 강선정 | E31: 2000 | F31: 〃
A32: 26 | B32: 간호직 | C32: 10300031 | D32: 이미란 | E32: 10000 | F32: 〃 | J32: □ 후원금액변동 공제자
A33: 27 | B33: 간호직 | C33: 10300034 | D33: 박순이 | E33: 20000 | F33: 〃 | J33: 연번 | K33: 직종 | L33: 직번 | M33: 성명 | N33: 기존 | O33: 변경 | P33: 비고(증감)
A34: 28 | B34: 간호직 | C34: 10300037 | D34: 김남신 | E34: 1000 | F34: 〃 | J34: 합계 | N34: =SUM(N35:N36) -> 0 | O34: =SUM(O35:O36) -> 0 | P34: =SUM(P35:P36) -> 0
A35: 29 | B35: 간호직 | C35: 10300045 | D35: 문의순 | E35: 20000 | F35: 〃 | J35: 1
A36: 30 | B36: 간호직 | C36: 10300047 | D36: 김미정 | E36: 5000 | F36: 〃 | J36: 2
A37: 31 | B37: 간호직 | C37: 10300049 | D37: 박은경 | E37: 20000 | F37: 〃
A38: 32 | B38: 간호직 | C38: 10300058 | D38: 조영숙 | E38: 5000 | F38: 〃
A39: 33 | B39: 간호직 | C39: 10300064 | D39: 송은숙 | E39: 5000 | F39: 〃 | M39: 2024.07.12.
A40: 34 | B40: 간호직 | C40: 10300071 | D40: 윤헌경 | E40: 20000 | F40: 〃 | L40: 작 성 자 : | M40: 보건의료복지통합지원실 윤정일
A41: 35 | B41: 간호직 | C41: 10300073 | D41: 김난희 | E41: 5000 | F41: 〃
A42: 36 | B42: 간호직 | C42: 10300074 | D42: 김효순 | E42: 5000 | F42: 〃
A43: 37 | B43: 간호직 | C43: 10300077 | D43: 정분남 | E43: 1000 | F43: 〃
A44: 38 | B44: 간호직 | C44: 10300080 | D44: 유선자 | E44: 30000 | F44: 〃
A45: 39 | B45: 간호직 | C45: 10300092 | D45: 성기선 | E45: 1000 | F45: 〃
A46: 40 | B46: 간호직 | C46: 10300101 | D46: 박은주 | E46: 1000 | F46: 〃
A47: 41 | B47: 간호직 | C47: 10300105 | D47: 김회옥 | E47: 1000 | F47: 〃
A48: 42 | B48: 간호직 | C48: 10300107 | D48: 김미경 | E48: 1000 | F48: 〃
A49: 43 | B49: 간호직 | C49: 10300108 | D49: 이경희 | E49: 1000 | F49: 〃
A50: 44 | B50: 간호직 | C50: 10300119 | D50: 박윤정 | E50: 1000 | F50: 〃
A51: 45 | B51: 간호직 | C51: 10300122 | D51: 송윤숙 | E51: 2000 | F51: 〃
A52: 46 | B52: 간호직 | C52: 10300126 | D52: 최은영 | E52: 5000 | F52: 〃
... A219: 213 | B219: 간호직 | C219: 11300004 | D219: 이도희 | E219: 5000 | F219: 〃

Sheet 6월
A1: 2024년 6월 사회복지후원금 공제 내역
J2: 구 분 | M2: 금액(원) | N2: 인원(명)
F3: 기준일 : 2024.06.13. | J3: A. 전월 공제 | M3: ='5월'!M8 -> 1535000 | N3: ='5월'!N8 -> 219
J4: B. 당월 변동액 / 인원 | M4: =M5-M6+M7 -> 0 | N4: =N5-N6 -> 0
A5: 연번 | B5: 직종 | C5: 직번 | D5: 성명 | E5: 금액(원) | F5: 후원구분 | G5: 비고 | J5: 1. 신규 (+) | M5: =N14 -> 0 | N5: 0
A6: 합계 | D6: =A225&" "&"명" -> 219 명 | E6: =SUM(E7:E225) -> 1535000 | J6: 2. 해지 (-) | M6: =N24 -> 0 | N6: 0
A7: 1 | B7: 원 장 | C7: 10000001 | D7: 오진규 | E7: 50000 | F7: 정기후원 | J7: 4. 후원금액 변동(+) | M7: =P30 -> 0 | N7: 0
A8: 2 | B8: 의사직 | C8: 10100002 | D8: 김정회 | E8: 10000 | F8: 〃 | J8: C. 당월 공제 (A+B) | M8: =E6 -> 1535000 | N8: =N3+N4 -> 219
A9: 3 | B9: 의사직 | C9: 10100017 | D9: 정문환 | E9: 10000 | F9: 〃
A10: 4 | B10: 의사직 | C10: 10100034 | D10: 오소영 | E10: 100000 | F10: 〃 | J10: < 변경사항 상세 >
A11: 5 | B11: 의사직 | C11: 10100049 | D11: 배강민 | E11: 10000 | F11: 〃
A12: 6 | B12: 의사직 | C12: 10100056 | D12: 장재호 | E12: 10000 | F12: 〃 | J12: □ 신규자
A13: 7 | B13: 의사직 | C13: 10100063 | D13: 김석기 | E13: 10000 | F13: 〃 | J13: 연번 | K13: 직종 | L13: 직번 | M13: 성명 | N13: 금액(원) | O13: 사유 | P13: 비고
A14: 8 | B14: 의사직 | C14: 10100084 | D14: 김기남 | E14: 30000 | F14: 〃 | J14: 합계 | N14: =SUM(N15:N20) -> 0
A15: 9 | B15: 의사직 | C15: 10100085 | D15: 정수현 | E15: 10000 | F15: 〃 | J15: 1
A16: 10 | B16: 의사직 | C16: 10100117 | D16: 신호윤 | E16: 10000 | F16: 〃 | J16: 2
A17: 11 | B17: 의사직 | C17: 10100170 | D17: 정재용 | E17: 50000 | F17: 〃 | J17: 3
A18: 12 | B18: 약사직 | C18: 10200002 | D18: 이경옥 | E18: 50000 | F18: 〃 | J18: 4
A19: 13 | B19: 간호직 | C19: 10300012 | D19: 박연임 | E19: 10000 | F19: 〃 | J19: 5
A20: 14 | B20: 간호직 | C20: 10300013 | D20: 원은정 | E20: 5000 | F20: 〃 | J20: 6
A21: 15 | B21: 간호직 | C21: 10300014 | D21: 이영성 | E21: 10000 | F21: 〃
A22: 16 | B22: 간호직 | C22: 10300015 | D22: 최금숙 | E22: 10000 | F22: 〃 | J22: □ 해지자
A23: 17 | B23: 간호직 | C23: 10300016 | D23: 박복선 | E23: 2000 | F23: 〃 | J23: 연번 | K23: 직종 | L23: 직번 | M23: 성명 | N23: 금액(원) | O23: 사유 | P23: 비고
A24: 18 | B24: 간호직 | C24: 10300018 | D24: 정미숙 | E24: 2000 | F24: 〃 | J24: 합계 | N24: =SUM(N25:N26) -> 0
A25: 19 | B25: 간호직 | C25: 10300019 | D25: 서현순 | E25: 5000 | F25: 〃 | J25: 1
A26: 20 | B26: 간호직 | C26: 10300022 | D26: 장민순 | E26: 10000 | F26: 〃 | J26: 2
A27: 21 | B27: 간호직 | C27: 10300023 | D27: 최정아 | E27: 5000 | F27: 〃
A28: 22 | B28: 간호직 | C28: 10300024 | D28: 소영임 | E28: 20000 | F28: 〃 | J28: □ 후원금액변동 공제자
A29: 23 | B29: 간호직 | C29: 10300025 | D29: 이영현 | E29: 30000 | F29: 〃 | J29: 연번 | K29: 직종 | L29: 직번 | M29: 성명 | N29: 기존 | O29: 변경 | P29: 비고(증감)
A30: 24 | B30: 간호직 | C30: 10300027 | D30: 이지선 | E30: 20000 | F30: 〃 | J30: 합계 | N30: =SUM(N31:N32) -> 0 | O30: =SUM(O31:O32) -> 0 | P30: =SUM(P31:P32) -> 0
A31: 25 | B31: 간호직 | C31: 10300029 | D31: 강선정 | E31: 2000 | F31: 〃 | J31: 1
A32: 26 | B32: 간호직 | C32: 10300031 | D32: 이미란 | E32: 10000 | F32: 〃 | J32: 2
A33: 27 | B33: 간호직 | C33: 10300034 | D33: 박순이 | E33: 20000 | F33: 〃
A34: 28 | B34: 간호직 | C34: 10300037 | D34: 김남신 | E34: 1000 | F34: 〃
A35: 29 | B35: 간호직 | C35: 10300045 | D35: 문의순 | E35: 20000 | F35: 〃 | M35: 2024.06.14.
A36: 30 | B36: 간호직 | C36: 10300047 | D36: 김미정 | E36: 5000 | F36: 〃 | L36: 작 성 자 : | M36: 보건의료복지통합지원실 윤정일
A37: 31 | B37: 간호직 | C37: 10300049 | D37: 박은경 | E37: 20000 | F37: 〃
A38: 32 | B38: 간호직 | C38: 10300058 | D38: 조영숙 | E38: 5000 | F38: 〃
A39: 33 | B39: 간호직 | C39: 10300064 | D39: 송은숙 | E39: 5000 | F39: 〃
A40: 34 | B40: 간호직 | C40: 10300071 | D40: 윤헌경 | E40: 20000 | F40: 〃
A41: 35 | B41: 간호직 | C41: 10300073 | D41: 김난희 | E41: 5000 | F41: 〃
A42: 36 | B42: 간호직 | C42: 10300074 | D42: 김효순 | E42: 5000 | F42: 〃
A43: 37 | B43: 간호직 | C43: 10300077 | D43: 정분남 | E43: 1000 | F43: 〃
A44: 38 | B44: 간호직 | C44: 10300079 | D44: 김혜숙 | E44: 10000 | F44: 〃
A45: 39 | B45: 간호직 | C45: 10300080 | D45: 유선자 | E45: 30000 | F45: 〃
A46: 40 | B46: 간호직 | C46: 10300092 | D46: 성기선 | E46: 1000 | F46: 〃
A47: 41 | B47: 간호직 | C47: 10300101 | D47: 박은주 | E47: 1000 | F47: 〃
A48: 42 | B48: 간호직 | C48: 10300105 | D48: 김회옥 | E48: 1000 | F48: 〃
... A225: 219 | B225: 간호직 | C225: 11300004 | D225: 이도희 | E225: 5000 | F225: 〃

Sheet 5월
A1: 2024년 5월 사회복지후원금 공제 내역
J2: 구 분 | M2: 금액(원) | N2: 인원(명)
F3: 기준일 : 2024.05.10. | J3: A. 전월 공제 | M3: ='4월'!M8 -> 1486000 | N3: ='4월'!N8 -> 214
J4: B. 당월 변동액 / 인원 | M4: =M5-M6+M7 -> 29000 | N4: =N5-N6 -> 5
A5: 연번 | B5: 직종 | C5: 직번 | D5: 성명 | E5: 금액(원) | F5: 후원구분 | G5: 비고 | J5: 1. 신규 (+) | M5: =N14 -> 31000 | N5: 6
A6: 합계 | D6: =A225&" "&"명" -> 219 명 | E6: =SUM(E7:E225) -> 1535000 | J6: 2. 해지 (-) | M6: =N24 -> 2000 | N6: 1
A7: 1 | B7: 원 장 | C7: 10000001 | D7: 오진규 | E7: 50000 | F7: 정기후원 | J7: 4. 후원금액 변동(+) | M7: =P30 -> 0 | N7: -
A8: 2 | B8: 의사직 | C8: 10100002 | D8: 김정회 | E8: 10000 | F8: 〃 | J8: C. 당월 공제 (A+B) | M8: =E6 -> 1535000 | N8: =N3+N4 -> 219
A9: 3 | B9: 의사직 | C9: 10100017 | D9: 정문환 | E9: 10000 | F9: 〃
A10: 4 | B10: 의사직 | C10: 10100034 | D10: 오소영 | E10: 100000 | F10: 〃 | J10: < 변경사항 상세 >
A11: 5 | B11: 의사직 | C11: 10100049 | D11: 배강민 | E11: 10000 | F11: 〃
A12: 6 | B12: 의사직 | C12: 10100056 | D12: 장재호 | E12: 10000 | F12: 〃 | J12: □ 신규자
A13: 7 | B13: 의사직 | C13: 10100063 | D13: 김석기 | E13: 10000 | F13: 〃 | J13: 연번 | K13: 직종 | L13: 직번 | M13: 성명 | N13: 금액(원) | O13: 사유 | P13: 비고
A14: 8 | B14: 의사직 | C14: 10100084 | D14: 김기남 | E14: 30000 | F14: 〃 | J14: 합계 | K14: 6명 | N14: =SUM(N15:N20) -> 31000
A15: 9 | B15: 의사직 | C15: 10100085 | D15: 정수현 | E15: 10000 | F15: 〃 | J15: 1 | K15: 간호직 | L15: 10300466 | M15: 김순영 | N15: 5000 | O15: 재가입
A16: 10 | B16: 의사직 | C16: 10100117 | D16: 신호윤 | E16: 10000 | F16: 〃 | J16: 2 | K16: 보건직 | L16: 10400013 | M16: 황기석 | N16: 10000 | O16: 신규
A17: 11 | B17: 의사직 | C17: 10100170 | D17: 정재용 | E17: 50000 | F17: 〃 | J17: 3 | K17: 보건직 | L17: 10400074 | M17: 송지훈 | N17: 5000 | O17: 〃
A18: 12 | B18: 약사직 | C18: 10200002 | D18: 이경옥 | E18: 50000 | F18: 〃 | J18: 4 | K18: 사무직 | L18: 10500025 | M18: 장세정 | N18: 1000 | O18: 재가입
A19: 13 | B19: 간호직 | C19: 10300012 | D19: 박연임 | E19: 10000 | F19: 〃 | J19: 5 | K19: 사무직 | L19: 10500031 | M19: 박소형 | N19: 2000 | O19: 신규
A20: 14 | B20: 간호직 | C20: 10300013 | D20: 원은정 | E20: 5000 | F20: 〃 | J20: 6 | K20: 사무직 | L20: 10500058 | M20: 박세직 | N20: 8000 | O20: 〃
A21: 15 | B21: 간호직 | C21: 10300014 | D21: 이영성 | E21: 10000 | F21: 〃
A22: 16 | B22: 간호직 | C22: 10300015 | D22: 최금숙 | E22: 10000 | F22: 〃 | J22: □ 해지자
A23: 17 | B23: 간호직 | C23: 10300016 | D23: 박복선 | E23: 2000 | F23: 〃 | J23: 연번 | K23: 직종 | L23: 직번 | M23: 성명 | N23: 금액(원) | O23: 사유 | P23: 비고
A24: 18 | B24: 간호직 | C24: 10300018 | D24: 정미숙 | E24: 2000 | F24: 〃 | J24: 합계 | K24: 1명 | N24: =SUM(N25:N26) -> 2000
A25: 19 | B25: 간호직 | C25: 10300019 | D25: 서현순 | E25: 5000 | F25: 〃 | J25: 1 | K25: 간호직 | L25: 10300477 | M25: 오지영 | N25: 2000
A26: 20 | B26: 간호직 | C26: 10300022 | D26: 장민순 | E26: 10000 | F26: 〃 | J26: 2
A27: 21 | B27: 간호직 | C27: 10300023 | D27: 최정아 | E27: 5000 | F27: 〃
A28: 22 | B28: 간호직 | C28: 10300024 | D28: 소영임 | E28: 20000 | F28: 〃 | J28: □ 후원금액변동 공제자
A29: 23 | B29: 간호직 | C29: 10300025 | D29: 이영현 | E29: 30000 | F29: 〃 | J29: 연번 | K29: 직종 | L29: 직번 | M29: 성명 | N29: 기존 | O29: 변경 | P29: 비고(증감)
A30: 24 | B30: 간호직 | C30: 10300027 | D30: 이지선 | E30: 20000 | F30: 〃 | J30: 합계 | N30: =SUM(N31:N32) -> 0 | O30: =SUM(O31:O32) -> 0 | P30: =SUM(P31:P32) -> 0
A31: 25 | B31: 간호직 | C31: 10300029 | D31: 강선정 | E31: 2000 | F31: 〃 | J31: 1
A32: 26 | B32: 간호직 | C32: 10300031 | D32: 이미란 | E32: 10000 | F32: 〃 | J32: 2
A33: 27 | B33: 간호직 | C33: 10300034 | D33: 박순이 | E33: 20000 | F33: 〃
A34: 28 | B34: 간호직 | C34: 10300037 | D34: 김남신 | E34: 1000 | F34: 〃
A35: 29 | B35: 간호직 | C35: 10300045 | D35: 문의순 | E35: 20000 | F35: 〃 | M35: 2024.05.10.
A36: 30 | B36: 간호직 | C36: 10300047 | D36: 김미정 | E36: 5000 | F36: 〃 | L36: 작 성 자 : | M36: 보건의료복지통합지원실 윤정일
A37: 31 | B37: 간호직 | C37: 10300049 | D37: 박은경 | E37: 20000 | F37: 〃
A38: 32 | B38: 간호직 | C38: 10300058 | D38: 조영숙 | E38: 5000 | F38: 〃
A39: 33 | B39: 간호직 | C39: 10300064 | D39: 송은숙 | E39: 5000 | F39: 〃
A40: 34 | B40: 간호직 | C40: 10300071 | D40: 윤헌경 | E40: 20000 | F40: 〃
A41: 35 | B41: 간호직 | C41: 10300073 | D41: 김난희 | E41: 5000 | F41: 〃
A42: 36 | B42: 간호직 | C42: 10300074 | D42: 김효순 | E42: 5000 | F42: 〃
A43: 37 | B43: 간호직 | C43: 10300077 | D43: 정분남 | E43: 1000 | F43: 〃
A44: 38 | B44: 간호직 | C44: 10300079 | D44: 김혜숙 | E44: 10000 | F44: 〃
A45: 39 | B45: 간호직 | C45: 10300080 | D45: 유선자 | E45: 30000 | F45: 〃
A46: 40 | B46: 간호직 | C46: 10300092 | D46: 성기선 | E46: 1000 | F46: 〃
A47: 41 | B47: 간호직 | C47: 10300101 | D47: 박은주 | E47: 1000 | F47: 〃
A48: 42 | B48: 간호직 | C48: 10300105 | D48: 김회옥 | E48: 1000 | F48: 〃
... A95: 89 | B95: 간호직 | C95: 10300465 | D95: 허준영 | E95: 1000 | F95: 〃
A96: 90 | B96: 간호직 | C96: 10300466 | D96: 김순영 | E96: 5000 | F96: 〃 | G96: 신규
A97: 91 | B97: 간호직 | C97: 10300468 | D97: 정지현 | E97: 10000 | F97: 〃
A98: 92 | B98: 간호직 | C98: 10300471 | D98: 김예슬 | E98: 10000 | F98: 〃
A99: 93 | B99: 간호직 | C99: 10300474 | D99: 강예진 | E99: 3000 | F99: 〃
A100: 94 | B100: 간호직 | C100: 10300479 | D100: 최보윤 | E100: 1000 | F100: 〃
A101: 95 | B101: 간호직 | C101: 10300481 | D101: 황제권 | E101: 5000 | F101: 〃
A102: 96 | B102: 간호직 | C102: 10300485 | D102: 강준환 | E102: 3000 | F102: 〃
A103: 97 | B103: 간호직 | C103: 10300486 | D103: 이수빈 | E103: 1000 | F103: 〃
A104: 98 | B104: 간호직 | C104: 10300489 | D104: 곽수영 | E104: 3000 | F104: 〃
A105: 99 | B105: 간호직 | C105: 10300492 | D105: 서대진 | E105: 3000 | F105: 〃
A106: 100 | B106: 간호직 | C106: 10300495 | D106: 임가은 | E106: 1000 | F106: 〃
A107: 101 | B107: 간호직 | C107: 10300498 | D107: 김예은 | E107: 5000 | F107: 〃
A108: 102 | B108: 간호직 | C108: 10300499 | D108: 김아람 | E108: 5000 | F108: 〃
... A126: 120 | B126: 보건직 | C126: 10400009 | D126: 이윤정 | E126: 5000 | F126: 〃
A127: 121 | B127: 보건직 | C127: 10400013 | D127: 황기석 | E127: 10000 | F127: 〃 | G127: 신규
A128: 122 | B128: 보건직 | C128: 10400014 | D128: 원종균 | E128: 1000 | F128: 〃
A129: 123 | B129: 보건직 | C129: 10400017 | D129: 김동주 | E129: 1000 | F129: 〃
A130: 124 | B130: 보건직 | C130: 10400018 | D130: 김양배 | E130: 1000 | F130: 〃
A131: 125 | B131: 보건직 | C131: 10400020 | D131: 김정희 | E131: 1000 | F131: 〃
A132: 126 | B132: 보건직 | C132: 10400021 | D132: 임향용 | E132: 2000 | F132: 〃
A133: 127 | B133: 보건직 | C133: 10400026 | D133: 임선미 | E133: 2000 | F133: 〃
A134: 128 | B134: 보건직 | C134: 10400027 | D134: 오세은 | E134: 2000 | F134: 〃
A135: 129 | B135: 보건직 | C135: 10400029 | D135: 동헌 | E135: 10000 | F135: 〃
A136: 130 | B136: 보건직 | C136: 10400030 | D136: 윤선영 | E136: 1000 | F136: 〃
A137: 131 | B137: 보건직 | C137: 10400031 | D137: 양윤정 | E137: 5000 | F137: 〃
A138: 132 | B138: 보건직 | C138: 10400034 | D138: 방진희 | E138: 2000 | F138: 〃
A139: 133 | B139: 보건직 | C139: 10400037 | D139: 김종훈 | E139: 10000 | F139: 〃
... A156: 150 | B156: 보건직 | C156: 10400073 | D156: 이태현 | E156: 10000 | F156: 〃
A157: 151 | B157: 보건직 | C157: 10400074 | D157: 송지훈 | E157: 5000 | F157: 〃 | G157: 신규
A158: 152 | B158: 보건직 | C158: 10400077 | D158: 송은규 | E158: 10000 | F158: 〃
A159: 153 | B159: 사무직 | C159: 10500015 | D159: 서희순 | E159: 5000 | F159: 〃
A160: 154 | B160: 사무직 | C160: 10500018 | D160: 임미숙 | E160: 10000 | F160: 〃
A161: 155 | B161: 사무직 | C161: 10500020 | D161: 이정민 | E161: 10000 | F161: 〃
A162: 156 | B162: 사무직 | C162: 10500023 | D162: 차은경 | E162: 5000 | F162: 〃
A163: 157 | B163: 사무직 | C163: 10500024 | D163: 박은미 | E163: 10000 | F163: 〃
A164: 158 | B164: 사무직 | C164: 10500025 | D164: 장세정 | E164: 1000 | F164: 〃 | G164: 신규
A165: 159 | B165: 사무직 | C165: 10500026 | D165: 이지승 | E165: 1000 | F165: 〃
A166: 160 | B166: 사무직 | C166: 10500027 | D166: 김대인 | E166: 10000 | F166: 〃
A167: 161 | B167: 사무직 | C167: 10500031 | D167: 박소형 | E167: 2000 | F167: 〃 | G167: 신규
A168: 162 | B168: 사무직 | C168: 10500032 | D168: 양기종 | E168: 5000 | F168: 〃
A169: 163 | B169: 사무직 | C169: 10500033 | D169: 서영란 | E169: 10000 | F169: 〃
A170: 164 | B170: 사무직 | C170: 10500040 | D170: 이한국 | E170: 10000 | F170: 〃
A171: 165 | B171: 사무직 | C171: 10500043 | D171: 전준상 | E171: 3000 | F171: 〃
A172: 166 | B172: 사무직 | C172: 10500046 | D172: 고진우 | E172: 5000 | F172: 〃
A173: 167 | B173: 사무직 | C173: 10500058 | D173: 박세직 | E173: 8000 | F173: 〃 | G173: 신규
A174: 168 | B174: 시설관리직 | C174: 10600103 | D174: 김주성 | E174: 20000 | F174: 〃
A175: 169 | B175: 시설관리직 | C175: 10600104 | D175: 이미정 | E175: 10000 | F175: 〃
A176: 170 | B176: 시설관리직 | C176: 10600105 | D176: 양희성 | E176: 1000 | F176: 〃
A177: 171 | B177: 시설관리직 | C177: 10600108 | D177: 배종완 | E177: 3000 | F177: 〃
A178: 172 | B178: 시설관리직 | C178: 10600110 | D178: 박은옥 | E178: 10000 | F178: 〃
A179: 173 | B179: 시설관리직 | C179: 10600113 | D179: 이병주 | E179: 1000 | F179: 〃
...

Sheet 4월
A1: 2024년 4월 사회복지후원금 공제 내역
J2: 구 분 | M2: 금액(원) | N2: 인원(명)
F3: 기준일 : 2024.04.12. | J3: A. 전월 공제 | M3: ='3월'!M8 -> 1528000 | N3: ='3월'!N8 -> 214
J4: B. 당월 변동액 / 인원 | M4: =M5-M6+M7 -> -22000 | N4: =N5-N6 -> 0
A5: 연번 | B5: 직종 | C5: 직번 | D5: 성명 | E5: 금액(원) | F5: 후원구분 | G5: 비고 | J5: 1. 신규 (+) | M5: =N14 -> 10000 | N5: 2
A6: 합계 | D6: =A220&" "&"명" -> 213 명 | E6: =SUM(E7:E220) -> 1486000 | J6: 2. 해지 (-) | M6: =N20 -> 2000 | N6: 2
A7: 1 | B7: 원 장 | C7: 10000001 | D7: 오진규 | E7: 50000 | F7: 정기후원 | J7: 4. 후원금액 변동(+) | M7: =P26 -> -30000 | N7: 1
A8: 2 | B8: 의사직 | C8: 10100002 | D8: 김정회 | E8: 10000 | F8: 〃 | J8: C. 당월 공제 (A+B) | M8: =E6 -> 1486000 | N8: =N3+N4 -> 214
A9: 3 | B9: 의사직 | C9: 10100017 | D9: 정문환 | E9: 10000 | F9: 〃
A10: 4 | B10: 의사직 | C10: 10100034 | D10: 오소영 | E10: 100000 | F10: 〃 | J10: < 변경사항 상세 >
A11: 5 | B11: 의사직 | C11: 10100049 | D11: 배강민 | E11: 10000 | F11: 〃
A12: 6 | B12: 의사직 | C12: 10100056 | D12: 장재호 | E12: 10000 | F12: 〃 | J12: □ 신규자
A13: 7 | B13: 의사직 | C13: 10100063 | D13: 김석기 | E13: 10000 | F13: 〃 | J13: 연번 | K13: 직종 | L13: 직번 | M13: 성명 | N13: 금액(원) | O13: 사유 | P13: 비고
A14: 8 | B14: 의사직 | C14: 10100084 | D14: 김기남 | E14: 30000 | F14: 〃 | J14: 합계 | N14: =SUM(N15:N16) -> 10000
A15: 9 | B15: 의사직 | C15: 10100085 | D15: 정수현 | E15: 10000 | F15: 〃 | J15: 1 | K15: 간호직 | L15: 10300515 | M15: 안효인 | N15: 5000
A16: 10 | B16: 의사직 | C16: 10100117 | D16: 신호윤 | E16: 10000 | F16: 〃 | J16: 2 | K16: 간호직 | L16: 11300004 | M16: 이도희 | N16: 5000
A17: 11 | B17: 의사직 | C17: 10100170 | D17: 정재용 | E17: 50000 | F17: 〃
A18: 12 | B18: 약사직 | C18: 10200002 | D18: 이경옥 | E18: 50000 | F18: 〃 | J18: □ 해지자
A19: 13 | B19: 간호직 | C19: 10300012 | D19: 박연임 | E19: 10000 | F19: 〃 | J19: 연번 | K19: 직종 | L19: 직번 | M19: 성명 | N19: 금액(원) | O19: 사유 | P19: 비고
A20: 14 | B20: 간호직 | C20: 10300013 | D20: 원은정 | E20: 5000 | F20: 〃 | J20: 합계 | N20: =SUM(N21:N22) -> 2000
A21: 15 | B21: 간호직 | C21: 10300014 | D21: 이영성 | E21: 10000 | F21: 〃 | J21: 1 | K21: 간호직 | L21: 10300493 | M21: 전희수 | N21: 1000
A22: 16 | B22: 간호직 | C22: 10300015 | D22: 최금숙 | E22: 10000 | F22: 〃 | J22: 2 | K22: 간호직 | L22: 10300506 | M22: 장세휘 | N22: 1000
A23: 17 | B23: 간호직 | C23: 10300016 | D23: 박복선 | E23: 2000 | F23: 〃
A24: 18 | B24: 간호직 | C24: 10300018 | D24: 정미숙 | E24: 2000 | F24: 〃 | J24: □ 후원금액변동 공제자
A25: 19 | B25: 간호직 | C25: 10300019 | D25: 서현순 | E25: 5000 | F25: 〃 | J25: 연번 | K25: 직종 | L25: 직번 | M25: 성명 | N25: 기존 | O25: 변경 | P25: 비고(증감)
A26: 20 | B26: 간호직 | C26: 10300022 | D26: 장민순 | E26: 10000 | F26: 〃 | J26: 합계 | N26: =SUM(N27:N28) -> 50000 | O26: =SUM(O27:O28) -> 20000 | P26: =SUM(P27:P28) -> -30000
A27: 21 | B27: 간호직 | C27: 10300023 | D27: 최정아 | E27: 5000 | F27: 〃 | J27: 1 | K27: 보건직 | L27: 10400040 | M27: 황현진 | N27: 50000 | O27: 20000 | P27: =O27-N27 -> -30000
A28: 22 | B28: 간호직 | C28: 10300024 | D28: 소영임 | E28: 20000 | F28: 〃 | J28: 2
A29: 23 | B29: 간호직 | C29: 10300025 | D29: 이영현 | E29: 30000 | F29: 〃
A30: 24 | B30: 간호직 | C30: 10300027 | D30: 이지선 | E30: 20000 | F30: 〃
A31: 25 | B31: 간호직 | C31: 10300029 | D31: 강선정 | E31: 2000 | F31: 〃 | M31: 2024.03.15.
A32: 26 | B32: 간호직 | C32: 10300031 | D32: 이미란 | E32: 10000 | F32: 〃 | L32: 작 성 자 : | M32: 보건의료복지통합지원실 윤정일
A33: 27 | B33: 간호직 | C33: 10300034 | D33: 박순이 | E33: 20000 | F33: 〃
A34: 28 | B34: 간호직 | C34: 10300037 | D34: 김남신 | E34: 1000 | F34: 〃
A35: 누락 | B35: 간호직 | C35: 10300045 | D35: 문의순 | F35: 〃
A36: 29 | B36: 간호직 | C36: 10300047 | D36: 김미정 | E36: 5000 | F36: 〃
A37: 30 | B37: 간호직 | C37: 10300049 | D37: 박은경 | E37: 20000 | F37: 〃
A38: 31 | B38: 간호직 | C38: 10300058 | D38: 조영숙 | E38: 5000 | F38: 〃
A39: 32 | B39: 간호직 | C39: 10300064 | D39: 송은숙 | E39: 5000 | F39: 〃
A40: 33 | B40: 간호직 | C40: 10300071 | D40: 윤헌경 | E40: 20000 | F40: 〃
A41: 34 | B41: 간호직 | C41: 10300073 | D41: 김난희 | E41: 5000 | F41: 〃
A42: 35 | B42: 간호직 | C42: 10300074 | D42: 김효순 | E42: 5000 | F42: 〃
A43: 36 | B43: 간호직 | C43: 10300077 | D43: 정분남 | E43: 1000 | F43: 〃
A44: 37 | B44: 간호직 | C44: 10300079 | D44: 김혜숙 | E44: 10000 | F44: 〃
A45: 38 | B45: 간호직 | C45: 10300080 | D45: 유선자 | E45: 30000 | F45: 〃
A46: 39 | B46: 간호직 | C46: 10300092 | D46: 성기선 | E46: 1000 | F46: 〃
A47: 40 | B47: 간호직 | C47: 10300101 | D47: 박은주 | E47: 1000 | F47: 〃
... A98: 91 | B98: 간호직 | C98: 10300474 | D98: 강예진 | E98: 3000 | F98: 〃
A99: 92 | B99: 간호직 | C99: 10300477 | D99: 오지영 | E99: 2000 | F99: 〃 | G99: 퇴직
A100: 93 | B100: 간호직 | C100: 10300479 | D100: 최보윤 | E100: 1000 | F100: 〃
A101: 94 | B101: 간호직 | C101: 10300481 | D101: 황제권 | E101: 5000 | F101: 〃
A102: 95 | B102: 간호직 | C102: 10300485 | D102: 강준환 | E102: 3000 | F102: 〃
A103: 96 | B103: 간호직 | C103: 10300486 | D103: 이수빈 | E103: 1000 | F103: 〃
A104: 97 | B104: 간호직 | C104: 10300489 | D104: 곽수영 | E104: 3000 | F104: 〃
A105: 98 | B105: 간호직 | C105: 10300492 | D105: 서대진 | E105: 3000 | F105: 〃
A106: 99 | B106: 간호직 | C106: 10300495 | D106: 임가은 | E106: 1000 | F106: 〃
A107: 100 | B107: 간호직 | C107: 10300498 | D107: 김예은 | E107: 5000 | F107: 〃
A108: 101 | B108: 간호직 | C108: 10300499 | D108: 김아람 | E108: 5000 | F108: 〃
A109: 102 | B109: 간호직 | C109: 10300500 | D109: 정소이 | E109: 10000 | F109: 〃
A110: 103 | B110: 간호직 | C110: 10300497 | D110: 안선형 | E110: 1000 | F110: 〃
A111: 104 | B111: 간호직 | C111: 10300502 | D111: 최지원 | E111: 1000 | F111: 〃
... A122: 115 | B122: 간호직 | C122: 10300514 | D122: 조지연 | E122: 5000 | F122: 〃
A123: 116 | B123: 간호직 | C123: 10300515 | D123: 안효인 | E123: 5000 | F123: 〃 | G123: 신규
A124: 117 | B124: 보건직 | C124: 10400007 | D124: 최인영 | E124: 5000 | F124: 〃
A125: 118 | B125: 보건직 | C125: 10400008 | D125: 배종섭 | E125: 2000 | F125: 〃
A126: 119 | B126: 보건직 | C126: 10400009 | D126: 이윤정 | E126: 5000 | F126: 〃
A127: 120 | B127: 보건직 | C127: 10400014 | D127: 원종균 | E127: 1000 | F127: 〃
A128: 121 | B128: 보건직 | C128: 10400017 | D128: 김동주 | E128: 1000 | F128: 〃
A129: 122 | B129: 보건직 | C129: 10400018 | D129: 김양배 | E129: 1000 | F129: 〃
A130: 123 | B130: 보건직 | C130: 10400020 | D130: 김정희 | E130: 1000 | F130: 〃
A131: 124 | B131: 보건직 | C131: 10400021 | D131: 임향용 | E131: 2000 | F131: 〃
A132: 125 | B132: 보건직 | C132: 10400026 | D132: 임선미 | E132: 2000 | F132: 〃
A133: 126 | B133: 보건직 | C133: 10400027 | D133: 오세은 | E133: 2000 | F133: 〃
A134: 127 | B134: 보건직 | C134: 10400029 | D134: 동헌 | E134: 10000 | F134: 〃
A135: 128 | B135: 보건직 | C135: 10400030 | D135: 윤선영 | E135: 1000 | F135: 〃
... A138: 131 | B138: 보건직 | C138: 10400037 | D138: 김종훈 | E138: 10000 | F138: 〃
A139: 132 | B139: 보건직 | C139: 10400040 | D139: 황현진 | E139: 20000 | F139: 〃 | G139: 변경 | H139: 2024.03.20. 요청(50,000)
A140: 133 | B140: 보건직 | C140: 10400041 | D140: 박강희 | E140: 3000 | F140: 〃
A141: 134 | B141: 보건직 | C141: 10400042 | D141: 조용재 | E141: 5000 | F141: 〃
A142: 135 | B142: 보건직 | C142: 10400045 | D142: 박종민 | E142: 5000 | F142: 〃
A143: 136 | B143: 보건직 | C143: 10400046 | D143: 노민혁 | E143: 1000 | F143: 〃
A144: 137 | B144: 보건직 | C144: 10400048 | D144: 박효진 | E144: 10000 | F144: 〃
A145: 138 | B145: 보건직 | C145: 10400051 | D145: 양세나 | E145: 10000 | F145: 〃
A146: 139 | B146: 보건직 | C146: 10400058 | D146: 윤정일 | E146: 30000 | F146: 〃
A147: 140 | B147: 보건직 | C147: 10400062 | D147: 이선기 | E147: 1000 | F147: 〃
A148: 141 | B148: 보건직 | C148: 10400063 | D148: 오치성 | E148: 10000 | F148: 〃
A149: 142 | B149: 보건직 | C149: 10400064 | D149: 김상현 | E149: 3000 | F149: 〃
A150: 143 | B150: 보건직 | C150: 10400065 | D150: 이정기 | E150: 5000 | F150: 〃
A151: 144 | B151: 보건직 | C151: 10400066 | D151: 윤상호 | E151: 20000 | F151: 〃
... A217: 210 | B217: 시설관리직 | C217: 11100387 | D217: 오연주 | E217: 5000 | F217: 〃
A218: 211 | B218: 간호직 | C218: 11300002 | D218: 이민서 | E218: 10000 | F218: 〃 | G218: 신규
A219: 212 | B219: 간호직 | C219: 11300003 | D219: 장지은 | E219: 10000 | F219: 〃 | G219: 신규
A220: 213 | B220: 간호직 | C220: 11300004 | D220: 이도희 | E220: 5000 | F220: 〃 | G220: 신규

Sheet 3월
A1: 2024년 3월 사회복지후원금 공제 내역
J2: 구 분 | M2: 금액(원) | N2: 인원(명)
F3: 기준일 : 2024.03.15. | J3: A. 전월 공제 | M3: ='2월'!M8 -> 1473000 | N3: ='2월'!N8 -> 199
J4: B. 당월 변동액 / 인원 | M4: =M5-M6+M7 -> 55000 | N4: =N5-N6 -> 15
A5: 연번 | B5: 직종 | C5: 직번 | D5: 성명 | E5: 금액(원) | F5: 후원구분 | G5: 비고 | J5: 1. 신규 (+) | M5: =N14 -> 80000 | N5: 16
A6: 합계 | D6: =A220&" "&"명" -> 214 명 | E6: =SUM(E7:E220) -> 1528000 | J6: 2. 해지 (-) | M6: =N34 -> 5000 | N6: 1
A7: 1 | B7: 원 장 | C7: 10000001 | D7: 오진규 | E7: 50000 | F7: 정기후원 | J7: 4. 후원금액 변동(+) | M7: =P40 -> -20000 | N7: 2
A8: 2 | B8: 의사직 | C8: 10100002 | D8: 김정회 | E8: 10000 | F8: 〃 | J8: C. 당월 공제 (A+B) | M8: =M3+M4 -> 1528000 | N8: =N3+N4 -> 214
A9: 3 | B9: 의사직 | C9: 10100017 | D9: 정문환 | E9: 10000 | F9: 〃
A10: 4 | B10: 의사직 | C10: 10100034 | D10: 오소영 | E10: 100000 | F10: 〃 | J10: < 변경사항 상세 >
A11: 5 | B11: 의사직 | C11: 10100049 | D11: 배강민 | E11: 10000 | F11: 〃
A12: 6 | B12: 의사직 | C12: 10100056 | D12: 장재호 | E12: 10000 | F12: 〃 | J12: □ 신규자
A13: 7 | B13: 의사직 | C13: 10100063 | D13: 김석기 | E13: 10000 | F13: 〃 | J13: 연번 | K13: 직종 | L13: 직번 | M13: 성명 | N13: 금액(원) | O13: 사유 | P13: 비고
A14: 8 | B14: 의사직 | C14: 10100084 | D14: 김기남 | E14: 30000 | F14: 〃 | J14: 합계 | N14: =SUM(N15:N30) -> 80000
A15: 9 | B15: 의사직 | C15: 10100085 | D15: 정수현 | E15: 10000 | F15: 〃 | J15: 1 | K15: 간호직 | L15: 10300502 | M15: 최지원 | N15: 1000 | O15: 신규
A16: 10 | B16: 의사직 | C16: 10100117 | D16: 신호윤 | E16: 10000 | F16: 〃 | J16: 2 | K16: 간호직 | L16: 10300503 | M16: 정경란 | N16: 5000 | O16: 신규
A17: 11 | B17: 의사직 | C17: 10100170 | D17: 정재용 | E17: 50000 | F17: 〃 | J17: 3 | K17: 간호직 | L17: 10300504 | M17: 조세나 | N17: 5000 | O17: 신규
A18: 12 | B18: 약사직 | C18: 10200002 | D18: 이경옥 | E18: 50000 | F18: 〃 | J18: 4 | K18: 간호직 | L18: 10300505 | M18: 박강희 | N18: 1000 | O18: 신규
A19: 13 | B19: 간호직 | C19: 10300012 | D19: 박연임 | E19: 10000 | F19: 〃 | J19: 5 | K19: 간호직 | L19: 10300506 | M19: 장세휘 | N19: 1000 | O19: 신규
A20: 14 | B20: 간호직 | C20: 10300013 | D20: 원은정 | E20: 5000 | F20: 〃 | J20: 6 | K20: 간호직 | L20: 10300507 | M20: 손수진 | N20: 10000 | O20: 신규
A21: 15 | B21: 간호직 | C21: 10300014 | D21: 이영성 | E21: 10000 | F21: 〃 | J21: 7 | K21: 간호직 | L21: 10300508 | M21: 윤다휘 | N21: 1000 | O21: 신규
A22: 16 | B22: 간호직 | C22: 10300015 | D22: 최금숙 | E22: 10000 | F22: 〃 | J22: 8 | K22: 간호직 | L22: 10300509 | M22: 김해원 | N22: 5000 | O22: 신규
A23: 17 | B23: 간호직 | C23: 10300016 | D23: 박복선 | E23: 2000 | F23: 〃 | J23: 9 | K23: 간호직 | L23: 10300510 | M23: 정가은 | N23: 5000 | O23: 신규
A24: 18 | B24: 간호직 | C24: 10300018 | D24: 정미숙 | E24: 2000 | F24: 〃 | J24: 10 | K24: 간호직 | L24: 10300511 | M24: 김성수 | N24: 5000 | O24: 신규
A25: 19 | B25: 간호직 | C25: 10300019 | D25: 서현순 | E25: 5000 | F25: 〃 | J25: 11 | K25: 간호직 | L25: 10300512 | M25: 허혜진 | N25: 1000 | O25: 신규
A26: 20 | B26: 간호직 | C26: 10300022 | D26: 장민순 | E26: 10000 | F26: 〃 | J26: 12 | K26: 간호직 | L26: 10300513 | M26: 김윤성 | N26: 5000 | O26: 신규
... A30: 24 | B30: 간호직 | C30: 10300027 | D30: 이지선 | E30: 20000 | F30: 〃 | J30: 16 | K30: 보건직 | L30: 10400077 | M30: 송은규 | N30: 10000 | O30: 신규
A31: 25 | B31: 간호직 | C31: 10300029 | D31: 강선정 | E31: 2000 | F31: 〃
A32: 26 | B32: 간호직 | C32: 10300031 | D32: 이미란 | E32: 10000 | F32: 〃 | J32: □ 해지자
A33: 27 | B33: 간호직 | C33: 10300034 | D33: 박순이 | E33: 20000 | F33: 〃 | J33: 연번 | K33: 직종 | L33: 직번 | M33: 성명 | N33: 금액(원) | O33: 사유 | P33: 비고
A34: 28 | B34: 간호직 | C34: 10300037 | D34: 김남신 | E34: 1000 | F34: 〃 | J34: 합계 | N34: =SUM(N35:N36) -> 5000
A35: 29 | B35: 간호직 | C35: 10300045 | D35: 문의순 | E35: 20000 | F35: 〃 | J35: 1 | K35: 간호직 | L35: 10300501 | M35: 한우림 | N35: 5000 | O35: 퇴사
A36: 30 | B36: 간호직 | C36: 10300047 | D36: 김미정 | E36: 5000 | F36: 〃 | J36: 2
A37: 31 | B37: 간호직 | C37: 10300049 | D37: 박은경 | E37: 20000 | F37: 〃
A38: 32 | B38: 간호직 | C38: 10300058 | D38: 조영숙 | E38: 5000 | F38: 〃 | J38: □ 후원금액변동 공제자
A39: 33 | B39: 간호직 | C39: 10300064 | D39: 송은숙 | E39: 5000 | F39: 〃 | J39: 연번 | K39: 직종 | L39: 직번 | M39: 성명 | N39: 기존 | O39: 변경 | P39: 비고(증감)
A40: 34 | B40: 간호직 | C40: 10300071 | D40: 윤헌경 | E40: 20000 | F40: 〃 | J40: 합계 | N40: =SUM(N41:N42) -> 30000 | O40: =SUM(O41:O42) -> 10000 | P40: =SUM(P41:P42) -> -20000
A41: 35 | B41: 간호직 | C41: 10300073 | D41: 김난희 | E41: 5000 | F41: 〃 | J41: 1 | K41: 간호직 | L41: 10300230 | M41: 박정원 | N41: 20000 | O41: 5000 | P41: =O41-N41 -> -15000
A42: 36 | B42: 간호직 | C42: 10300074 | D42: 김효순 | E42: 5000 | F42: 〃 | J42: 2 | K42: 간호직 | L42: 10300126 | M42: 최은영 | N42: 10000 | O42: 5000 | P42: =O42-N42 -> -5000
A43: 37 | B43: 간호직 | C43: 10300077 | D43: 정분남 | E43: 1000 | F43: 〃
A44: 38 | B44: 간호직 | C44: 10300079 | D44: 김혜숙 | E44: 10000 | F44: 〃
A45: 39 | B45: 간호직 | C45: 10300080 | D45: 유선자 | E45: 30000 | F45: 〃 | M45: 2024.03.15.
A46: 40 | B46: 간호직 | C46: 10300092 | D46: 성기선 | E46: 1000 | F46: 〃 | L46: 작 성 자 : | M46: 보건의료복지통합지원실 윤정일
A47: 41 | B47: 간호직 | C47: 10300101 | D47: 박은주 | E47: 1000 | F47: 〃
A48: 42 | B48: 간호직 | C48: 10300105 | D48: 김회옥 | E48: 1000 | F48: 〃
A49: 43 | B49: 간호직 | C49: 10300107 | D49: 김미경 | E49: 1000 | F49: 〃
A50: 44 | B50: 간호직 | C50: 10300108 | D50: 이경희 | E50: 1000 | F50: 〃
A51: 45 | B51: 간호직 | C51: 10300119 | D51: 박윤정 | E51: 1000 | F51: 〃
A52: 46 | B52: 간호직 | C52: 10300122 | D52: 송윤숙 | E52: 2000 | F52: 〃
A53: 47 | B53: 간호직 | C53: 10300126 | D53: 최은영 | E53: 5000 | F53: 〃 | G53: 변경 | H53: 2024.03.13. 요구
A54: 48 | B54: 간호직 | C54: 10300127 | D54: 강미선 | E54: 5000 | F54: 〃
A55: 49 | B55: 간호직 | C55: 10300130 | D55: 박은정 | E55: 20000 | F55: 〃
A56: 50 | B56: 간호직 | C56: 10300133 | D56: 임지영 | E56: 10000 | F56: 〃
A57: 51 | B57: 간호직 | C57: 10300137 | D57: 박미선 | E57: 10000 | F57: 〃
A58: 52 | B58: 간호직 | C58: 10300139 | D58: 안신애 | E58: 1000 | F58: 〃
A59: 53 | B59: 간호직 | C59: 10300161 | D59: 오미진 | E59: 10000 | F59: 〃
A60: 54 | B60: 간호직 | C60: 10300181 | D60: 정명화 | E60: 1000 | F60: 〃
A61: 55 | B61: 간호직 | C61: 10300190 | D61: 이빛나라 | E61: 1000 | F61: 〃
A62: 56 | B62: 간호직 | C62: 10300191 | D62: 서호정 | E62: 5000 | F62: 〃
A63: 57 | B63: 간호직 | C63: 10300194 | D63: 안지연 | E63: 5000 | F63: 〃
A64: 58 | B64: 간호직 | C64: 10300195 | D64: 유미영 | E64: 1000 | F64: 〃
A65: 59 | B65: 간호직 | C65: 10300210 | D65: 최주영 | E65: 1000 | F65: 〃
... A67: 61 | B67: 간호직 | C67: 10300229 | D67: 양승은 | E67: 10000 | F67: 〃
A68: 62 | B68: 간호직 | C68: 10300230 | D68: 박정원 | E68: 5000 | F68: 〃 | G68: 변경 | H68: 2024.02.21. 17:22 유선요구
A69: 63 | B69: 간호직 | C69: 10300238 | D69: 노정훈 | E69: 1000 | F69: 〃
A70: 64 | B70: 간호직 | C70: 10300239 | D70: 서선경 | E70: 1000 | F70: 〃
A71: 65 | B71: 간호직 | C71: 10300245 | D71: 이은화 | E71: 1000 | F71: 〃
A72: 66 | B72: 간호직 | C72: 10300250 | D72: 강성근 | E72: 1000 | F72: 〃
A73: 67 | B73: 간호직 | C73: 10300272 | D73: 남보라 | E73: 1000 | F73: 〃
A74: 68 | B74: 간호직 | C74: 10300288 | D74: 손연금 | E74: 1000 | F74: 〃
A75: 69 | B75: 간호직 | C75: 10300297 | D75: 강성윤 | E75: 10000 | F75: 〃
A76: 70 | B76: 간호직 | C76: 10300323 | D76: 안아름 | E76: 5000 | F76: 〃
A77: 71 | B77: 간호직 | C77: 10300330 | D77: 박은화 | E77: 10000 | F77: 〃
A78: 72 | B78: 간호직 | C78: 10300331 | D78: 장미화 | E78: 20000 | F78: 〃
A79: 73 | B79: 간호직 | C79: 10300351 | D79: 이효진 | E79: 1000 | F79: 〃
A80: 74 | B80: 간호직 | C80: 10300363 | D80: 여미선 | E80: 5000 | F80: 〃
... A111: 105 | B111: 간호직 | C111: 10300497 | D111: 안선형 | E111: 1000 | F111: 〃
A112: 106 | B112: 간호직 | C112: 10300502 | D112: 최지원 | E112: 1000 | F112: 〃 | G112: 신규
A113: 107 | B113: 간호직 | C113: 10300503 | D113: 정경란 | E113: 5000 | F113: 〃 | G113: 신규
A114: 108 | B114: 간호직 | C114: 10300504 | D114: 조세나 | E114: 5000 | F114: 〃 | G114: 신규
A115: 109 | B115: 간호직 | C115: 10300505 | D115: 박강희 | E115: 1000 | F115: 〃 | G115: 신규
A116: 110 | B116: 간호직 | C116: 10300506 | D116: 장세휘 | E116: 1000 | F116: 〃 | G116: 신규
A117: 111 | B117: 간호직 | C117: 10300507 | D117: 손수진 | E117: 10000 | F117: 〃 | G117: 신규
A118: 112 | B118: 간호직 | C118: 10300508 | D118: 윤다휘 | E118: 1000 | F118: 〃 | G118: 신규
A119: 113 | B119: 간호직 | C119: 10300509 | D119: 김해원 | E119: 5000 | F119: 〃 | G119: 신규
A120: 114 | B120: 간호직 | C120: 10300510 | D120: 정가은 | E120: 5000 | F120: 〃 | G120: 신규
A121: 115 | B121: 간호직 | C121: 10300511 | D121: 김성수 | E121: 5000 | F121: 〃 | G121: 신규
A122: 116 | B122: 간호직 | C122: 10300512 | D122: 허혜진 | E122: 1000 | F122: 〃 | G122: 신규
A123: 117 | B123: 간호직 | C123: 10300513 | D123: 김윤성 | E123: 5000 | F123: 〃 | G123: 신규
A124: 118 | B124: 간호직 | C124: 10300514 | D124: 조지연 | E124: 5000 | F124: 〃 | G124: 신규
A125: 119 | B125: 보건직 | C125: 10400007 | D125: 최인영 | E125: 5000 | F125: 〃
A126: 120 | B126: 보건직 | C126: 10400008 | D126: 배종섭 | E126: 2000 | F126: 〃
A127: 121 | B127: 보건직 | C127: 10400009 | D127: 이윤정 | E127: 5000 | F127: 〃
A128: 122 | B128: 보건직 | C128: 10400014 | D128: 원종균 | E128: 1000 | F128: 〃
A129: 123 | B129: 보건직 | C129: 10400017 | D129: 김동주 | E129: 1000 | F129: 〃
A130: 124 | B130: 보건직 | C130: 10400018 | D130: 김양배 | E130: 1000 | F130: 〃
A131: 125 | B131: 보건직 | C131: 10400020 | D131: 김정희 | E131: 1000 | F131: 〃
A132: 126 | B132: 보건직 | C132: 10400021 | D132: 임향용 | E132: 2000 | F132: 〃
A133: 127 | B133: 보건직 | C133: 10400026 | D133: 임선미 | E133: 2000 | F133: 〃
A134: 128 | B134: 보건직 | C134: 10400027 | D134: 오세은 | E134: 2000 | F134: 〃
...

Sheet 2월
A1: 2024년 2월 사회복지후원금 공제 내역
J2: 구 분 | M2: 금액(원) | N2: 인원(명)
F3: 기준일 : 2024.02.16. | J3: A. 전월 공제 | M3: ='1월'!M8 -> 1474000 | N3: ='1월'!N8 -> 200
J4: B. 당월 변동액 / 인원 | M4: =M5-M6+M7 -> -1000 | N4: =N5-N6 -> -1
A5: 연번 | B5: 직종 | C5: 직번 | D5: 성명 | E5: 금액(원) | F5: 후원구분 | G5: 비고 | J5: 1. 신규 (+) | M5: =N14 -> 0 | N5: 0
A6: 합계 | D6: =A205&" "&"명" -> 199 명 | E6: =SUM(E7:E205) -> 1473000 | J6: 2. 해지 (-) | M6: =N23 -> 1000 | N6: 1
A7: 1 | B7: 원 장 | C7: 10000001 | D7: 오진규 | E7: 50000 | F7: 정기후원 | J7: 4. 후원금액 변동(+)
A8: 2 | B8: 의사직 | C8: 10100002 | D8: 김정회 | E8: 10000 | F8: 〃 | J8: C. 당월 공제 (A+B) | M8: =M3+M4 -> 1473000 | N8: =N3+N4 -> 199
A9: 3 | B9: 의사직 | C9: 10100017 | D9: 정문환 | E9: 10000 | F9: 〃
A10: 4 | B10: 의사직 | C10: 10100034 | D10: 오소영 | E10: 100000 | F10: 〃 | J10: < 변경사항 상세 >
A11: 5 | B11: 의사직 | C11: 10100049 | D11: 배강민 | E11: 10000 | F11: 〃
A12: 6 | B12: 의사직 | C12: 10100056 | D12: 장재호 | E12: 10000 | F12: 〃 | J12: □ 신규자
A13: 7 | B13: 의사직 | C13: 10100063 | D13: 김석기 | E13: 10000 | F13: 〃 | J13: 연번 | K13: 직종 | L13: 직번 | M13: 성명 | N13: 금액(원) | O13: 사유 | P13: 비고
A14: 8 | B14: 의사직 | C14: 10100084 | D14: 김기남 | E14: 30000 | F14: 〃 | J14: 합계 | N14: =SUM(N15:N19) -> 0
A15: 9 | B15: 의사직 | C15: 10100085 | D15: 정수현 | E15: 10000 | F15: 〃 | J15: 1
A16: 10 | B16: 의사직 | C16: 10100117 | D16: 신호윤 | E16: 10000 | F16: 〃 | J16: 2
A17: 11 | B17: 의사직 | C17: 10100170 | D17: 정재용 | E17: 50000 | F17: 〃 | J17: 3
A18: 12 | B18: 약사직 | C18: 10200002 | D18: 이경옥 | E18: 50000 | F18: 〃 | J18: 4
A19: 13 | B19: 간호직 | C19: 10300012 | D19: 박연임 | E19: 10000 | F19: 〃 | J19: 5
A20: 14 | B20: 간호직 | C20: 10300013 | D20: 원은정 | E20: 5000 | F20: 〃
A21: 15 | B21: 간호직 | C21: 10300014 | D21: 이영성 | E21: 10000 | F21: 〃 | J21: □ 해지자
A22: 16 | B22: 간호직 | C22: 10300015 | D22: 최금숙 | E22: 10000 | F22: 〃 | J22: 연번 | K22: 직종 | L22: 직번 | M22: 성명 | N22: 금액(원) | O22: 사유 | P22: 비고
A23: 17 | B23: 간호직 | C23: 10300016 | D23: 박복선 | E23: 2000 | F23: 〃 | J23: 합계 | M23: 1명 | N23: =SUM(N24:N25) -> 1000
A24: 18 | B24: 간호직 | C24: 10300018 | D24: 정미숙 | E24: 2000 | F24: 〃 | J24: 1 | K24: 간호직 | L24: 10300496 | M24: 김현주 | N24: 1000 | O24: 해지
A25: 19 | B25: 간호직 | C25: 10300019 | D25: 서현순 | E25: 5000 | F25: 〃 | J25: 2
A26: 20 | B26: 간호직 | C26: 10300022 | D26: 장민순 | E26: 10000 | F26: 〃
A27: 21 | B27: 간호직 | C27: 10300023 | D27: 최정아 | E27: 5000 | F27: 〃 | J27: □ 후원금액변동 공제자
A28: 22 | B28: 간호직 | C28: 10300024 | D28: 소영임 | E28: 20000 | F28: 〃 | J28: 연번 | K28: 직종 | L28: 직번 | M28: 성명 | N28: 기존 | O28: 변경 | P28: 비고(증감)
A29: 23 | B29: 간호직 | C29: 10300025 | D29: 이영현 | E29: 30000 | F29: 〃 | J29: 합계 | N29: =SUM(N30:N30) -> 0 | O29: =SUM(O30:O30) -> 0 | P29: =SUM(P30:P30) -> 0
A30: 24 | B30: 간호직 | C30: 10300027 | D30: 이지선 | E30: 20000 | F30: 〃 | J30: 1
A31: 25 | B31: 간호직 | C31: 10300029 | D31: 강선정 | E31: 2000 | F31: 〃
A32: 26 | B32: 간호직 | C32: 10300031 | D32: 이미란 | E32: 10000 | F32: 〃
A33: 27 | B33: 간호직 | C33: 10300034 | D33: 박순이 | E33: 20000 | F33: 〃 | M33: 2024.02.16.
A34: 28 | B34: 간호직 | C34: 10300037 | D34: 김남신 | E34: 1000 | F34: 〃 | L34: 작 성 자 : | M34: 보건의료복지통합지원실 윤정일
A35: 29 | B35: 간호직 | C35: 10300045 | D35: 문의순 | E35: 20000 | F35: 〃
A36: 30 | B36: 간호직 | C36: 10300047 | D36: 김미정 | E36: 5000 | F36: 〃
A37: 31 | B37: 간호직 | C37: 10300049 | D37: 박은경 | E37: 20000 | F37: 〃
A38: 32 | B38: 간호직 | C38: 10300058 | D38: 조영숙 | E38: 5000 | F38: 〃
A39: 33 | B39: 간호직 | C39: 10300064 | D39: 송은숙 | E39: 5000 | F39: 〃
A40: 34 | B40: 간호직 | C40: 10300071 | D40: 윤헌경 | E40: 20000 | F40: 〃
A41: 35 | B41: 간호직 | C41: 10300073 | D41: 김난희 | E41: 5000 | F41: 〃
A42: 36 | B42: 간호직 | C42: 10300074 | D42: 김효순 | E42: 5000 | F42: 〃
A43: 37 | B43: 간호직 | C43: 10300077 | D43: 정분남 | E43: 1000 | F43: 〃
A44: 38 | B44: 간호직 | C44: 10300079 | D44: 김혜숙 | E44: 10000 | F44: 〃
A45: 39 | B45: 간호직 | C45: 10300080 | D45: 유선자 | E45: 30000 | F45: 〃
A46: 40 | B46: 간호직 | C46: 10300092 | D46: 성기선 | E46: 1000 | F46: 〃
... A139: 133 | B139: 보건직 | C139: 10400065 | D139: 이정기 | E139: 5000 | F139: 〃
A140: 134 | B140: 보건직 | C140: 10400066 | D140: 윤상호 | E140: 20000
A141: 135 | B141: 보건직 | C141: 10400067 | D141: 이현구 | E141: 1000 | F141: 〃
A142: 136 | B142: 보건직 | C142: 10400068 | D142: 박미란 | E142: 1000 | F142: 〃
A143: 137 | B143: 보건직 | C143: 10400071 | D143: 박수경 | E143: 10000
A144: 138 | B144: 보건직 | C144: 10400073 | D144: 이태현 | E144: 10000
A145: 139 | B145: 사무직 | C145: 10500015 | D145: 서희순 | E145: 5000 | F145: 〃
A146: 140 | B146: 사무직 | C146: 10500018 | D146: 임미숙 | E146: 10000 | F146: 〃
A147: 141 | B147: 사무직 | C147: 10500020 | D147: 이정민 | E147: 10000 | F147: 〃
A148: 142 | B148: 사무직 | C148: 10500023 | D148: 차은경 | E148: 5000 | F148: 〃
A149: 143 | B149: 사무직 | C149: 10500024 | D149: 박은미 | E149: 10000 | F149: 〃
A150: 144 | B150: 사무직 | C150: 10500026 | D150: 이지승 | E150: 1000 | F150: 〃
A151: 145 | B151: 사무직 | C151: 10500027 | D151: 김대인 | E151: 10000 | F151: 〃
A152: 146 | B152: 사무직 | C152: 10500032 | D152: 양기종 | E152: 5000 | F152: 〃
A153: 147 | B153: 사무직 | C153: 10500033 | D153: 서영란 | E153: 10000 | F153: 〃
A154: 148 | B154: 사무직 | C154: 10500040 | D154: 이한국 | E154: 10000 | F154: 〃
A155: 149 | B155: 사무직 | C155: 10500043 | D155: 전준상 | E155: 3000 | F155: 〃
A156: 150 | B156: 사무직 | C156: 10500046 | D156: 고진우 | E156: 5000 | F156: 〃
... A205: 199 | B205: 시설관리직 | C205: 11100387 | D205: 오연주 | E205: 5000 | F205: 〃

Sheet 1월
A1: 2024년 1월 사회복지후원금 공제 내역
J2: 구 분 | M2: 금액(원) | N2: 인원(명)
F3: 기준일 : 2024.01.15. | J3: A. 전월 공제 | M3: 1454000 | N3: 197
J4: B. 당월 변동액 / 인원 | M4: =M5-M6+M7 -> 20000 | N4: =N5-N6 -> 3
A5: 연번 | B5: 직종 | C5: 직번 | D5: 성명 | E5: 금액(원) | F5: 후원구분 | G5: 비고 | J5: 1. 신규 (+) | M5: =N14 -> 26000 | N5: 5
A6: 합계 | D6: =A206&" "&"명" -> 199 명 | E6: =SUM(E7:E206) -> 1424000 | J6: 2. 해지 (-) | M6: =N23 -> 6000 | N6: 2
B7: 원 장 | C7: 10000001 | D7: 오진규 | F7: 정기후원 | J7: 4. 후원금액 변동(+)
A8: 1 | B8: 의사직 | C8: 10100002 | D8: 김정회 | E8: 10000 | F8: 〃 | J8: C. 당월 공제 (A+B) | M8: =M3+M4 -> 1474000 | N8: =N3+N4 -> 200
A9: 2 | B9: 의사직 | C9: 10100017 | D9: 정문환 | E9: 10000 | F9: 〃
A10: 3 | B10: 의사직 | C10: 10100034 | D10: 오소영 | E10: 100000 | F10: 〃 | J10: < 변경사항 상세 >
A11: 4 | B11: 의사직 | C11: 10100049 | D11: 배강민 | E11: 10000 | F11: 〃
A12: 5 | B12: 의사직 | C12: 10100056 | D12: 장재호 | E12: 10000 | F12: 〃 | J12: □ 신규자
A13: 6 | B13: 의사직 | C13: 10100063 | D13: 김석기 | E13: 10000 | F13: 〃 | J13: 연번 | K13: 직종 | L13: 직번 | M13: 성명 | N13: 금액(원) | O13: 사유 | P13: 비고
A14: 7 | B14: 의사직 | C14: 10100084 | D14: 김기남 | E14: 30000 | F14: 〃 | J14: 합계 | M14: 5명 | N14: =SUM(N15:N19) -> 26000
A15: 8 | B15: 의사직 | C15: 10100085 | D15: 정수현 | E15: 10000 | F15: 〃 | J15: 1 | K15: 간호직 | L15: 10300486 | M15: 이수빈 | N15: 1000 | O15: 신규
A16: 9 | B16: 의사직 | C16: 10100117 | D16: 신호윤 | E16: 10000 | F16: 〃 | J16: 2 | K16: 간호직 | L16: 10300498 | M16: 김예은 | N16: 5000 | O16: 신규
A17: 10 | B17: 의사직 | C17: 10100170 | D17: 정재용 | E17: 50000 | F17: 〃 | J17: 3 | K17: 간호직 | L17: 10300499 | M17: 김아람 | N17: 5000 | O17: 신규
A18: 11 | B18: 약사직 | C18: 10200002 | D18: 이경옥 | E18: 50000 | F18: 〃 | J18: 4 | K18: 간호직 | L18: 10300500 | M18: 정소이 | N18: 10000 | O18: 신규
A19: 12 | B19: 간호직 | C19: 10300012 | D19: 박연임 | E19: 10000 | F19: 〃 | J19: 5 | K19: 간호직 | L19: 10300501 | M19: 한우림 | N19: 5000 | O19: 신규
A20: 13 | B20: 간호직 | C20: 10300013 | D20: 원은정 | E20: 5000 | F20: 〃
A21: 14 | B21: 간호직 | C21: 10300014 | D21: 이영성 | E21: 10000 | F21: 〃 | J21: □ 해지자
A22: 15 | B22: 간호직 | C22: 10300015 | D22: 최금숙 | E22: 10000 | F22: 〃 | J22: 연번 | K22: 직종 | L22: 직번 | M22: 성명 | N22: 금액(원) | O22: 사유 | P22: 비고
A23: 16 | B23: 간호직 | C23: 10300016 | D23: 박복선 | E23: 2000 | F23: 〃 | J23: 합계 | M23: 2명 | N23: =SUM(N24:N25) -> 6000
A24: 17 | B24: 간호직 | C24: 10300018 | D24: 정미숙 | E24: 2000 | F24: 〃 | J24: 1 | K24: 간호조무직 | L24: 10700105 | M24: 임경숙 | N24: 1000 | O24: 퇴사
A25: 18 | B25: 간호직 | C25: 10300019 | D25: 서현순 | E25: 5000 | F25: 〃 | J25: 2 | K25: 시설관리직 | L25: 11100363 | M25: 강보경 | N25: 5000 | O25: 퇴사
A26: 19 | B26: 간호직 | C26: 10300022 | D26: 장민순 | E26: 10000 | F26: 〃
A27: 20 | B27: 간호직 | C27: 10300023 | D27: 최정아 | E27: 5000 | F27: 〃 | J27: □ 후원금액변동 공제자
A28: 21 | B28: 간호직 | C28: 10300024 | D28: 소영임 | E28: 20000 | F28: 〃 | J28: 연번 | K28: 직종 | L28: 직번 | M28: 성명 | N28: 기존 | O28: 변경 | P28: 비고(증감)
A29: 22 | B29: 간호직 | C29: 10300025 | D29: 이영현 | E29: 30000 | F29: 〃 | J29: 합계 | N29: =SUM(N30:N30) -> 0 | O29: =SUM(O30:O30) -> 0 | P29: =SUM(P30:P30) -> 0
A30: 23 | B30: 간호직 | C30: 10300027 | D30: 이지선 | E30: 20000 | F30: 〃 | J30: 1
A31: 24 | B31: 간호직 | C31: 10300029 | D31: 강선정 | E31: 2000 | F31: 〃
A32: 25 | B32: 간호직 | C32: 10300031 | D32: 이미란 | E32: 10000 | F32: 〃
A33: 26 | B33: 간호직 | C33: 10300034 | D33: 박순이 | E33: 20000 | F33: 〃 | M33: 2024.01.05.
A34: 27 | B34: 간호직 | C34: 10300037 | D34: 김남신 | E34: 1000 | F34: 〃 | L34: 작 성 자 : | M34: 보건의료복지통합지원실 윤정일
A35: 28 | B35: 간호직 | C35: 10300045 | D35: 문의순 | E35: 20000 | F35: 〃
A36: 29 | B36: 간호직 | C36: 10300047 | D36: 김미정 | E36: 5000 | F36: 〃
A37: 30 | B37: 간호직 | C37: 10300049 | D37: 박은경 | E37: 20000 | F37: 〃
A38: 31 | B38: 간호직 | C38: 10300058 | D38: 조영숙 | E38: 5000 | F38: 〃
A39: 32 | B39: 간호직 | C39: 10300064 | D39: 송은숙 | E39: 5000 | F39: 〃
A40: 33 | B40: 간호직 | C40: 10300071 | D40: 윤헌경 | E40: 20000 | F40: 〃
A41: 34 | B41: 간호직 | C41: 10300073 | D41: 김난희 | E41: 5000 | F41: 〃 | M41: 259690490 | N41: 18217000 | O41: =M41+N41 -> 277907490 | P41: =O41-O42 -> 18223831
A42: 35 | B42: 간호직 | C42: 10300074 | D42: 김효순 | E42: 5000 | F42: 〃 | M42: 239515809 | N42: 20167850 | O42: =M42+N42 -> 259683659
A43: 36 | B43: 간호직 | C43: 10300077 | D43: 정분남 | E43: 1000 | F43: 〃
A44: 37 | B44: 간호직 | C44: 10300079 | D44: 김혜숙 | E44: 10000 | F44: 〃
A45: 38 | B45: 간호직 | C45: 10300080 | D45: 유선자 | E45: 30000 | F45: 〃
A46: 39 | B46: 간호직 | C46: 10300092 | D46: 성기선 | E46: 1000 | F46: 〃
A47: 40 | B47: 간호직 | C47: 10300101 | D47: 박은주 | E47: 1000 | F47: 〃
A48: 41 | B48: 간호직 | C48: 10300105 | D48: 김회옥 | E48: 1000 | F48: 〃
A49: 42 | B49: 간호직 | C49: 10300107 | D49: 김미경 | E49: 1000 | F49: 〃
A50: 43 | B50: 간호직 | C50: 10300108 | D50: 이경희 | E50: 1000 | F50: 〃
A51: 44 | B51: 간호직 | C51: 10300119 | D51: 박윤정 | E51: 1000 | F51: 〃
A52: 45 | B52: 간호직 | C52: 10300122 | D52: 송윤숙 | E52: 2000 | F52: 〃
A53: 46 | B53: 간호직 | C53: 10300126 | D53: 최은영 | E53: 10000 | F53: 〃
A54: 47 | B54: 간호직 | C54: 10300127 | D54: 강미선 | E54: 5000 | F54: 〃
... A102: 95 | B102: 간호직 | C102: 10300485 | D102: 강준환 | E102: 3000 | F102: 〃
A103: 96 | B103: 간호직 | C103: 10300486 | D103: 이수빈 | E103: 1000 | F103: 〃 | G103: 신규
A104: 97 | B104: 간호직 | C104: 10300489 | D104: 곽수영 | E104: 3000 | F104: 〃
A105: 98 | B105: 간호직 | C105: 10300492 | D105: 서대진 | E105: 3000 | F105: 〃
A106: 99 | B106: 간호직 | C106: 10300493 | D106: 전희수 | E106: 1000 | F106: 〃
A107: 100 | B107: 간호직 | C107: 10300495 | D107: 임가은 | E107: 1000 | F107: 〃
A108: 101 | B108: 간호직 | C108: 10300496 | D108: 김현주 | E108: 1000 | F108: 〃
A109: 102 | B109: 간호직 | C109: 10300498 | D109: 김예은 | E109: 5000 | F109: 〃 | G109: 신규
A110: 103 | B110: 간호직 | C110: 10300499 | D110: 김아람 | E110: 5000 | F110: 〃 | G110: 신규
A111: 104 | B111: 간호직 | C111: 10300500 | D111: 정소이 | E111: 10000 | F111: 〃 | G111: 신규
A112: 105 | B112: 간호직 | C112: 10300501 | D112: 한우림 | E112: 5000 | F112: 〃 | G112: 신규
A113: 106 | B113: 간호직 | C113: 10300497 | D113: 안선형 | E113: 1000 | F113: 〃
A114: 107 | B114: 보건직 | C114: 10400007 | D114: 최인영 | E114: 5000 | F114: 〃
A115: 108 | B115: 보건직 | C115: 10400008 | D115: 배종섭 | E115: 2000 | F115: 〃
A116: 109 | B116: 보건직 | C116: 10400009 | D116: 이윤정 | E116: 5000 | F116: 〃
A117: 110 | B117: 보건직 | C117: 10400014 | D117: 원종균 | E117: 1000 | F117: 〃
A118: 111 | B118: 보건직 | C118: 10400017 | D118: 김동주 | E118: 1000 | F118: 〃
A119: 112 | B119: 보건직 | C119: 10400018 | D119: 김양배 | E119: 1000 | F119: 〃
A120: 113 | B120: 보건직 | C120: 10400020 | D120: 김정희 | E120: 1000 | F120: 〃
A121: 114 | B121: 보건직 | C121: 10400021 | D121: 임향용 | E121: 2000 | F121: 〃
A122: 115 | B122: 보건직 | C122: 10400026 | D122: 임선미 | E122: 2000 | F122: 〃
A123: 116 | B123: 보건직 | C123: 10400027 | D123: 오세은 | E123: 2000 | F123: 〃
A124: 117 | B124: 보건직 | C124: 10400029 | D124: 동헌 | E124: 10000 | F124: 〃
... A140: 133 | B140: 보건직 | C140: 10400065 | D140: 이정기 | E140: 5000 | F140: 〃
A141: 134 | B141: 보건직 | C141: 10400066 | D141: 윤상호 | E141: 20000
A142: 135 | B142: 보건직 | C142: 10400067 | D142: 이현구 | E142: 1000 | F142: 〃
A143: 136 | B143: 보건직 | C143: 10400068 | D143: 박미란 | E143: 1000 | F143: 〃
A144: 137 | B144: 보건직 | C144: 10400071 | D144: 박수경 | E144: 10000
A145: 138 | B145: 보건직 | C145: 10400073 | D145: 이태현 | E145: 10000
A146: 139 | B146: 사무직 | C146: 10500015 | D146: 서희순 | E146: 5000 | F146: 〃
A147: 140 | B147: 사무직 | C147: 10500018 | D147: 임미숙 | E147: 10000 | F147: 〃
A148: 141 | B148: 사무직 | C148: 10500020 | D148: 이정민 | E148: 10000 | F148: 〃
A149: 142 | B149: 사무직 | C149: 10500023 | D149: 차은경 | E149: 5000 | F149: 〃
A150: 143 | B150: 사무직 | C150: 10500024 | D150: 박은미 | E150: 10000 | F150: 〃
A151: 144 | B151: 사무직 | C151: 10500026 | D151: 이지승 | E151: 1000 | F151: 〃
A152: 145 | B152: 사무직 | C152: 10500027 | D152: 김대인 | E152: 10000 | F152: 〃
A153: 146 | B153: 사무직 | C153: 10500032 | D153: 양기종 | E153: 5000 | F153: 〃
A154: 147 | B154: 사무직 | C154: 10500033 | D154: 서영란 | E154: 10000 | F154: 〃
A155: 148 | B155: 사무직 | C155: 10500040 | D155: 이한국 | E155: 10000 | F155: 〃
A156: 149 | B156: 사무직 | C156: 10500043 | D156: 전준상 | E156: 3000 | F156: 〃
A157: 150 | B157: 사무직 | C157: 10500046 | D157: 고진우 | E157: 5000 | F157: 〃
... A206: 199 | B206: 시설관리직 | C206: 11100387 | D206: 오연주 | E206: 5000 | F206: 〃
